{"text_format":"1","workbook":"xlsx","n_sheets":4,"sheets":["SUMMARY","CENA","KORISNICI","vendors list"],"not_rendered":{"charts":0,"images":0,"macros":1,"external_links":0,"defined_names":7,"comments":0,"pivot_tables":0},"unopened":[],"bounds":{"document_bytes":16777216,"sheet_cells":100000,"rows_first":2000,"rows_last":500,"rows_between":2000,"halvings":0,"cell_chars":16384,"cell_head_chars":4096},"cells_cut":0,"cells_raw":0,"read":"whole","date_system":"1900"}

{"sheet":"SUMMARY","index":0,"n_rows":18,"n_cols":3,"rows_kept":18,"cut":false,"hidden":false,"merged":[[21,2,21,5],[11,2,11,5],[10,2,10,5],[16,2,16,5],[18,2,18,5],[19,2,19,5],[12,2,12,5],[13,2,13,5],[15,2,15,5],[17,2,17,5]]}
[]
[]
[null,null,"SUMMARY / REKAPITULACIJA"]
[]
[]
[null,null,"SUM PRICE WITHOUT VAT/ \n UKUPNA CENA BEZ PDV-A\n"]
[null,"UKUPNO/\nTOTAL",{"$f":"CENA!I282","v":0}]
[]
[]
[]
[null,"Napomena I:","štampati samo sheetove (SUMMARY, CENA)"]
[null,"Napomena II:","Na zahtev Naručioca, najkasnije 5 dana nakon zaključenja ugovora, Dobavljač je dužan da dostavi kompletno popunjenu Vendors listu u skladu sa zahtevima datim u delu C tenderskog dosijea, dokument: PROJEKTNI ZADATAK ZA ISPORUKU DOBARA."]
[null,null,"unositi cene samo u zeleno obeležen sheet u zelena polja (CENA) samo za pozicije za koje je zbir količina po materijalima različit od 0 (odnosno samo za pozicije za koje postoji količina)\nod G5 - G281 (jedinične cene)"]
[null,null,"popuniti zelena polja u VendorsList"]
[]
[null,"Remark I:","print only green sheet (SUMMARY, CENA)"]
[null,"Remark II:","At the request of the Contracting Authority, at the latest 5 days after the conclusion of the contract, the Supplier is obliged to submit the fully completed Vendors list in accordance with the requirements given in part C of the tender dossier, document: TERMS OF REFERNCES FOR THE DELIVERY OF SUPPLIES"]
[null,null,"The prices entered only in the green marked sheet in green cells (CENA) only for items for which the sum of the quantity of materials is different than 0 (only for items that have quantity)\nG5 - G281 (unit price)"]

{"sheet":"CENA","index":1,"n_rows":282,"n_cols":9,"rows_kept":282,"cut":false,"hidden":false,"merged":[]}
[]
["KOD/\nCODE",null,null,"Opis građevinskog materijala ","Description of building materials","Jed.\nprod./\nUNIT","Jedinična\nprod.cena/\nUNIT PRICE ","Zbir Količina po materijalima/\nSUM QTY","ZBIR UKUPNO PO MATERIJALIMA/\nSUM PRICE"]
[]
[1,"A",null,"OSNOVNI GRAĐEVINSKI MATERIJAL","BASIC BUILDING MATERIALS"]
["1.1","O",1,"Cement  za betone do MB 30","Cement for concrete up to 30 MB","kg",null,{"$f":"KORISNICI!H14","v":5700},{"$f":"G5*H5","v":0}]
["1.2","O",2,"Hidratisani gašeni kreč pripremljen u prahu","Hydrated slaked lime powdered","kg",null,{"$f":"KORISNICI!H15","v":500},{"$f":"G6*H6","v":0}]
["1.3","O",3,"Rebrasto betonsko gvožđe (RA) ","Ribbed reinforcement steel","/","/","/","/"]
["1.3.1",null,"A","10 mm   - dužine 12m","10 mm   - length 12m ","kg",null,{"$f":"KORISNICI!H17","v":0},{"$f":"G8*H8","v":0}]
["1.3.2",null,"B","12 mm   - dužine 12m","12 mm   - length 12m","kg",null,{"$f":"KORISNICI!H18","v":0},0]
["1.3.3",null,"C","14 mm   - dužine 12m","14 mm   - length 12m","kg",null,{"$f":"KORISNICI!H19","v":0},0]
["1.3.4",null,"D","16 mm   - dužine 12m","16 mm   - length 12m","kg",null,{"$f":"KORISNICI!H20","v":0},0]
["1.4","O",4,"Glatko betonsko gvožđe (GA) ","Glibly reinforcement steel","/","/","/","/"]
["1.4.1",null,"B","  8 mm   - dužine 12m","  8 mm   - length 12m","kg",null,{"$f":"KORISNICI!H22","v":0},{"$f":"G13*H13","v":0}]
["1.4.2",null,"C","10 mm  - dužine 12m","10 mm  - length 12m","kg",null,{"$f":"KORISNICI!H23","v":0},0]
["1.5","O",5,"Armaturna betonska mreža \ndim. (dxš) 6000 x 2150 = 12,9 m2/kom","Reinforcement mesh\ndim. (lxw) 6000 x 2150 = 12,9 m2/pcs","/","/","/","/"]
["1.5.1",null,"A","Q84    /4x4/150x150/ ","Q84    /4x4/150x150/ ","kg",null,{"$f":"KORISNICI!H25","v":70.400000000000006},{"$f":"G16*H16","v":0}]
["1.5.2",null,"B","Q131  /5x5/150x150/ ","Q131  /5x5/150x150/ ","kg",null,{"$f":"KORISNICI!H26","v":0},0]
["1.5.3",null,"C","Q188  /6x6/150x150/ ","Q188  /6x6/150x150/ ","kg",null,{"$f":"KORISNICI!H27","v":0},0]
["1.5.4",null,"D","Q283  /6x6/100x100/","Q283  /6x6/100x100/","kg",null,{"$f":"KORISNICI!H28","v":0},0]
["1.5.5",null,"E","Q335  /8x8/150x150/","Q335  /8x8/150x150/","kg",null,{"$f":"KORISNICI!H29","v":0},0]
[]
[2,"Z",null,"MATERIJAL ZA ZIDANJE, MALTERISANJE, GLETOVANJE I FARBANJE","MASONRY, PLASTERING FAIRING AND PAINTING MATERIAL"]
["2.1","Z",1,"Giter blok (d/š/v) 250x190x190 mm","Gitter block (l/w/h) 250x190x190 mm","kom/pcs",null,{"$f":"KORISNICI!H32","v":0},{"$f":"G23*H23","v":0}]
["2.2","Z",2,"Giter polublok (12cm) (d/š/v) 250x120x190mm","Gitter half block (12cm) (l/w/h) 250x120x190mm","kom/pcs",null,{"$f":"KORISNICI!H33","v":0},0]
["2.3","Z",3,"Opeka puna (d/š/v) 250x120x65 mm","Brick (full-without holes) (l/w/h) 250x120x65 mm","kom/pcs",null,{"$f":"KORISNICI!H34","v":0},0]
["2.4","Z",4,"Blok od porobetona za pregradni zid\n(d/š/v) 625x200x200 mm","Aerated concrete block for partition wall\n(l/w/h) 625x200x200 mm","kom/pcs",null,{"$f":"KORISNICI!H35","v":0},0]
["2.5","Z",5,"Fert nosači (gredice)\nDužina nosača je jednaka dužini binora = \nširina otvora između zidova + 30 cm.\nBroj gredica = dužina prostorije x 0,40","Fert beams\nBoom length is equal to the length of Binor =\nwidth of the openings between the walls + 30 cm.\nNumber of beams = length of room x 0.40","/","/","/","/"]
["2.5.1",null,"A","0,00-3,90 m ","0,00-3,90 m ","m1",null,{"$f":"KORISNICI!H37","v":0},{"$f":"G28*H28","v":0}]
["2.5.2",null,"B","3,91-4,50 m ","3,91-4,50 m ","m1",null,{"$f":"KORISNICI!H38","v":0},0]
["2.5.3",null,"C","4,51-4,90 m ","4,51-4,90 m ","m1",null,{"$f":"KORISNICI!H39","v":0},0]
["2.5.4",null,"D","4,91-5,30 m ","4,91-5,30 m ","m1",null,{"$f":"KORISNICI!H40","v":0},0]
["2.5.5",null,"E","5,31-5,90 m ","5,31-5,90 m ","m1",null,{"$f":"KORISNICI!H41","v":0},0]
["2.5.6",null,"F","5,91-6,30 m ","5,91-6,30 m ","m1",null,{"$f":"KORISNICI!H42","v":0},0]
["2.6","Z",6,"Fert ispuna (d/š/v) 245x285/275x160 mm ","Fert fillings (l/w/h) 245x285/275x160 mm ","kom/pcs",null,{"$f":"KORISNICI!H43","v":0},0]
["2.7","Z",7,"Malter za zidanje \nPripremljeno krečno - cementno vezivo","Mortar for masonry\nPrepared lime - cement binder","kg",null,{"$f":"KORISNICI!H44","v":0},0]
["2.8","Z",8,"Malter za malterisanje \nPripremljeno krečno - cementno vezivo","Mortar for plastering\nPrepared lime - cement binder","kg",null,{"$f":"KORISNICI!H45","v":0},0]
["2.9","Z",9,"Krečna glet masa\nBezcementna krečna masa za gletovanje","Lime smoothing mass\nNo cement lime compound for smoothing","kg",null,{"$f":"KORISNICI!H46","v":0},0]
["2.10","Z",10,"Poludisperzivna boja \nPoludisperziona boja  razrediva vodom","Semi dispersion paint","kg",null,{"$f":"KORISNICI!H47","v":0},0]
[]
["3","K",null,"MATERIJAL ZA KROVNU KONSTRUKCIJU, KROVNI POKRIVAČ, OSB I GIPS KARONSKE TABLE","ROOF CONSTRUCTION AND ROOFING MATERIAL, OSB AND PLASTERBOARD TABLE"]
["3.1","K",1,"Presovani glineni crep I klase\ndimenzija: 400-450x245-275 mm","Pressed clay tiles class 1\ndim: 400-450x245-275 mm","kom/pcs",null,{"$f":"KORISNICI!H50","v":3520},{"$f":"G41*H41","v":0}]
["3.2","K",3,"Biber crep I klase dimenzija: 180x380 mm","Biber clay tiles class 1 dim: 180x380 mm","kom/pcs",null,{"$f":"KORISNICI!H51","v":0},0]
["3.3","K",2,"Slemeni crep I klase (žljebnjak)","Ridge clay tiles class 1","kom/pcs",null,{"$f":"KORISNICI!H52","v":0},0]
["3.4","K",4,"Paropropusna i vodonepropusna krovna  folija kontrola vodene pare iznad termoizolacije","Vapour permeable and waterproof roof sheeting control of water vapor above the insulation","m2",null,{"$f":"KORISNICI!H53","v":0},0]
["3.5","K",5,"Staklena mineralna vuna \ntermoizolacija potkrovlja između rogova","Glass Mineral Wool \nloft insulation between the rafters","/","/","/","/"]
["3.5.1",null,"A","debljina d=10 cm  ","thickness d=10 cm  ","m2",null,{"$f":"KORISNICI!H55","v":0},{"$f":"G46*H46","v":0}]
["3.5.2",null,"B","debljina d=12 cm  ","thickness d=12 cm  ","m2",null,{"$f":"KORISNICI!H56","v":0},0]
["3.5.3",null,"C","debljina d=14 cm  ","thickness d=14 cm  ","m2",null,{"$f":"KORISNICI!H57","v":0},0]
["3.6","K",6,"Parna brana\nkontrola vodene pare ispod termoizolacije","Vapor barrier \ncontrol of water vapor below the insulation","m2",null,{"$f":"KORISNICI!H58","v":0},0]
["3.7","K",7,"Čamova rezana građa različitog preseka\ndužine 400 cm","Fir lumber of different cross-section\nlength 400 cm","/","/","/","/"]
["3.7.1",null,"A","Rog/Venčanica/Raspinjača           10/12 cm","rafters / wall plate / ridge collar 10/12 cm","m3",null,{"$f":"KORISNICI!H60","v":1.97},{"$f":"G51*H51","v":0}]
["3.7.2",null,"B","Rog/Stub/Grebenjača/Slemenja.   12/14 cm","column / pile / hip rafter / ridge 12/14 cm","m3",null,{"$f":"KORISNICI!H61","v":0.4},0]
["3.7.3",null,"C","Stub/Grebenjača                         14/14 cm","column / hip rafter 14/14 cm","m3",null,{"$f":"KORISNICI!H62","v":0},0]
["3.7.4",null,"H","Tavanjače                                   18/26 cm","attic beams 18/26 cm","m3",null,{"$f":"KORISNICI!H63","v":0},0]
["3.8","K",8,"Čamova rezana građa različitog preseka\ndužine 600 cm","Fir lumber of different cross-section\nlength 600 cm","/","/","/","/"]
["3.8.1",null,"A","Rog/Venčanica/Raspinjača          10/12 cm","rafters / wall plate / ridge collar 10/12 cm","m3",null,{"$f":"KORISNICI!H65","v":3.9},{"$f":"G56*H56","v":0}]
["3.8.2",null,"B","Rog/Stub/Grebenjača/Slemenja.   12/14 cm","column / pile / hip rafter / ridge 12/14 cm","m3",null,{"$f":"KORISNICI!H66","v":0},0]
["3.8.3",null,"C","Stub/Grebenjača                         14/14 cm","column / hip rafter 14/14 cm","m3",null,{"$f":"KORISNICI!H67","v":0},0]
["3.8.4",null,"D","Rožnjača                                    14/16 cm","Purlin 14/16 cm","m3",null,{"$f":"KORISNICI!H68","v":0},0]
["3.8.5",null,"E","Kosnik/Pajanta                           10/10 cm","Strut 10/10 cm","m3",null,{"$f":"KORISNICI!H69","v":0},0]
["3.8.6",null,"F","Klešta                                         6/12 cm","Collar tie 6/12 cm","m3",null,{"$f":"KORISNICI!H70","v":0},0]
["3.8.7",null,"G","Krovna štafla                                5/8  cm","Roof battens 5/8  cm","m3",null,{"$f":"KORISNICI!H71","v":0.48},0]
["3.8.8",null,"H","Tavanjače                                   18/26 cm","attic beams 18/26 cm","m3",null,{"$f":"KORISNICI!H72","v":0},0]
["3.9","K",9,"Građevinska daska - fosna\n4,8/25/400 cm","Fir board\n4,8/25/400 cm","m3",null,{"$f":"KORISNICI!H73","v":0},0]
["3.10","K",10,"Krovna daska od čamove rezane građe \n2,4-2,5/15 cm, isporučuje se dužine l=3,0 metra","Roof fir board\n2,4-2,5/15 cm, lenght l=3,0 m","m3",null,{"$f":"KORISNICI!H74","v":4},0]
["3.11","K",11,"Krovna letva od čamove rezane građe \n 3 / 5 cm , isporučuje se dužine l=3,0 metra","Fir batten\n 3 / 5 cm , lenght l=3,0 m","m1",null,{"$f":"KORISNICI!H75","v":684},0]
["3.12","K",12,"OSB3  vlagootporne konstruktivne ploče\nd=18 mm / dim. 2440 x 1220","OSB3  moisture resistant structural panels\nd=18 mm / dim. 2440 x 1220","kom/pcs",null,{"$f":"KORISNICI!H76","v":0},0]
["3.13","K",13,"Standardne gips kartonske ploče - Tip A\ndimenzije: 1200-1250 x 2000 mm","Standard plasterboard table - Type A\ndim: 1200-1250 x 2000 mm","kom/pcs",null,{"$f":"KORISNICI!H77","v":0},0]
["3.14","K",14,"Vlagootporne gips kartonske ploče - Tip H2\ndimenzije: 1200-1250 x 2000 mm","Moisture resistant Plasterboard - Type H2\ndim: 1200-1250 x 2000 mm","kom/pcs",null,{"$f":"KORISNICI!H78","v":17},0]
["3.15","K",15,"Čelični pocinkovani i farbani olučni elementi prečnika: Ø 100 mm dužine 600 cm","Galvanized steel and painted gutter elements diameter: Ø 100 mm length 600 cm","/","/","/","/"]
["3.15.1",null,"A","Horizontalni polukružni","horizontal semicircular gutter","kom/pcs",null,{"$f":"KORISNICI!H80","v":0},{"$f":"G71*H71","v":0}]
["3.15.2",null,"B","Vertikalni kružni oluk","Vertical circular gutter","kom/pcs",null,{"$f":"KORISNICI!H81","v":0},0]
[]
["4","P",null,"MATERIJAL ZA PODOVE, LAMINAT, PLOČICE I XPS","FLOORING, LAMINATE, TILES AND XPS"]
["4.1","P",1,"Unutrašnje podne keramičke pločice\nMin. dimenzije pločica: 200x300 mm","Floor tiles for inside\nMin. tile size: 200x300 mm","m2",null,{"$f":"KORISNICI!H84","v":0},{"$f":"G75*H75","v":0}]
["4.2","P",2,"Unutrašnje zidne keramičke pločice \nMin. dimenzije pločica: 200x300 mm","Wall tiles for inside\nMin. tile size: 200x300 mm","m2",null,{"$f":"KORISNICI!H85","v":0},0]
["4.3","P",3,"Lepak za keramičke pločice\nFleksibilni, polimer-cementni lepak","Glue for ceramic tiles\nFlexible, polymer-cement glue","kg",null,{"$f":"KORISNICI!H86","v":0},0]
["4.4","P",4,"Fleksibilna masa za fugovanje\nVodoodbojna fug masa na bazi cementa","Flexible mass for grouting\nWaterproof grout cement based","kg",null,{"$f":"KORISNICI!H87","v":0},0]
["4.5","P",5,"Laminat - jakopresovani (HLP)\nsa klik sistemom, dezen: hrast natur (prirodni)","Laminate (HLP)\nwith click system, design: oak natural (natural)","m2",null,{"$f":"KORISNICI!H88","v":12},0]
["4.6","P",6,"Lajsne za laminat od medijapana \nmaterijal: medijapan / MDF","Moldings for laminate MDF\nMaterial: MDF / MDF","m1",null,{"$f":"KORISNICI!H89","v":0},0]
["4.7","P",7,"Podloga za laminat od polietilenske pene\nSunđerasta podloga za laminat","The base for laminate of polyethylene foam\nFoam base for laminate","m2",null,{"$f":"KORISNICI!H90","v":0},0]
["4.8","P",8,"Cementni suvi estrih (cementna košuljica).\nPripremljeno cementno praškasto vezivo","Cement dry screed (cement screed)\nPrepared cement powder binder","kg",null,{"$f":"KORISNICI!H91","v":0},0]
["4.9","P",9,"Građevinska PVC folija Za razdvajanje cementne košuljice od termo izolacije.","PVC foil for construction. To separate the cement screed of thermal insulation.","m2",null,{"$f":"KORISNICI!H92","v":0},0]
["4.10","P",10,"Stirodur (XPS za izolaciju na podovima)\nploča od ekstrudirane polistirenske pene","Stirodur (XPS insulation for floors)\npanel of extruded polystyrene foam","/","/","/","/"]
["4.10.1",null,"A","debljine d=2 cm","d=2 cm","m2",null,{"$f":"KORISNICI!H94","v":0},{"$f":"G85*H85","v":0}]
["4.10.2",null,"B","debljine d=5 cm","d=5 cm","m2",null,{"$f":"KORISNICI!H95","v":0},0]
[]
["5","F",null,"MATERIJAL ZA IZRADU FASADE","FACADE MATERIAL"]
["5.1","F",1,"EPS za termoizolaciju fasadnih zidova\nploča od ekspandiranog polistirena ","Thermal insulation for facade walls (EPS)\nplates made of expanded polystyrene","/","/","/","/"]
["5.1.1",null,"A","debljina d=8 cm","d=8 cm","m2",null,{"$f":"KORISNICI!H99","v":180},{"$f":"G90*H90","v":0}]
["5.1.2",null,"B","debljina d=10 cm","d=10 cm","m2",null,{"$f":"KORISNICI!H100","v":160},0]
["5.1.3",null,"C","debljina d=12 cm","d=12 cm","m2",null,{"$f":"KORISNICI!H101","v":0},0]
["5.1.4",null,"D","debljina d=14 cm","d=14 cm","m2",null,{"$f":"KORISNICI!H102","v":0},0]
["5.2","F",2,"GrađevinskI lepak za EPS ploče \ncementni lepak namenjen za lepljenje ploča od ekspandiranog polistirena (EPS) i armiranje armaturne (rabic) mrežice ","Construction glue for EPS plates\ncement adhesive for gluing plates made of expanded polystyrene (EPS) and reinforcing wire (rabic) net","kg",null,{"$f":"KORISNICI!H103","v":2100},0]
["5.3","F",3,"Armaturna (rabic) staklena mrežica.\nVisokokvalitetna alkalno postojana staklena mrežica","Reinforcing (rabic) fiberglass mesh\nHigh quality alkali resistant fiberglass mesh","m2",null,{"$f":"KORISNICI!H104","v":400},0]
["5.4","F",4,"Aktivni predpremaz pre nanošenja tankoslojnog fasadnog maltera.\npredpremaz za izjednačavanje upijanja - podloga","Active primer before applying the thin-layer plaster primer for the equalization of absorption surface","kg",null,{"$f":"KORISNICI!H105","v":0},0]
["5.5","F",5,"Fasadni tankoslojni akrilni malter\nZavršni malter u pastoznom stanju, namenjen za zaštitu fasadnih zidnih površina","Facade thin-layer acrylic plaster\nFinishing plaster in paste-like state, intended for the protection of facade wall surfaces","/","/","/","/"]
["5.5.1",null,"A","boja približna RAL 1034 -kajsija ","color similar to RAL 1034-apricot","kg",null,{"$f":"KORISNICI!H107","v":0},{"$f":"G98*H98","v":0}]
["5.5.2",null,"B","boja približna RAL 6005 -pastelno zelena","color similar to RAL 6005 pastel-green","kg",null,{"$f":"KORISNICI!H108","v":0},0]
["5.5.3",null,"C","boja približna RAL 5023 -pastelno plava","color similar to RAL 5023 pastel-blue","kg",null,{"$f":"KORISNICI!H109","v":0},0]
["5.5.4",null,"D","boja približna RAL 3011 -pastelno crvena","color similar to RAL 3011 pastel-red","kg",null,{"$f":"KORISNICI!H110","v":500},0]
["5.5.5",null,"E","boja približna RAL 8002 -braon","color similar to RAL 8002 brown","kg",null,{"$f":"KORISNICI!H111","v":0},0]
[]
["6","H",null,"MATERIJAL ZA HIDRO IZOLACIJE","WATERPROOFING MATERIAL"]
["6.1","H",1,"Bitulit (prethodni premaz za hidroizolaciju)\nUpotrebljava se u isporučenom stanju (hladan  postupak ) bez zagrevanja","Bitulit (previous coating for waterproofing)\nIt is used as delivered (cold process) without heating","kg",null,{"$f":"KORISNICI!H114","v":0},{"$f":"G105*H105","v":0}]
["6.2","H",2,"Poliazbitol (hladni premaz za hidroizolaciju) Upotrebljava se u isporučenom stanju (hladan postupak) bez zagrevanja","POLYASBITOL (cold coating for waterproofing)\nIt is used as delivered (cold process) without heating","kg",null,{"$f":"KORISNICI!H115","v":0},0]
["6.3","H",3,"Ter papir Bitumenska hidroizolaciona traka.","Ter paper Bituminous waterproofing tape.","m2",null,{"$f":"KORISNICI!H116","v":0},0]
["6.4","H",4,"Kondor V-3 (hidroizolaciona traka)\nPlastomer-bitumenska traka, \nuložak stakleni voal, debljina:  ≥ 3 mm","Condor V-3 (waterproof tape)\nPlastomer-bituminous tape,\nglass mat, thickness: ≥ 3 mm","m2",null,{"$f":"KORISNICI!H117","v":0},0]
[]
["7","S",null,"STOLARIJA","DOORS AND WINDOWS"]
["7.1","S",1,"Ulazna vrata od PVC-a (komplet pozicija). \nboja profila: bela RAL 9003\nbroj komora: ≥  5 komora\nširina x visina (zidarske mere)","Entrance door of PVC (set position)\nProfile color: white RAL 9003 \nNumber of chambers: ≥ 5 chambers \nwidth x height (masonry measures)","/","/","/","/"]
["7.1.1",null,"A","JK    90x210 cm - Leva       90 cm ","one wing  90x210 cm - Left      90 cm ","kom/pcs",null,{"$f":"KORISNICI!H121","v":0},{"$f":"G112*H112","v":0}]
["7.1.2",null,"B","JK    90x210 cm - Desna    90 cm","one wing  90x210 cm - Right    90 cm","kom/pcs",null,{"$f":"KORISNICI!H122","v":1},0]
["7.1.3",null,"C","DK 120x210 cm - Leva       90+30 cm","two wings 120x210 cm - Left        90+30 cm","kom/pcs",null,{"$f":"KORISNICI!H123","v":0},0]
["7.1.4",null,"D","DK 120x210 cm - Desna    90+30 cm","two wings 120x210 cm - Right    90+30 cm","kom/pcs",null,{"$f":"KORISNICI!H124","v":0},0]
["7.2","S",2,"Prozori od PVC-a (komplet pozicija).\nVertikalno i horizontalno otvaranje, boja profila: bela RAL 9003, broj komora: ≥  5 komora\nširina x visina (zidarske mere)","Windows made of PVC (set position)\nVertical and horizontal opening, color profile: white RAL 9003, the number of chambers: ≥ 5 chambers \nwidth x height (masonry measures)","/","/","/","/"]
["7.2.1",null,"A","JK     60x60 cm ","one wing 60x60 cm ","kom/pcs",null,{"$f":"KORISNICI!H126","v":0},{"$f":"G117*H117","v":0}]
["7.2.2",null,"B","JK     80x80 cm","one wing 80x80 cm","kom/pcs",null,{"$f":"KORISNICI!H127","v":0},0]
["7.2.3",null,"C","JK    80x120 cm    ","one wing 80x120 cm    ","kom/pcs",null,{"$f":"KORISNICI!H128","v":0},0]
["7.2.4",null,"D","JK    80x140 cm    ","one wing 80x140 cm ","kom/pcs",null,{"$f":"KORISNICI!H129","v":0},0]
["7.2.5",null,"E","JK  100x120 cm","one wing 100x120 cm","kom/pcs",null,{"$f":"KORISNICI!H130","v":0},0]
["7.2.6",null,"F","JK  100x140 cm","one wing 100x140 cm","kom/pcs",null,{"$f":"KORISNICI!H131","v":0},0]
["7.2.7",null,"G","DK  120x120 cm","two wings 120x120 cm","kom/pcs",null,{"$f":"KORISNICI!H132","v":0},0]
["7.2.8",null,"H","DK  120x140 cm","two wings 120x140 cm","kom/pcs",null,{"$f":"KORISNICI!H133","v":0},0]
["7.2.9",null,"I","DK  140x120 cm ","two wings 140x120 cm ","kom/pcs",null,{"$f":"KORISNICI!H134","v":0},0]
["7.2.10",null,"J","DK  140x140 cm ","two wings 140x140 cm ","kom/pcs",null,{"$f":"KORISNICI!H135","v":0},0]
["7.2.11",null,"K","DK  160x120 cm","two wings 160x120 cm","kom/pcs",null,{"$f":"KORISNICI!H136","v":0},0]
["7.2.12",null,"L","DK  160x140 cm","two wings 160x140 cm","kom/pcs",null,{"$f":"KORISNICI!H137","v":3},0]
["7.3","S",3,"Krovni prozor sa  aluminijumskom opšivkom od laminirane i impregnirane čamove građe","Roof window with aluminum flashings of laminated and impregnated fir timber","/","/","/","/"]
["7.3.1",null,"A","dimenzije 66 x 118   (širinaxvisina)","66 x 118 (width x height)","kom/pcs",null,{"$f":"KORISNICI!H139","v":0},{"$f":"G130*H130","v":0}]
["7.3.2",null,"B","dimenzije 78 x 98     (širinaxvisina)","78 x 98   (width x height)","kom/pcs",null,{"$f":"KORISNICI!H140","v":0},0]
["7.3.3",null,"C","dimenzije 78 x 118   (širinaxvisina)","78 x 118 (width x height)","kom/pcs",null,{"$f":"KORISNICI!H141","v":0},0]
["7.4","S",4,"Balkonska vrata od PVC-a (komplet pozicija). \nboja profila: bela RAL 9003\nbroj komora: ≥  5 komora\nširina x visina (zidarske mere)","Balcony doors from PVC (set position)\nProfile color: white RAL 9003 \nNumber of chambers: ≥ 5 chambers \nwidth x height (masonry measures)","/","/","/","/"]
["7.4.1",null,"A","JK     90x210 cm   - Leva","one wing  90x210 cm - Left     ","kom/pcs",null,{"$f":"KORISNICI!H143","v":0},{"$f":"G134*H134","v":0}]
["7.4.2",null,"B","JK     90x210 cm   - Desna ","one wing  90x210 cm - Right    ","kom/pcs",null,{"$f":"KORISNICI!H144","v":0},0]
["7.4.3",null,"C","DK  140x210 cm","two wings 140x210 cm","kom/pcs",null,{"$f":"KORISNICI!H145","v":0},0]
["7.5","S",5,"Unutrašnja vrata sa ispunom od kartonskog saća (komplet pozicija). \nširina x visina (spoljna mera futera)","Internal doors filled with cardboard honeycomb (set position)\nwidth x height (external measures footer)","/","/","/","/"]
["7.5.1",null,"A","70x205 cm - Leva  (dubina štoka 0-16 cm)","70x205 cm - Left     (depth door 0-16 cm)","kom/pcs",null,{"$f":"KORISNICI!H147","v":0},{"$f":"G138*H138","v":0}]
["7.5.2",null,"B","70x205 cm - Leva  (dubina štoka 16-30 cm)","70x205 cm - Left     (depth door 16-30 cm)","kom/pcs",null,{"$f":"KORISNICI!H148","v":0},0]
["7.5.3",null,"C","70x205 cm - Desna (dubina štoka 0-16 cm)","70x205 cm - Right   (depth door  0-16 cm)","kom/pcs",null,{"$f":"KORISNICI!H149","v":0},0]
["7.5.4",null,"D","70x205 cm - Desna (dubina štoka 16-30 cm)","70x205 cm - Right   (depth door  16-30 cm)","kom/pcs",null,{"$f":"KORISNICI!H150","v":0},0]
["7.5.5",null,"E","80x205 cm - Leva  (dubina štoka 0-16 cm)","80x205 cm - Left     (depth door 0-16 cm)","kom/pcs",null,{"$f":"KORISNICI!H151","v":0},0]
["7.5.6",null,"F","80x205 cm - Leva  (dubina štoka 16-30 cm)","80x205 cm - Left     (depth door 16-30 cm)","kom/pcs",null,{"$f":"KORISNICI!H152","v":0},0]
["7.5.7",null,"G","80x205 cm - Desna (dubina štoka 0-16 cm)","80x205 cm - Right   (depth door  0-16 cm)","kom/pcs",null,{"$f":"KORISNICI!H153","v":0},0]
["7.5.8",null,"H","80x205 cm - Desna (dubina štoka 16-30 cm)","80x205 cm - Right   (depth door  16-30 cm)","kom/pcs",null,{"$f":"KORISNICI!H154","v":0},0]
["7.5.9",null,"I","90x205 cm - Leva  (dubina štoka 0-16 cm)","90x205 cm - Left     (depth door 0-16 cm)","kom/pcs",null,{"$f":"KORISNICI!H155","v":0},0]
["7.5.10",null,"J","90x205 cm - Leva  (dubina štoka 16-30 cm)","90x205 cm - Left     (depth door 16-30 cm)","kom/pcs",null,{"$f":"KORISNICI!H156","v":0},0]
["7.5.11",null,"K","90x205 cm - Desna (dubina štoka 0-16 cm)","90x205 cm - Right   (depth door  0-16 cm)","kom/pcs",null,{"$f":"KORISNICI!H157","v":0},0]
["7.5.12",null,"L","90x205 cm - Desna (dubina štoka 16-30 cm)","90x205 cm - Right   (depth door  16-30 cm)","kom/pcs",null,{"$f":"KORISNICI!H158","v":0},0]
[]
["8","D",null,"OSTALA OPREMA I MATERIJAL \n","OTHER EQUIPMENT AND SUPPLIES"]
["8.1","D",1,"Jednostruki dimnjak prečnika Ф 140 mm.\nTroslojni montažni dimnjački sistem namenjen za sva ložišta i sve vrste goriva, bez ventilacije.\nSastavljen je od: dimnjačke cevi od tehničke keramike, izolacije oko cevi dimnjaka od kamene vune minimalne specifične težine 80kg/m3, spoljneg dimnjačkog plašta od lakog betona, vatrostalnog lepka u kartušama, vatrootpornih i gasnonepropusnih atestiranih troslojnih vratanaca , kondenz posude, priključaka za reviziju i ložišta, krovne ploče od staklo betona, nosača tervola i tvrdih tervol ploča za priključke, ventilacione rešetke, dilatacione rozete od nerđajućeg čelika. \nSpoljna dimenzija dimnjačkog plašta za fi14cm=32x32cm.","A single chimney diameter 140 mm.\nThree-layer prefabricated chimney system designed for all furnaces and all types of fuel, with no ventilation. It is composed of: chimney pipe of technical ceramics, pipe insulation around the chimney of stone wool minimum specific weight of 80kg/m3, external chimney mantle of lightweight concrete, refractory adhesive in cartouches, fireproof and gas impermeable certified three-layer side door, condensate pots, connectors for the audit and furnaces, roof tiles of glass concrete girders Tervola and hard tervol plate connections, ventilation grilles, rosettes expansion of stainless steel. The external dimensions of the chimney sleeve fi14cm = 32x32cm.","m1",null,{"$f":"KORISNICI!H161","v":0},{"$f":"G152*H152","v":0}]
[]
["9","V",null,"Vodovod Kanalizacija Oprema","WATER SUPPLY AND SEWAGE"]
[null,null,null,"Vodovod","WATER SUPPLY"]
["9.1","V",1,"Vodovodne polietilenske cevi  PE 100 PN16\nza radni pritisak 16 bara (SDR 11)","Water supply polyethylene pipe PE 100 PN16\nthe working pressure of 16 bar (SDR 11)","/","/","/","/"]
["9.1.1",null,"A","d25  (s min. 2,3)    - 3/4\"","d25  (s min. 2,3)    - 3/4\"","m1",null,{"$f":"KORISNICI!H166","v":0},{"$f":"G157*H157","v":0}]
["9.1.2",null,"B","d32  (s min. 3,0)   -       1\"","d32  (s min. 3,0)   -       1\"","m1",null,{"$f":"KORISNICI!H167","v":0},0]
["9.1.3",null,"C","d40  (s min. 3,7)   -  5/4\"","d40  (s min. 3,7)   -  5/4\"","m1",null,{"$f":"KORISNICI!H168","v":0},0]
["9.2","V",2,"Vodovodne cevi  PP-R 80 PN20 \nza radni pritisak 20 bara, bele ili zelene boje\n(materijal: polipropilen-random kapolimer)","Water pipe PP-R 80 PN20 \nthe working pressure of 20 bar, white or green \n(material: polypropylene random kapolimer)","/","/","/","/"]
["9.2.1",null,"B","d20  (s min.   3,4)    - 1/2\"","d20  (s min.   3,4)    - 1/2\"","m1",null,{"$f":"KORISNICI!H170","v":0},{"$f":"G161*H161","v":0}]
["9.2.2",null,"C","d25  (s min.   4,2)    - 3/4\"","d25  (s min.   4,2)    - 3/4\"","m1",null,{"$f":"KORISNICI!H171","v":0},0]
["9.2.3",null,"D","d32  (s min.   5,4)    -     1\"","d32  (s min.   5,4)    -     1\"","m1",null,{"$f":"KORISNICI!H172","v":0},0]
["9.3","V",3,"Vodomer \nsa prirubnicama, holenderima i pripadajućom opremom za montažu, za pritisak do 16 bara","water gauge\nflanges, unions and associated equipment for assembly, for pressure up to 16 bar","/","/","/","/"]
["9.3.1",null,"A","horizontalni 3/4\"    ","Horizontal 3/4\"    ","kom/pcs",null,{"$f":"KORISNICI!H174","v":0},{"$f":"G165*H165","v":0}]
["9.3.2",null,"B","horizontalni     1\"    ","Horizontal     1\"    ","kom/pcs",null,{"$f":"KORISNICI!H175","v":0},0]
["9.3.3",null,"C","horizontalni 5/4\"","Horizontal 5/4\"","kom/pcs",null,{"$f":"KORISNICI!H176","v":0},0]
["9.4","V",4,"Ravni propusni ventil sa ogrankom za pražnjenje","Skip straight valve with a branch drain","/","/","/","/"]
["9.4.1",null,"A","d25  (s min. 2,3)    - 3/4\"","d25  (s min. 2,3)    - 3/4\"","kom/pcs",null,{"$f":"KORISNICI!H178","v":0},{"$f":"G169*H169","v":0}]
["9.4.2",null,"B","d32  (s min. 3,0)   -       1\"","d32  (s min. 3,0)   -       1\"","kom/pcs",null,{"$f":"KORISNICI!H179","v":0},0]
["9.5","V",5,"Propusni ventil za uzidanje sa kapom ","Gate valve for the wall with cap","/","/","/","/"]
["9.5.1",null,"A","d20  (s min.   3,4)    - 1/2\"","d20  (s min.   3,4)    - 1/2\"","kom/pcs",null,{"$f":"KORISNICI!H181","v":0},{"$f":"G172*H172","v":0}]
["9.5.2",null,"B","d25  (s min.   4,2)    - 3/4\"","d25  (s min.   4,2)    - 3/4\"","kom/pcs",null,{"$f":"KORISNICI!H182","v":0},0]
["9.5.3",null,"C","d32  (s min. 3,0)   -       1\"","d32  (s min. 3,0)   -       1\"","kom/pcs",null,{"$f":"KORISNICI!H183","v":0},0]
["9.6","V",6,"Ugaoni \"EK\" sa kapom","Angle valve \"EK\" with cap","/","/","/","/"]
["9.6.1",null,"A","d20  (s min.   3,4)    - 1/2\"","d20  (s min.   3,4)    - 1/2\"","kom/pcs",null,{"$f":"KORISNICI!H185","v":0},{"$f":"G176*H176","v":0}]
["9.7","V",7,"Termička izolacija vodovodnih cevi  -tipa plamaflex ISO ili sl.","Thermal insulation of water pipes-type PLAMAFLEX ISO etc..","/","/","/","/"]
["9.7.1",null,"B","d20   (22/9)   - 1/2\"","d20   (22/9)   - 1/2\"","m1",null,{"$f":"KORISNICI!H187","v":0},{"$f":"G178*H178","v":0}]
["9.7.2",null,"C","d25   (25/9) - 3/4\"","d25   (25/9) - 3/4\"","m1",null,{"$f":"KORISNICI!H188","v":0},0]
["9.7.3",null,"D","d32   (35/9)-     1\"","d32   (35/9)-     1\"","m1",null,{"$f":"KORISNICI!H189","v":0},0]
[null,null,null,"Kanalizacija","SEWAGE"]
["9.8","V",8,"PVC kanalizacione cevi SDR 41 / SN4 / PN5\nza spoljni razvod, kućna i ulična kanalizacija","PVC sewer pipe SDR 41 / CH4 / PN5\nfor external distribution, household and street sewage","/","/","/","/"]
["9.8.1",null,"A","d110 (s min.   3,2)    dužina 6,0m","d110 (s min.   3,2)    length 6,0m","kom/pcs",null,{"$f":"KORISNICI!H192","v":0},{"$f":"G183*H183","v":0}]
["9.8.2",null,"B","d160 (s min.   4,0)    dužina 6,0m","d160 (s min.   4,0)    length 6,0m","kom/pcs",null,{"$f":"KORISNICI!H193","v":0},0]
["9.9","V",9,"Plastične PP cevi SDR 51 / SN2 / PN4\nza unutrašnji (kućni) razvod, kućna kanalizacija","Plastic PP pipes SDR 51 / SN2 / PN4\nfor internal (home) distribution, household sewage","/","/","/","/"]
["9.9.1",null,"A","d50     (s min.   1,8)    dužina 3,0m","d50     (s min.   1,8)    length 3,0m","kom/pcs",null,{"$f":"KORISNICI!H195","v":0},{"$f":"G186*H186","v":0}]
["9.9.2",null,"B","d75     (s min.   1,9)    dužina 3,0m","d75     (s min.   1,9)    length 3,0m","kom/pcs",null,{"$f":"KORISNICI!H196","v":0},0]
["9.9.3",null,"C","d110  (s min.   2,7)    dužina 3,0m","d110  (s min.   2,7)    length 3,0m","kom/pcs",null,{"$f":"KORISNICI!H197","v":0},0]
["9.10","V",10,"Plitki PE podni slivnik d50 sa horizontalnim odvodom dimenzija 150x150mm","Shallow PE floor drain with horizontal outlet d50 size 150x150mm","kom/pcs",null,{"$f":"KORISNICI!H198","v":0},0]
["9.11","V",11,"Zidni sifoni sa odvodnom mesinganom cevi d32 (mašina za pranje veša i sudova)","Wall siphon with drainage brass tubes d32 (washing machines, dishwashers)","kom/pcs",null,{"$f":"KORISNICI!H199","v":0},0]
[null,null,null,"Oprema u kupatilu","BATHROOM EQUPIMENT"]
["9.12","V",12,"WC šolja od keramike  I klase","Ceramic toilet bowl class 1","kom/pcs",null,{"$f":"KORISNICI!H201","v":1},{"$f":"G192*H192","v":0}]
["9.13","V",13,"Niskomontažni plastični predzidni vodokotlić \nza nisku montažu iznad wc šolje sa plovkom i svim potrebnim delovima za funkcionisanje vodokotlića","Low mounting plastic-wall toilet tank\nfor low installation above the toilet bowl float and all the parts required for the operation of flushing","kom/pcs",null,{"$f":"KORISNICI!H202","v":1},0]
["9.14","V",14,"Umivaonikom sa stubom od keramike  I klase","Washbasin with ceramic pillar class 1","kom/pcs",null,{"$f":"KORISNICI!H203","v":0},0]
["9.15","V",15,"Pravougaona akrilna tuš kada\ndimenzija 90x90cm sa odlivnim ventilom","Rectangular acrylic shower \nsize 90x90cm with discharge valve","kom/pcs",null,{"$f":"KORISNICI!H204","v":0},0]
["9.16","V",16,"Električni akumulacioni bojler 50l vertikalni \ngrejač 2 kW, napon 230V, kazan izrađen od emajliranog lima, sa  pratećim materijalom za ugradnju","Electric storage water heater 50l vertical \nheater 2 kW, 230V, caldron made ​​of enameled steel, with supporting material for installation","kom/pcs",null,{"$f":"KORISNICI!H205","v":1},0]
["9.17","V",17,"Ogledalo sa etažerom (iznad umivaonika)\nčetvrtasto, min. dimenzija 80x60cm","Mirror with shelf above wash basin \nsquare, min. 80x60cm","kom/pcs",null,{"$f":"KORISNICI!H206","v":1},0]
["9.18","V",18,"Baterije (slavine) \nhromirane baterije za hladnu i toplu vodu","Lever\nchrome lever for cold and hot water","/","/","/","/"]
["9.18.1",null,"A","za umivaonik jednoručna stojeća ","For washbasin single lever basin standing","kom/pcs",null,{"$f":"KORISNICI!H208","v":0},{"$f":"G199*H199","v":0}]
["9.18.2",null,"B","za tuš kadu (sa tuš ručicom i tuš crevom)\njednoručna sa poniklovanim savitljivim crevom","For shower bath (with shower head and shower hose) Single lever with nickel hoses","kom/pcs",null,{"$f":"KORISNICI!H209","v":0},0]
["9.18.3",null,"C","za mašinu za veš i sudove, holender slavina DN20/15, s pripadajućom opremom za ugradnju ","for washing machine and dishwasher, union DN20/15 taps, and all the equipment for installation","kom/pcs",null,{"$f":"KORISNICI!H210","v":0},0]
[null,null,null,"Oprema u kuhinji","KITCHEN EQUIPMENT"]
["9.19","V",19,"Korito sudopere od \"Inox \"-a (dvodelno)\n(izrađeno od plemenitog nerđajućeg čelika)\norjenacione dimenzije:  780 x 435 x 150 mm","kitchen sink \"Inox\" two-part\n(made of stainless steel)\napprox. dim:  780 x 435 x 150 mm","kom/pcs",null,{"$f":"KORISNICI!H212","v":1},{"$f":"G203*H203","v":0}]
["9.20","V",20,"Električni akumulacioni bojler 5l\nza ugradnju iznad sudopere, vertikalni grejač 2 kW, napon 230V, kazan izrađen od plastike\nsa  pratećim materijalom za ugradnju","Electric storage water heater 5l\nFitting over the sink, vertical heater 2 kW, 230V, caldron made ​​of plastic with the materials for installation","kom/pcs",null,{"$f":"KORISNICI!H213","v":0},0]
["9.21","V",21,"Baterija za sudoperu jednoručna stojeća hromirana baterija za hladnu i toplu vodu ","Sink-standing single lever chrome mixer for hot and cold water","kom/pcs",null,{"$f":"KORISNICI!H214","v":1},0]
[]
["10","E",null,"ELEKTRO MATERIJAL I OPREMA\n","Electrical materials and equipment"]
[null,null,null,"Kablovi i kablovski pribor","Electrical cables and cable accessories"]
["10.1","E",1,"Napojni kablovi","Power cables","/","/","/","/"]
["10.1.1",null,"A","X00-A      4x16 mm2","X00-A      4x16 mm2","m",null,{"$f":"KORISNICI!H219","v":0},{"$f":"G210*H210","v":0}]
["10.1.2",null,"B","PP00-Y   5x6    mm2","PP00-Y   5x6    mm2","m",null,{"$f":"KORISNICI!H220","v":0},0]
["10.1.3",null,"C","PP00-Y   5x10  mm2","PP00-Y   5x10  mm2","m",null,{"$f":"KORISNICI!H221","v":0},0]
["10.2","E",2,"Instalacioni kablovi","Installation cables","/","/","/","/"]
["10.2.1",null,"A","PP-Y       3x1,5  mm2","PP-Y       3x1,5  mm2","m",null,{"$f":"KORISNICI!H223","v":0},{"$f":"G214*H214","v":0}]
["10.2.2",null,"B","PP-Y       4x1,5  mm2","PP-Y       4x1,5  mm2","m",null,{"$f":"KORISNICI!H224","v":0},0]
["10.2.3",null,"C","PP-Y       3x2,5  mm2","PP-Y       3x2,5  mm2","m",null,{"$f":"KORISNICI!H225","v":0},0]
["10.2.4",null,"D","PP-Y       5x2,5  mm2","PP-Y       5x2,5  mm2","m",null,{"$f":"KORISNICI!H226","v":0},0]
["10.3","E",3,"Instalacione PVC cevi","PVC pipe for installations of cables","/","/","/","/"]
["10.3.1",null,"A","fi 16mm2","fi 16mm2","m",null,{"$f":"KORISNICI!H228","v":0},{"$f":"G219*H219","v":0}]
["10.3.2",null,"B","fi 50mm2","fi 50mm2","m",null,{"$f":"KORISNICI!H229","v":0},0]
[null,null,null,"Razvodne table i oprema","The junction boards and equipment"]
["10.4","E",4,"Razvodna tabla komplet\nStanska, za ugradnju na zid sa transparentim vratima, sa mestom za 18 modula, DIN šinom, IP40\nRazvodna tabla sadrži :","Junction board (for flat) for wall mounting with transparent door, with space for 18 modules, DIN rail, IP40\nJunction board contains:","kom/pcs",null,{"$f":"KORISNICI!H231","v":0},{"$f":"G222*H222","v":0}]
[null,null,null,"Jednopolni instalacioni prekidač\n(automatski osigurač) za montažu na DIN šinu nom. napona 230V/400V, 50Hz; karakteristike B; prekidne moći 6kA:","Single-pole fuse\n(Automatic fuse) for mounting on DIN rail nom. voltage 230V/400V, 50Hz, features B; breaking capacity 6kA:","/","/","/","/"]
[null,null,null,"nazivne struje 6A, komada 1","rated current of 6A","/","/","/","/"]
[null,null,null,"nazivne struje 10A, komada 2","rated current of 10A","/","/","/","/"]
[null,null,null,"nazivne struje 16A, komada 9","rated current of 16A","/","/","/","/"]
[null,null,null,"Signalna sijalica\nza signalizaciju tarife 230V za ugradnju u stansku razvodnu tablu, montažu na DIN šinu komada 1","The indicator lamp\nfor signaling rates 230V for use in flat junction board, mounting on DIN rail","/","/","/","/"]
[null,null,null,"FID sklopka\nza ugradnju u stansku razvodnu tablu, montažu na DIN šinu","FID switch for installation in junction board, mounting on DIN rail","/","/","/","/"]
[null,null,null,"16A/30mA,  2-polna,   230V, 50Hz; komada 2","16A/30mA, 2-pole, 230V, 50Hz;","/","/","/","/"]
[null,null,null,"25A/0,5A,    4-polna,    230V/400V, 50Hz; komada 1","25A / 0,5 A, 4-pole, 230V/400V, 50Hz;","/","/","/","/"]
[null,null,null,"Instalaciono zvono\n230V, 50Hz; za ugradnju u stansku razvodnu tablu, montažu na DIN šinu komada 1","Bell 230V, 50Hz, for use in junction board, mounting on DIN rail","/","/","/","/"]
[null,null,null,"Instalacioni materijal","Installation material"]
["10.5","E",5,"Instalaciona kutija\nza ugradnju u završnu obradu zida","Installation box\nfor installation in the wall","/","/","/","/"]
["10.5.1",null,"A","fi 60 mm","fi 60 mm","kom/pcs",null,{"$f":"KORISNICI!H243","v":0},{"$f":"G234*H234","v":0}]
["10.5.2",null,"B","fi 78 mm","fi 78 mm","kom/pcs",null,{"$f":"KORISNICI!H244","v":0},0]
["10.5.3",null,"C","100x100mm","100x100mm","kom/pcs",null,{"$f":"KORISNICI!H245","v":0},0]
["10.6","E",6,"Instalaciona priključnica IP20 za ugradnju u završnu obradu zida sa zaštitnim kontaktom","Installation socket IP20 for installation in the wall with a protection contact","/","/","/","/"]
["10.6.1",null,"A","16A, monofazna, 250 V","16A, single-phase, 250 V","kom/pcs",null,{"$f":"KORISNICI!H247","v":0},{"$f":"G238*H238","v":0}]
["10.6.2",null,"B","16A, monofazna, dupla, 250 V","16A, single-phase, double, 250 V","kom/pcs",null,{"$f":"KORISNICI!H248","v":0},0]
["10.6.3",null,"C","16A, trofazna, 400V","16A, three-phase, 400V","kom/pcs",null,{"$f":"KORISNICI!H249","v":0},0]
["10.7","E",7,"Instalaciona priključnica IP43 sa poklopcem za ugradnju u završnu obradu zida, sa zaštit. kontaktom, 16A, monofazna, 250 V","Installation socket IP43 with cover for use in wall with protection. contact, 16A, single-phase, 250 V","kom/pcs",null,{"$f":"KORISNICI!H250","v":0},0]
["10.8","E",8,"Prekidači\n IP20 za ugradnju u završnu obradu zida","Switches \n IP20 for installation in wall","/","/","/","/"]
["10.8.1",null,"A","običan, 10A","regular, 10A","kom/pcs",null,{"$f":"KORISNICI!H252","v":0},{"$f":"G243*H243","v":0}]
["10.8.2",null,"B","serijski, 10A","serial, 10A","kom/pcs",null,{"$f":"KORISNICI!H253","v":0},0]
["10.8.3",null,"C","za zvono ","for bell","kom/pcs",null,{"$f":"KORISNICI!H254","v":0},0]
["10.8.4",null,"D","Instalacioni  prekidač \"KIP\" 16A","Installation switch \"KIP\" 16A","kom/pcs",null,{"$f":"KORISNICI!H255","v":0},0]
["10.9","E",9,"Indikator za kupatilo\n sa tri sklopke 16A i signalnim sijalicama","The indicator for the bathroom \nThree switches 16A and signal lights","kom/pcs",null,{"$f":"KORISNICI!H256","v":0},0]
[null,null,null,"Svetiljke","Lighting"]
["10.10","E",10,"Svetiljka za montažu na plafon  sa inkadescentnom sijalicom 60W, E-27, ","Luminaire to be mounted on the ceiling with a 60W incandescent bulb, E-27","/","/","/","/"]
["10.10.1",null,"A"," IP 43 za sanitarni čvor","IP 43 for toilet",null,null,{"$f":"KORISNICI!H259","v":0},{"$f":"G250*H250","v":0}]
["10.10.2",null,"B","IP 20 za unutrašnje prostorije","IP 20 for indoor rooms",null,null,{"$f":"KORISNICI!H260","v":0},0]
[null,null,null,"Instalacija uzemljenja i gromobrana","Earthing and lightning protection"]
["10.11","E",11,"Pocinkovana traka","Galvanized strip",null,null,"/","/"]
["10.11.1",null,"A","FeZn 25x4mm","FeZn 25x4mm","m",null,{"$f":"KORISNICI!H263","v":0},{"$f":"G254*H254","v":0}]
["10.11.2",null,"B","FeZn 20x3mm","FeZn 20x3mm","m",null,{"$f":"KORISNICI!H264","v":0},0]
["10.12","E",12,"SIP ormarić (PS49) sa sabirnicom za izjednačenje potencijala","SIP boxes (PS 49) with bonding","kom/pcs",null,{"$f":"KORISNICI!H265","v":0},0]
["10.13","E",13,"Provodnici za uzemljenje","Grounding conductors","/","/","/","/"]
["10.13.1",null,"A","PP00-Y  1x16mm2","PP00-Y  1x16mm2","m",null,{"$f":"KORISNICI!H267","v":0},{"$f":"G258*H258","v":0}]
["10.13.2",null,"B","P/F-Y      1x6mm2","P/F-Y      1x6mm2","m",null,{"$f":"KORISNICI!H268","v":0},0]
["10.13.3",null,"C","P/F-Y      1x4mm2","P/F-Y      1x4mm2","m",null,{"$f":"KORISNICI!H269","v":0},0]
[null,null,null,"Instalacija slabe struje","Installation of low voltage"]
["10.14","E",14,"Antenski koaksijalni kabl RG 6","Antenna Coaxial Cable RG 6","m",null,{"$f":"KORISNICI!H271","v":0},{"$f":"G262*H262","v":0}]
["10.15","E",15,"Telefonski kabl sa bakarnim provodnicima \nIY(St)Y 2x2x0.8mm","Telephone cable with copper conductors \nIY (St) Y 2x2x0.8mm","m",null,{"$f":"KORISNICI!H272","v":0},0]
["10.16","E",16,"Priključnice","Connectors","/","/","/","/"]
["10.16.1",null,"A","Telefonska - RJ11 za montažu u dozni fi 60mm","Phone - RJ11 for mounting in enclosure fi 60mm","m",null,{"$f":"KORISNICI!H274","v":0},{"$f":"G265*H265","v":0}]
["10.16.2",null,"B","RTV priključnica za montažu u dozni fi 60mm","RTV connector for mounting in enclosure fi 60 mm","kom/pcs",null,{"$f":"KORISNICI!H275","v":0},0]
["11",null,null,"OSTALA OPREMA ZA OBJEKAT","OTHER EQUIPMENT AND SUPPLIES"]
["11.1","N",1,"Trpezarijski sto\nTrpezarijski sto pravougaonog oblika, izrađen od oplemenjene iverice, dezena hrast ili wenge, sa mogućnošću povećanja radne površine za dodatnih 33 cm.\nDimenzija: 120x80x75 Š/D/V",null,"kom/pcs",null,{"$f":"KORISNICI!H277","v":2},{"$f":"G268*H268","v":0}]
["11.2","N",{"$f":"C268+1","v":2},"Trpezarijska stolica\nTrpezarijska stolica drvena,\nizrada od punog drveta, sedište tapacirano eko kožom.\nDimenzije: 44x44x87 Š/D/V",null,"kom/pcs",null,{"$f":"KORISNICI!H278","v":13},0]
["11.3","N",{"$f":"C269+1","v":3},"Krevet za dnevnu sobu - Klik-klak\nKlik - Klak ležaj sa mehanizmom za jednostavno rasklapanje. \nDimenzije: 190 x 130 x 90 Š/D/V",null,"kom/pcs",null,{"$f":"KORISNICI!H279","v":2},0]
["11.4","N",{"$f":"C270+1","v":4},"Plakar za garderobu\nPlakar za garderobu od oplemenjene iverice 18mm, korpus bele boje, front boja wenge ili hrast, sa kvalitetnim ALU okovima i ričicama.\nDimenzije: 70x50x175 Š/D/V",null,"kom/pcs",null,{"$f":"KORISNICI!H280","v":1},0]
["11.5","N",5,"Spavaći krevet za jednu osobu\nSpavaći krevet, izrađen od oplemenjene iverice 18 i 25mm, sa dušekom. Ispod dušeka nalazi se primarna i sekundarna noseća konstrukcija dušeka. \nDimenzije: 95x205x79 Š/D/V",null,"kom/pcs",null,{"$f":"KORISNICI!H281","v":0},0]
["11.6","N",6,"Spavaći krevet za dve osobe\nSpavaći krevet, izrađen od oplemenjene iverice 18 i 25mm, sa dušekom. Ispod dušeka nalazi se primarna i sekundarna konstrukcija noseća konstrukcija dušeka. \nDimenzije: 163,5x205x90 Š/D/V",null,"kom/pcs",null,{"$f":"KORISNICI!H282","v":0},0]
["11.7","N",7,"Peć (šporet) za grejanje na drva\nŠporet na čvrsto gorivo. Mogućnost kuvanja na celoj površini plotne. Ravnomerno pečenje u rerni.\nZapremina zagrevanja:100-130m3 ; Površina zagrevanja: 40-50m2 ; Nominalna toplotna snaga: 8 kW ; Dimenzije (ŠxVxD): 90 x 85 x 60 cm\nDimenzije rerne (ŠxVxD): 46 x 26 x 44 cm",null,"kom/pcs",null,{"$f":"KORISNICI!H283","v":0},0]
["11.8","N",8,"Peć za grejanje na gas\nPeć na gas.\nZapremina zagrevanja:120-140m3\nPovršina zagrevanja: 45-55m2\nNominalna toplotna snaga: 9 kW\nDimenzije (ŠxVxD): 28 x 65 x 70 cm",null,"kom/pcs",null,{"$f":"KORISNICI!H284","v":0},0]
["11.9","N",9,"Peć za grejanje na gas\nPeć na gas. ; Infracrveno grejanje\nPIEZZO starter ; Nominalna toplotna snaga: 4,2 kW ;\nDimenzije (ŠxVxD):  43 x 73 x 39 cm",null,"kom/pcs",null,{"$f":"KORISNICI!H285","v":2},0]
["11.10","N",10,"Mašina za pranje veša\nKapaciteta minimalno 6 kg; Broj obrtaja centrifuge 1000obrt./min.; Energetski razred minimalno A; Minimalno 18 programa; Prečnik vrata minimano 32cm; \nDimenzije (ŠxVxD): 60 x 85 x 45 cm",null,"kom/pcs",null,{"$f":"KORISNICI!H286","v":1},0]
["11.11","N",11,"Električni šporet\nPloča za kuvanje : 1 ekspres električna ploča + 2 standardne električne ploče + 1 standardna električna ploča sa temperaturnim ograničenjem;\nRerna: Temperatura 250 C; Ventilatorska rerna; Zapemena rerne 48l; Napon: 230/400 V\nPriključna snaga: 7500 W Energetski razred: A\nBoja: Bela Dimenzije (ŠxVxD): 50 x 85 x 61 cm",null,"kom/pcs",null,{"$f":"KORISNICI!H287","v":0},0]
["11.12","N",12,"Gasni (plinski) šporet\nUgradna plinska ploča ; Mali gorionik 5,5 cm, 1 kW, ; Standardni gorionik 7,5 cm, 1,75 kW, \nStandardni gorionik 7,5 cm, 1,75 kW, ; \nVeliki gorionik 10 cm, 2,7 kW ; Rerna: Temperatura 300 C ; Zapemena rerne: 54 l\nPriključna snaga: 10,2 kW ; Energetski razred: A\nBoja: Bela ; Dimenzije (ŠxVxD): 50 x 85 x 61 cm",null,"kom/pcs",null,{"$f":"KORISNICI!H288","v":1},0]
["11.13","N",13,"Frižider (samostalni)\nEnergetski razred: A ; Boja: Bela ; Metalna vrata\n1 kompresor ; Neto/bruto zapremina: 368/370l\nCrispZone: fioka za povrće ; CrispZone sa HyumidityControl: velika fioka za povrće sa regulacijom vlažnosti ; IonAir technology: Jonizator vazduha u frižiderskom prostoru ; DynamiCooling hlađenje ; Brzo hlađenje SuperCool ; Dimenzije (ŠxVxD): 60 x 185 x 64 cm",null,"kom/pcs",null,{"$f":"KORISNICI!H289","v":0},0]
["11.14","N",14,"Frižider (kombinovani) sa prostorom za zamrzavanje\nEnergetski razred: A ; Boja: Bela ; Metalna vrata\nFrižider: 1 kompresor; 4 staklene police; 2 posude za povrće; 2 uloška za jaja (6×), 2 police za maslac i sir, Posuda za flaše, \nZamrzivač: 1 mrežna polica, 1 prostor sa vratima\n1 posudica za led, Neto rashlađivanje: 214 l\nNeto zamrzavanje: 48 l, Dimenzije (ŠxVxD): \n54 x 162 x 60 cm",null,"kom/pcs",null,{"$f":"KORISNICI!H290","v":2},0]
[null,null,null,null,null,null,null,null,{"$f":"SUM(I5:I281)","v":0}]

{"sheet":"KORISNICI","index":2,"n_rows":291,"n_cols":221,"rows_kept":291,"cut":false,"hidden":false,"merged":[]}
[null,null,null,null,null,null,"POTPROJEKAT/ SUBPROJECT",null,null,"RHP-W4-VHG/COMP4-2015",null,null,"RHP-W4-VHG/COMP4-2015",null,null,"RHP-W4-VHG/COMP4-2015",null,null,"RHP-W4-VHG/COMP4-2015",null,null,"RHP-W4-VHG/COMP4-2015",null,null,"RHP-W4-VHG/COMP4-2015"]
[null,null,null,null,null,null,"ID KORISNIKA/ USER ID",null,null,"II-553-16/2015-49/2",null,null,"II-553-16/2015-49/7",null,null,"II-553-16/2015-49/8",null,null,"II-553-16/2015-49/6",null,null,"II-553-16/2015-49/1",null,null,"II-553-16/2015-49/4"]
[null,null,null,null,null,null,"IME KORISNIKA/ NAME",null,null,"Dragana",null,null,"Mićo ",null,null,"Milan",null,null,"Aleksandar",null,null,"Ranka",null,null,"Eva"]
[null,null,null,null,null,null,"PREZIME KORISNIKA/ SURNAME",null,null,"Radomirović",null,null,"Šijan",null,null,"Ćosić",null,null,"Grbić",null,null,"Pavlović",null,null,"Pavlović"]
[null,null,null,null,null,null,"TELEFON KORISNIKA/ PHONE",null,null,"tel. +381621853592",null,null,"tel. +381641197142",null,null,"tel. +381605161085",null,null,"tel. +381611546500",null,null,"tel. +381640536105",null,null,"tel. +381656426688"]
[null,null,null,null,null,null,"OPŠTINA ISPORUKE/ MUNICIPALITY",null,null,"Žitište",null,null,"Žitište",null,null,"Žitište",null,null,"Žitište",null,null,"Žitište",null,null,"Žitište"]
[null,null,null,null,null,null,"MESTO ISPORUKE/ CITY",null,null,"Žitište",null,null,"Žitište",null,null,"Žitište",null,null,"Žitište",null,null,"Hetin",null,null,"Hetin"]
[null,null,null,null,null,null,"LOKACIJA ISPORUKE/ LOCATION OF DELIVERY",null,null,"Begejski kej 34",null,null,"Žarka Zrenjanina 34",null,null,"Generala Drapšina 29",null,null,"Pupinova 41",null,null,"Mladena Stojanovića 12",null,null,"Narodnog fronta 6"]
[null,null,null,null,null,null,"UKUPNO PO KORISNIKU/ TOTAL BY BENEFICIARY",null,null,{"$f":"K291","v":0},null,null,{"$f":"N291","v":0},null,null,{"$f":"Q291","v":0},null,null,{"$f":"T291","v":0},null,null,{"$f":"W291","v":0},null,null,{"$f":"Z291","v":0},null,null,{"$f":"AC291","v":0},null,null,{"$f":"AF291","v":0},null,null,{"$f":"AI291","v":0},null,null,{"$f":"AL291","v":0},null,null,{"$f":"AO291","v":0},null,null,{"$f":"AR291","v":0},null,null,{"$f":"AU291","v":0},null,null,{"$f":"AX291","v":0},null,null,{"$f":"BA291","v":0},null,null,{"$f":"BD291","v":0},null,null,{"$f":"BG291","v":0},null,null,{"$f":"BJ291","v":0},null,null,{"$f":"BM291","v":0},null,null,{"$f":"BP291","v":0},null,null,{"$f":"BS291","v":0},null,null,{"$f":"BV291","v":0},null,null,{"$f":"BY291","v":0},null,null,{"$f":"CB291","v":0},null,null,{"$f":"CE291","v":0},null,null,{"$f":"CH291","v":0},null,null,{"$f":"CK291","v":0},null,null,{"$f":"CN291","v":0},null,null,{"$f":"CQ291","v":0},null,null,{"$f":"CT291","v":0},null,null,{"$f":"CW291","v":0},null,null,{"$f":"CZ291","v":0},null,null,{"$f":"DC291","v":0},null,null,{"$f":"DF291","v":0},null,null,{"$f":"DI291","v":0},null,null,{"$f":"DL291","v":0},null,null,{"$f":"DO291","v":0},null,null,{"$f":"DR291","v":0},null,null,{"$f":"DU291","v":0},null,null,{"$f":"DX291","v":0},null,null,{"$f":"EA291","v":0},null,null,{"$f":"ED291","v":0},null,null,{"$f":"EG291","v":0},null,null,{"$f":"EJ291","v":0},null,null,{"$f":"EM291","v":0},null,null,{"$f":"EP291","v":0},null,null,{"$f":"ES291","v":0},null,null,{"$f":"EV291","v":0},null,null,{"$f":"EY291","v":0},null,null,{"$f":"FB291","v":0},null,null,{"$f":"FE291","v":0},null,null,{"$f":"FH291","v":0},null,null,{"$f":"FK291","v":0},null,null,{"$f":"FN291","v":0},null,null,{"$f":"FQ291","v":0},null,null,{"$f":"FT291","v":0},null,null,{"$f":"FW291","v":0},null,null,{"$f":"FZ291","v":0},null,null,{"$f":"GC291","v":0},null,null,{"$f":"GF291","v":0},null,null,{"$f":"GI291","v":0},null,null,{"$f":"GL291","v":0},null,null,{"$f":"GO291","v":0},null,null,{"$f":"GR291","v":0},null,null,{"$f":"GU291","v":0},null,null,{"$f":"GX291","v":0},null,null,{"$f":"HA291","v":0},null,null,{"$f":"HD291","v":0},null,null,{"$f":"HG291","v":0},null,null,{"$f":"HJ291","v":0}]
[]
["KOD/\nCODE",null,null,"Opis građevinskog materijala ","Description of building materials","Jed.\nprod./\nUNIT","Jedinična\nprod.cena/\nUNIT PRICE ","Zbir Količina po materijalima/\nSUM QTY","ZBIR UKUPNO PO MATERIJALIMA/\nSUM PRICE","Količina/\nQTY","UKUPNO/\nTOTAL",null,"Količina/\nQTY","UKUPNO/\nTOTAL",null,"Količina/\nQTY","UKUPNO/\nTOTAL",null,"Količina/\nQTY","UKUPNO/\nTOTAL",null,"Količina/\nQTY","UKUPNO/\nTOTAL",null,"Količina/\nQTY","UKUPNO/\nTOTAL",null,"Količina/\nQTY","UKUPNO/\nTOTAL",null,"Količina/\nQTY","UKUPNO/\nTOTAL",null,"Količina/\nQTY","UKUPNO/\nTOTAL",null,"Količina/\nQTY","UKUPNO/\nTOTAL",null,"Količina/\nQTY","UKUPNO/\nTOTAL",null,"Količina/\nQTY","UKUPNO/\nTOTAL",null,"Količina/\nQTY","UKUPNO/\nTOTAL",null,"Količina/\nQTY","UKUPNO/\nTOTAL",null,"Količina/\nQTY","UKUPNO/\nTOTAL",null,"Količina/\nQTY","UKUPNO/\nTOTAL",null,"Količina/\nQTY","UKUPNO/\nTOTAL",null,"Količina/\nQTY","UKUPNO/\nTOTAL",null,"Količina/\nQTY","UKUPNO/\nTOTAL",null,"Količina/\nQTY","UKUPNO/\nTOTAL",null,"Količina/\nQTY","UKUPNO/\nTOTAL",null,"Količina/\nQTY","UKUPNO/\nTOTAL",null,"Količina/\nQTY","UKUPNO/\nTOTAL",null,"Količina/\nQTY","UKUPNO/\nTOTAL",null,"Količina/\nQTY","UKUPNO/\nTOTAL",null,"Količina/\nQTY","UKUPNO/\nTOTAL",null,"Količina/\nQTY","UKUPNO/\nTOTAL",null,"Količina/\nQTY","UKUPNO/\nTOTAL",null,"Količina/\nQTY","UKUPNO/\nTOTAL",null,"Količina/\nQTY","UKUPNO/\nTOTAL",null,"Količina/\nQTY","UKUPNO/\nTOTAL",null,"Količina/\nQTY","UKUPNO/\nTOTAL",null,"Količina/\nQTY","UKUPNO/\nTOTAL",null,"Količina/\nQTY","UKUPNO/\nTOTAL",null,"Količina/\nQTY","UKUPNO/\nTOTAL",null,"Količina/\nQTY","UKUPNO/\nTOTAL",null,"Količina/\nQTY","UKUPNO/\nTOTAL",null,"Količina/\nQTY","UKUPNO/\nTOTAL",null,"Količina/\nQTY","UKUPNO/\nTOTAL",null,"Količina/\nQTY","UKUPNO/\nTOTAL",null,"Količina/\nQTY","UKUPNO/\nTOTAL",null,"Količina/\nQTY","UKUPNO/\nTOTAL",null,"Količina/\nQTY","UKUPNO/\nTOTAL",null,"Količina/\nQTY","UKUPNO/\nTOTAL",null,"Količina/\nQTY","UKUPNO/\nTOTAL",null,"Količina/\nQTY","UKUPNO/\nTOTAL",null,"Količina/\nQTY","UKUPNO/\nTOTAL",null,"Količina/\nQTY","UKUPNO/\nTOTAL",null,"Količina/\nQTY","UKUPNO/\nTOTAL",null,"Količina/\nQTY","UKUPNO/\nTOTAL",null,"Količina/\nQTY","UKUPNO/\nTOTAL",null,"Količina/\nQTY","UKUPNO/\nTOTAL",null,"Količina/\nQTY","UKUPNO/\nTOTAL",null,"Količina/\nQTY","UKUPNO/\nTOTAL",null,"Količina/\nQTY","UKUPNO/\nTOTAL",null,"Količina/\nQTY","UKUPNO/\nTOTAL",null,"Količina/\nQTY","UKUPNO/\nTOTAL",null,"Količina/\nQTY","UKUPNO/\nTOTAL",null,"Količina/\nQTY","UKUPNO/\nTOTAL",null,"Količina/\nQTY","UKUPNO/\nTOTAL",null,"Količina/\nQTY","UKUPNO/\nTOTAL",null,"Količina/\nQTY","UKUPNO/\nTOTAL",null,"Količina/\nQTY","UKUPNO/\nTOTAL",null,"Količina/\nQTY","UKUPNO/\nTOTAL",null,"Količina/\nQTY","UKUPNO/\nTOTAL",null,"Količina/\nQTY","UKUPNO/\nTOTAL",null,"Količina/\nQTY","UKUPNO/\nTOTAL",null,"Količina/\nQTY","UKUPNO/\nTOTAL",null,"Količina/\nQTY","UKUPNO/\nTOTAL",null,"Količina/\nQTY","UKUPNO/\nTOTAL"]
[null,null,null,null,null,null,null,null,null,{"$f":"CONCATENATE(\"ID\",J2)","v":"IDII-553-16/2015-49/2"},null,null,{"$f":"CONCATENATE(\"ID\",M2)","v":"IDII-553-16/2015-49/7"},null,null,{"$f":"CONCATENATE(\"ID\",P2)","v":"IDII-553-16/2015-49/8"},null,null,{"$f":"CONCATENATE(\"ID\",S2)","v":"IDII-553-16/2015-49/6"},null,null,{"$f":"CONCATENATE(\"ID\",V2)","v":"IDII-553-16/2015-49/1"},null,null,{"$f":"CONCATENATE(\"ID\",Y2)","v":"IDII-553-16/2015-49/4"},null,null,{"$f":"CONCATENATE(\"ID\",AB2)","v":"ID"},null,null,{"$f":"CONCATENATE(\"ID\",AE2)","v":"ID"},null,null,{"$f":"CONCATENATE(\"ID\",AH2)","v":"ID"},null,null,{"$f":"CONCATENATE(\"ID\",AK2)","v":"ID"},null,null,{"$f":"CONCATENATE(\"ID\",AN2)","v":"ID"},null,null,{"$f":"CONCATENATE(\"ID\",AQ2)","v":"ID"},null,null,{"$f":"CONCATENATE(\"ID\",AT2)","v":"ID"},null,null,{"$f":"CONCATENATE(\"ID\",AW2)","v":"ID"},null,null,{"$f":"CONCATENATE(\"ID\",AZ2)","v":"ID"},null,null,{"$f":"CONCATENATE(\"ID\",BC2)","v":"ID"},null,null,{"$f":"CONCATENATE(\"ID\",BF2)","v":"ID"},null,null,{"$f":"CONCATENATE(\"ID\",BI2)","v":"ID"},null,null,{"$f":"CONCATENATE(\"ID\",BL2)","v":"ID"},null,null,{"$f":"CONCATENATE(\"ID\",BO2)","v":"ID"},null,null,{"$f":"CONCATENATE(\"ID\",BR2)","v":"ID"},null,null,{"$f":"CONCATENATE(\"ID\",BU2)","v":"ID"},null,null,{"$f":"CONCATENATE(\"ID\",BX2)","v":"ID"},null,null,{"$f":"CONCATENATE(\"ID\",CA2)","v":"ID"},null,null,{"$f":"CONCATENATE(\"ID\",CD2)","v":"ID"},null,null,{"$f":"CONCATENATE(\"ID\",CG2)","v":"ID"},null,null,{"$f":"CONCATENATE(\"ID\",CJ2)","v":"ID"},null,null,{"$f":"CONCATENATE(\"ID\",CM2)","v":"ID"},null,null,{"$f":"CONCATENATE(\"ID\",CP2)","v":"ID"},null,null,{"$f":"CONCATENATE(\"ID\",CS2)","v":"ID"},null,null,{"$f":"CONCATENATE(\"ID\",CV2)","v":"ID"},null,null,{"$f":"CONCATENATE(\"ID\",CY2)","v":"ID"},null,null,{"$f":"CONCATENATE(\"ID\",DB2)","v":"ID"},null,null,{"$f":"CONCATENATE(\"ID\",DE2)","v":"ID"},null,null,{"$f":"CONCATENATE(\"ID\",DH2)","v":"ID"},null,null,{"$f":"CONCATENATE(\"ID\",DK2)","v":"ID"},null,null,{"$f":"CONCATENATE(\"ID\",DN2)","v":"ID"},null,null,{"$f":"CONCATENATE(\"ID\",DQ2)","v":"ID"},null,null,{"$f":"CONCATENATE(\"ID\",DT2)","v":"ID"},null,null,{"$f":"CONCATENATE(\"ID\",DW2)","v":"ID"},null,null,{"$f":"CONCATENATE(\"ID\",DZ2)","v":"ID"},null,null,{"$f":"CONCATENATE(\"ID\",EC2)","v":"ID"},null,null,{"$f":"CONCATENATE(\"ID\",EF2)","v":"ID"},null,null,{"$f":"CONCATENATE(\"ID\",EI2)","v":"ID"},null,null,{"$f":"CONCATENATE(\"ID\",EL2)","v":"ID"},null,null,{"$f":"CONCATENATE(\"ID\",EO2)","v":"ID"},null,null,{"$f":"CONCATENATE(\"ID\",ER2)","v":"ID"},null,null,{"$f":"CONCATENATE(\"ID\",EU2)","v":"ID"},null,null,{"$f":"CONCATENATE(\"ID\",EX2)","v":"ID"},null,null,{"$f":"CONCATENATE(\"ID\",FA2)","v":"ID"},null,null,{"$f":"CONCATENATE(\"ID\",FD2)","v":"ID"},null,null,{"$f":"CONCATENATE(\"ID\",FG2)","v":"ID"},null,null,{"$f":"CONCATENATE(\"ID\",FJ2)","v":"ID"},null,null,{"$f":"CONCATENATE(\"ID\",FM2)","v":"ID"},null,null,{"$f":"CONCATENATE(\"ID\",FP2)","v":"ID"},null,null,{"$f":"CONCATENATE(\"ID\",FS2)","v":"ID"},null,null,{"$f":"CONCATENATE(\"ID\",FV2)","v":"ID"},null,null,{"$f":"CONCATENATE(\"ID\",FY2)","v":"ID"},null,null,{"$f":"CONCATENATE(\"ID\",GB2)","v":"ID"},null,null,{"$f":"CONCATENATE(\"ID\",GE2)","v":"ID"},null,null,{"$f":"CONCATENATE(\"ID\",GH2)","v":"ID"},null,null,{"$f":"CONCATENATE(\"ID\",GK2)","v":"ID"},null,null,{"$f":"CONCATENATE(\"ID\",GN2)","v":"ID"},null,null,{"$f":"CONCATENATE(\"ID\",GQ2)","v":"ID"},null,null,{"$f":"CONCATENATE(\"ID\",GT2)","v":"ID"},null,null,{"$f":"CONCATENATE(\"ID\",GW2)","v":"ID"},null,null,{"$f":"CONCATENATE(\"ID\",GZ2)","v":"ID"},null,null,{"$f":"CONCATENATE(\"ID\",HC2)","v":"ID"},null,null,{"$f":"CONCATENATE(\"ID\",HF2)","v":"ID"},null,null,{"$f":"CONCATENATE(\"ID\",HI2)","v":"ID"}]
[1,"A",null,"OSNOVNI GRAĐEVINSKI MATERIJAL","BASIC BUILDING MATERIALS"]
["1.1","O",1,"Cement  za betone do MB 30","Cement for concrete up to 30 MB","kg",{"$f":"CENA!G5","v":0},{"$f":"J14+M14+P14+S14+V14+Y14+AB14+AE14+AH14+AK14+AN14+AQ14+AZ14+AW14+AT14+BC14+BF14+BI14+BL14+BO14+BR14+BU14+BX14+CA14+CD14+CG14+CJ14+CM14+CP14+CS14+CV14+CY14+DB14+DE14+DH14+DK14+DN14+DQ14+DT14+DW14+DZ14+EC14+EF14+EI14+EL14+EO14+ER14+EU14+EX14+FA14+FD14+FG14+FJ14+FM14+FP14+FS14+FV14+FY14+GB14+GE14+GH14+GK14+GN14+GQ14+GT14+GW14+GZ14+HC14+HF14+HI14","v":5700},{"$f":"G14*H14","v":0},null,{"$f":"$G14*J14","v":0},null,1300,{"$f":"$G14*M14","v":0},null,1700,{"$f":"$G14*P14","v":0},null,1550,{"$f":"$G14*S14","v":0},null,null,{"$f":"$G14*V14","v":0},null,1150,{"$f":"$G14*Y14","v":0},null,null,{"$f":"$G14*AB14","v":0},null,null,{"$f":"$G14*AE14","v":0},null,null,{"$f":"$G14*AH14","v":0},null,null,{"$f":"$G14*AK14","v":0},null,null,{"$f":"$G14*AN14","v":0},null,null,{"$f":"$G14*AQ14","v":0},null,null,{"$f":"$G14*AT14","v":0},null,null,{"$f":"$G14*AW14","v":0},null,null,{"$f":"$G14*AZ14","v":0},null,null,{"$f":"$G14*BC14","v":0},null,null,{"$f":"$G14*BF14","v":0},null,null,{"$f":"$G14*BI14","v":0},null,null,{"$f":"$G14*BL14","v":0},null,null,{"$f":"$G14*BO14","v":0},null,null,{"$f":"$G14*BR14","v":0},null,null,{"$f":"$G14*BU14","v":0},null,null,{"$f":"$G14*BX14","v":0},null,null,{"$f":"$G14*CA14","v":0},null,null,{"$f":"$G14*CD14","v":0},null,null,{"$f":"$G14*CG14","v":0},null,null,{"$f":"$G14*CJ14","v":0},null,null,{"$f":"$G14*CM14","v":0},null,null,{"$f":"$G14*CP14","v":0},null,null,{"$f":"$G14*CS14","v":0},null,null,{"$f":"$G14*CV14","v":0},null,null,{"$f":"$G14*CY14","v":0},null,null,{"$f":"$G14*DB14","v":0},null,null,{"$f":"$G14*DE14","v":0},null,null,{"$f":"$G14*DH14","v":0},null,null,{"$f":"$G14*DK14","v":0},null,null,{"$f":"$G14*DN14","v":0},null,null,{"$f":"$G14*DQ14","v":0},null,null,{"$f":"$G14*DT14","v":0},null,null,{"$f":"$G14*DW14","v":0},null,null,{"$f":"$G14*DZ14","v":0},null,null,{"$f":"$G14*EC14","v":0},null,null,{"$f":"$G14*EF14","v":0},null,null,{"$f":"$G14*EI14","v":0},null,null,{"$f":"$G14*EL14","v":0},null,null,{"$f":"$G14*EO14","v":0},null,null,{"$f":"$G14*ER14","v":0},null,null,{"$f":"$G14*EU14","v":0},null,null,{"$f":"$G14*EX14","v":0},null,null,{"$f":"$G14*FA14","v":0},null,null,{"$f":"$G14*FD14","v":0},null,null,{"$f":"$G14*FG14","v":0},null,null,{"$f":"$G14*FJ14","v":0},null,null,{"$f":"$G14*FM14","v":0},null,null,{"$f":"$G14*FP14","v":0},null,null,{"$f":"$G14*FS14","v":0},null,null,{"$f":"$G14*FV14","v":0},null,null,{"$f":"$G14*FY14","v":0},null,null,{"$f":"$G14*GB14","v":0},null,null,{"$f":"$G14*GE14","v":0},null,null,{"$f":"$G14*GH14","v":0},null,null,{"$f":"$G14*GK14","v":0},null,null,{"$f":"$G14*GN14","v":0},null,null,{"$f":"$G14*GQ14","v":0},null,null,{"$f":"$G14*GT14","v":0},null,null,{"$f":"$G14*GW14","v":0},null,null,{"$f":"$G14*GZ14","v":0},null,null,{"$f":"$G14*HC14","v":0},null,null,{"$f":"$G14*HF14","v":0},null,null,{"$f":"$G14*HI14","v":0}]
["1.2","O",2,"Hidratisani gašeni kreč pripremljen u prahu","Hydrated slaked lime powdered","kg",{"$f":"CENA!G6","v":0},{"$f":"J15+M15+P15+S15+V15+Y15+AB15+AE15+AH15+AK15+AN15+AQ15+AZ15+AW15+AT15+BC15+BF15+BI15+BL15+BO15+BR15+BU15+BX15+CA15+CD15+CG15+CJ15+CM15+CP15+CS15+CV15+CY15+DB15+DE15+DH15+DK15+DN15+DQ15+DT15+DW15+DZ15+EC15+EF15+EI15+EL15+EO15+ER15+EU15+EX15+FA15+FD15+FG15+FJ15+FM15+FP15+FS15+FV15+FY15+GB15+GE15+GH15+GK15+GN15+GQ15+GT15+GW15+GZ15+HC15+HF15+HI15","v":500},{"$f":"G15*H15","v":0},null,{"$f":"$G15*J15","v":0},null,null,0,null,null,{"$f":"$G15*P15","v":0},null,null,{"$f":"$G15*S15","v":0},null,null,{"$f":"$G15*V15","v":0},null,500,{"$f":"$G15*Y15","v":0},null,null,{"$f":"$G15*AB15","v":0},null,null,{"$f":"$G15*AE15","v":0},null,null,{"$f":"$G15*AH15","v":0},null,null,{"$f":"$G15*AK15","v":0},null,null,{"$f":"$G15*AN15","v":0},null,null,{"$f":"$G15*AQ15","v":0},null,null,{"$f":"$G15*AT15","v":0},null,null,{"$f":"$G15*AW15","v":0},null,null,{"$f":"$G15*AZ15","v":0},null,null,{"$f":"$G15*BC15","v":0},null,null,0,null,null,0,null,null,{"$f":"$G15*BL15","v":0},null,null,{"$f":"$G15*BO15","v":0},null,null,{"$f":"$G15*BR15","v":0},null,null,{"$f":"$G15*BU15","v":0},null,null,{"$f":"$G15*BX15","v":0},null,null,{"$f":"$G15*CA15","v":0},null,null,{"$f":"$G15*CD15","v":0},null,null,{"$f":"$G15*CG15","v":0},null,null,{"$f":"$G15*CJ15","v":0},null,null,{"$f":"$G15*CM15","v":0},null,null,{"$f":"$G15*CP15","v":0},null,null,{"$f":"$G15*CS15","v":0},null,null,{"$f":"$G15*CV15","v":0},null,null,{"$f":"$G15*CY15","v":0},null,null,0,null,null,0,null,null,{"$f":"$G15*DH15","v":0},null,null,{"$f":"$G15*DK15","v":0},null,null,{"$f":"$G15*DN15","v":0},null,null,{"$f":"$G15*DQ15","v":0},null,null,{"$f":"$G15*DT15","v":0},null,null,{"$f":"$G15*DW15","v":0},null,null,{"$f":"$G15*DZ15","v":0},null,null,{"$f":"$G15*EC15","v":0},null,null,{"$f":"$G15*EF15","v":0},null,null,{"$f":"$G15*EI15","v":0},null,null,{"$f":"$G15*EL15","v":0},null,null,{"$f":"$G15*EO15","v":0},null,null,{"$f":"$G15*ER15","v":0},null,null,{"$f":"$G15*EU15","v":0},null,null,0,null,null,0,null,null,{"$f":"$G15*FD15","v":0},null,null,{"$f":"$G15*FG15","v":0},null,null,{"$f":"$G15*FJ15","v":0},null,null,{"$f":"$G15*FM15","v":0},null,null,{"$f":"$G15*FP15","v":0},null,null,{"$f":"$G15*FS15","v":0},null,null,{"$f":"$G15*FV15","v":0},null,null,{"$f":"$G15*FY15","v":0},null,null,{"$f":"$G15*GB15","v":0},null,null,{"$f":"$G15*GE15","v":0},null,null,{"$f":"$G15*GH15","v":0},null,null,{"$f":"$G15*GK15","v":0},null,null,{"$f":"$G15*GN15","v":0},null,null,{"$f":"$G15*GQ15","v":0},null,null,{"$f":"$G15*GT15","v":0},null,null,{"$f":"$G15*GW15","v":0},null,null,{"$f":"$G15*GZ15","v":0},null,null,{"$f":"$G15*HC15","v":0},null,null,{"$f":"$G15*HF15","v":0},null,null,{"$f":"$G15*HI15","v":0}]
["1.3","O",3,"Rebrasto betonsko gvožđe (RA) ","Ribbed reinforcement steel","/","/","/","/","/","/",null,"/","/",null,"/","/",null,"/","/",null,"/","/",null,"/","/",null,"/","/",null,"/","/",null,"/","/",null,"/","/",null,"/","/",null,"/","/",null,"/","/",null,"/","/",null,"/","/",null,"/","/",null,"/","/",null,"/","/",null,"/","/",null,"/","/",null,"/","/",null,"/","/",null,"/","/",null,"/","/",null,"/","/",null,"/","/",null,"/","/",null,"/","/",null,"/","/",null,"/","/",null,"/","/",null,"/","/",null,"/","/",null,"/","/",null,"/","/",null,"/","/",null,"/","/",null,"/","/",null,"/","/",null,"/","/",null,"/","/",null,"/","/",null,"/","/",null,"/","/",null,"/","/",null,"/","/",null,"/","/",null,"/","/",null,"/","/",null,"/","/",null,"/","/",null,"/","/",null,"/","/",null,"/","/",null,"/","/",null,"/","/",null,"/","/",null,"/","/",null,"/","/",null,"/","/",null,"/","/",null,"/","/",null,"/","/",null,"/","/",null,"/","/",null,"/","/",null,"/","/",null,"/","/",null,"/","/",null,"/","/"]
["1.3.1",null,"A","10 mm   - dužine 12m","10 mm   - length 12m ","kg",{"$f":"CENA!G8","v":0},{"$f":"J17+M17+P17+S17+V17+Y17+AB17+AE17+AH17+AK17+AN17+AQ17+AZ17+AW17+AT17+BC17+BF17+BI17+BL17+BO17+BR17+BU17+BX17+CA17+CD17+CG17+CJ17+CM17+CP17+CS17+CV17+CY17+DB17+DE17+DH17+DK17+DN17+DQ17+DT17+DW17+DZ17+EC17+EF17+EI17+EL17+EO17+ER17+EU17+EX17+FA17+FD17+FG17+FJ17+FM17+FP17+FS17+FV17+FY17+GB17+GE17+GH17+GK17+GN17+GQ17+GT17+GW17+GZ17+HC17+HF17+HI17","v":0},{"$f":"G17*H17","v":0},null,{"$f":"$G17*J17","v":0},{"$f":"J17/$HM$17","v":0},null,{"$f":"$G17*M17","v":0},{"$f":"M17/$HM$17","v":0},null,{"$f":"$G17*P17","v":0},{"$f":"P17/$HM$17","v":0},null,{"$f":"$G17*S17","v":0},{"$f":"S17/$HM$17","v":0},null,{"$f":"$G17*V17","v":0},{"$f":"V17/$HM$17","v":0},null,{"$f":"$G17*Y17","v":0},{"$f":"Y17/$HM$17","v":0},null,{"$f":"$G17*AB17","v":0},{"$f":"AB17/$HM$17","v":0},null,{"$f":"$G17*AE17","v":0},{"$f":"AE17/$HM$17","v":0},null,{"$f":"$G17*AH17","v":0},{"$f":"AH17/$HM$17","v":0},null,{"$f":"$G17*AK17","v":0},{"$f":"AK17/$HM$17","v":0},null,{"$f":"$G17*AN17","v":0},{"$f":"AN17/$HM$17","v":0},null,{"$f":"$G17*AQ17","v":0},{"$f":"AQ17/$HM$17","v":0},null,{"$f":"$G17*AT17","v":0},{"$f":"AT17/$HM$17","v":0},null,{"$f":"$G17*AW17","v":0},{"$f":"AW17/$HM$17","v":0},null,{"$f":"$G17*AZ17","v":0},{"$f":"AZ17/$HM$17","v":0},null,{"$f":"$G17*BC17","v":0},{"$f":"BC17/$HM$17","v":0},null,{"$f":"$G17*BF17","v":0},{"$f":"BF17/$HM$17","v":0},null,{"$f":"$G17*BI17","v":0},{"$f":"BI17/$HM$17","v":0},null,{"$f":"$G17*BL17","v":0},{"$f":"BL17/$HM$17","v":0},null,{"$f":"$G17*BO17","v":0},{"$f":"BO17/$HM$17","v":0},null,{"$f":"$G17*BR17","v":0},{"$f":"BR17/$HM$17","v":0},null,{"$f":"$G17*BU17","v":0},{"$f":"BU17/$HM$17","v":0},null,{"$f":"$G17*BX17","v":0},{"$f":"BX17/$HM$17","v":0},null,{"$f":"$G17*CA17","v":0},{"$f":"CA17/$HM$17","v":0},null,{"$f":"$G17*CD17","v":0},{"$f":"CD17/$HM$17","v":0},null,{"$f":"$G17*CG17","v":0},{"$f":"CG17/$HM$17","v":0},null,{"$f":"$G17*CJ17","v":0},{"$f":"CJ17/$HM$17","v":0},null,{"$f":"$G17*CM17","v":0},{"$f":"CM17/$HM$17","v":0},null,{"$f":"$G17*CP17","v":0},{"$f":"CP17/$HM$17","v":0},null,{"$f":"$G17*CS17","v":0},{"$f":"CS17/$HM$17","v":0},null,{"$f":"$G17*CV17","v":0},{"$f":"CV17/$HM$17","v":0},null,{"$f":"$G17*CY17","v":0},{"$f":"CY17/$HM$17","v":0},null,{"$f":"$G17*DB17","v":0},{"$f":"DB17/$HM$17","v":0},null,{"$f":"$G17*DE17","v":0},{"$f":"DE17/$HM$17","v":0},null,{"$f":"$G17*DH17","v":0},{"$f":"DH17/$HM$17","v":0},null,{"$f":"$G17*DK17","v":0},{"$f":"DK17/$HM$17","v":0},null,{"$f":"$G17*DN17","v":0},{"$f":"DN17/$HM$17","v":0},null,{"$f":"$G17*DQ17","v":0},{"$f":"DQ17/$HM$17","v":0},null,{"$f":"$G17*DT17","v":0},{"$f":"DT17/$HM$17","v":0},null,{"$f":"$G17*DW17","v":0},{"$f":"DW17/$HM$17","v":0},null,{"$f":"$G17*DZ17","v":0},{"$f":"DZ17/$HM$17","v":0},null,{"$f":"$G17*EC17","v":0},{"$f":"EC17/$HM$17","v":0},null,{"$f":"$G17*EF17","v":0},{"$f":"EF17/$HM$17","v":0},null,{"$f":"$G17*EI17","v":0},{"$f":"EI17/$HM$17","v":0},null,{"$f":"$G17*EL17","v":0},{"$f":"EL17/$HM$17","v":0},null,{"$f":"$G17*EO17","v":0},{"$f":"EO17/$HM$17","v":0},null,{"$f":"$G17*ER17","v":0},{"$f":"ER17/$HM$17","v":0},null,{"$f":"$G17*EU17","v":0},{"$f":"EU17/$HM$17","v":0},null,{"$f":"$G17*EX17","v":0},{"$f":"EX17/$HM$17","v":0},null,{"$f":"$G17*FA17","v":0},{"$f":"FA17/$HM$17","v":0},null,{"$f":"$G17*FD17","v":0},{"$f":"FD17/$HM$17","v":0},null,{"$f":"$G17*FG17","v":0},{"$f":"FG17/$HM$17","v":0},null,{"$f":"$G17*FJ17","v":0},{"$f":"FJ17/$HM$17","v":0},null,{"$f":"$G17*FM17","v":0},{"$f":"FM17/$HM$17","v":0},null,{"$f":"$G17*FP17","v":0},{"$f":"FP17/$HM$17","v":0},null,{"$f":"$G17*FS17","v":0},{"$f":"FS17/$HM$17","v":0},null,{"$f":"$G17*FV17","v":0},{"$f":"FV17/$HM$17","v":0},null,{"$f":"$G17*FY17","v":0},{"$f":"FY17/$HM$17","v":0},null,{"$f":"$G17*GB17","v":0},{"$f":"GB17/$HM$17","v":0},null,{"$f":"$G17*GE17","v":0},{"$f":"GE17/$HM$17","v":0},null,{"$f":"$G17*GH17","v":0},{"$f":"GH17/$HM$17","v":0},null,{"$f":"$G17*GK17","v":0},{"$f":"GK17/$HM$17","v":0},null,{"$f":"$G17*GN17","v":0},{"$f":"GN17/$HM$17","v":0},null,{"$f":"$G17*GQ17","v":0},{"$f":"GQ17/$HM$17","v":0},null,{"$f":"$G17*GT17","v":0},{"$f":"GT17/$HM$17","v":0},null,{"$f":"$G17*GW17","v":0},{"$f":"GW17/$HM$17","v":0},null,{"$f":"$G17*GZ17","v":0},{"$f":"GZ17/$HM$17","v":0},null,{"$f":"$G17*HC17","v":0},{"$f":"HC17/$HM$17","v":0},null,{"$f":"$G17*HF17","v":0},{"$f":"HF17/$HM$17","v":0},null,{"$f":"$G17*HI17","v":0},{"$f":"HI17/$HM$17","v":0},null,7.74]
["1.3.2",null,"B","12 mm   - dužine 12m","12 mm   - length 12m","kg",{"$f":"CENA!G9","v":0},0,0,null,{"$f":"$G18*J18","v":0},{"$f":"J18/$HM$18","v":0},null,0,{"$f":"M18/$HM$18","v":0},null,{"$f":"$G18*P18","v":0},{"$f":"P18/$HM$18","v":0},0,{"$f":"$G18*S18","v":0},{"$f":"S18/$HM$18","v":0},null,{"$f":"$G18*V18","v":0},{"$f":"V18/$HM$18","v":0},null,{"$f":"$G18*Y18","v":0},{"$f":"Y18/$HM$18","v":0},null,{"$f":"$G18*AB18","v":0},{"$f":"AB18/$HM$18","v":0},null,{"$f":"$G18*AE18","v":0},{"$f":"AE18/$HM$18","v":0},null,{"$f":"$G18*AH18","v":0},{"$f":"AH18/$HM$18","v":0},null,{"$f":"$G18*AK18","v":0},{"$f":"AK18/$HM$18","v":0},null,{"$f":"$G18*AN18","v":0},{"$f":"AN18/$HM$18","v":0},null,{"$f":"$G18*AQ18","v":0},{"$f":"AQ18/$HM$18","v":0},null,{"$f":"$G18*AT18","v":0},{"$f":"AT18/$HM$18","v":0},null,{"$f":"$G18*AW18","v":0},{"$f":"AW18/$HM$18","v":0},null,{"$f":"$G18*AZ18","v":0},{"$f":"AZ18/$HM$18","v":0},null,{"$f":"$G18*BC18","v":0},{"$f":"BC18/$HM$18","v":0},null,0,{"$f":"BF18/$HM$18","v":0},null,0,{"$f":"BI18/$HM$18","v":0},null,{"$f":"$G18*BL18","v":0},{"$f":"BL18/$HM$18","v":0},0,{"$f":"$G18*BO18","v":0},{"$f":"BO18/$HM$18","v":0},null,{"$f":"$G18*BR18","v":0},{"$f":"BR18/$HM$18","v":0},null,{"$f":"$G18*BU18","v":0},{"$f":"BU18/$HM$18","v":0},null,{"$f":"$G18*BX18","v":0},{"$f":"BX18/$HM$18","v":0},null,{"$f":"$G18*CA18","v":0},{"$f":"CA18/$HM$18","v":0},null,{"$f":"$G18*CD18","v":0},{"$f":"CD18/$HM$18","v":0},null,{"$f":"$G18*CG18","v":0},{"$f":"CG18/$HM$18","v":0},null,{"$f":"$G18*CJ18","v":0},{"$f":"CJ18/$HM$18","v":0},null,{"$f":"$G18*CM18","v":0},{"$f":"CM18/$HM$18","v":0},null,{"$f":"$G18*CP18","v":0},{"$f":"CP18/$HM$18","v":0},null,{"$f":"$G18*CS18","v":0},{"$f":"CS18/$HM$18","v":0},null,{"$f":"$G18*CV18","v":0},{"$f":"CV18/$HM$18","v":0},null,{"$f":"$G18*CY18","v":0},{"$f":"CY18/$HM$18","v":0},null,0,{"$f":"DB18/$HM$18","v":0},null,0,{"$f":"DE18/$HM$18","v":0},null,{"$f":"$G18*DH18","v":0},{"$f":"DH18/$HM$18","v":0},0,{"$f":"$G18*DK18","v":0},{"$f":"DK18/$HM$18","v":0},null,{"$f":"$G18*DN18","v":0},{"$f":"DN18/$HM$18","v":0},null,{"$f":"$G18*DQ18","v":0},{"$f":"DQ18/$HM$18","v":0},null,{"$f":"$G18*DT18","v":0},{"$f":"DT18/$HM$18","v":0},null,{"$f":"$G18*DW18","v":0},{"$f":"DW18/$HM$18","v":0},null,{"$f":"$G18*DZ18","v":0},{"$f":"DZ18/$HM$18","v":0},null,{"$f":"$G18*EC18","v":0},{"$f":"EC18/$HM$18","v":0},null,{"$f":"$G18*EF18","v":0},{"$f":"EF18/$HM$18","v":0},null,{"$f":"$G18*EI18","v":0},{"$f":"EI18/$HM$18","v":0},null,{"$f":"$G18*EL18","v":0},{"$f":"EL18/$HM$18","v":0},null,{"$f":"$G18*EO18","v":0},{"$f":"EO18/$HM$18","v":0},null,{"$f":"$G18*ER18","v":0},{"$f":"ER18/$HM$18","v":0},null,{"$f":"$G18*EU18","v":0},{"$f":"EU18/$HM$18","v":0},null,0,{"$f":"EX18/$HM$18","v":0},null,0,{"$f":"FA18/$HM$18","v":0},null,{"$f":"$G18*FD18","v":0},{"$f":"FD18/$HM$18","v":0},0,{"$f":"$G18*FG18","v":0},{"$f":"FG18/$HM$18","v":0},null,{"$f":"$G18*FJ18","v":0},{"$f":"FJ18/$HM$18","v":0},null,{"$f":"$G18*FM18","v":0},{"$f":"FM18/$HM$18","v":0},null,{"$f":"$G18*FP18","v":0},{"$f":"FP18/$HM$18","v":0},null,{"$f":"$G18*FS18","v":0},{"$f":"FS18/$HM$18","v":0},null,{"$f":"$G18*FV18","v":0},{"$f":"FV18/$HM$18","v":0},null,{"$f":"$G18*FY18","v":0},{"$f":"FY18/$HM$18","v":0},null,{"$f":"$G18*GB18","v":0},{"$f":"GB18/$HM$18","v":0},null,{"$f":"$G18*GE18","v":0},{"$f":"GE18/$HM$18","v":0},null,{"$f":"$G18*GH18","v":0},{"$f":"GH18/$HM$18","v":0},null,{"$f":"$G18*GK18","v":0},{"$f":"GK18/$HM$18","v":0},null,{"$f":"$G18*GN18","v":0},{"$f":"GN18/$HM$18","v":0},null,{"$f":"$G18*GQ18","v":0},{"$f":"GQ18/$HM$18","v":0},null,{"$f":"$G18*GT18","v":0},{"$f":"GT18/$HM$18","v":0},null,{"$f":"$G18*GW18","v":0},{"$f":"GW18/$HM$18","v":0},null,{"$f":"$G18*GZ18","v":0},{"$f":"GZ18/$HM$18","v":0},null,{"$f":"$G18*HC18","v":0},{"$f":"HC18/$HM$18","v":0},null,{"$f":"$G18*HF18","v":0},{"$f":"HF18/$HM$18","v":0},null,{"$f":"$G18*HI18","v":0},{"$f":"HI18/$HM$18","v":0},null,11.14]
["1.3.3",null,"C","14 mm   - dužine 12m","14 mm   - length 12m","kg",{"$f":"CENA!G10","v":0},0,0,null,{"$f":"$G19*J19","v":0},{"$f":"J19/$HM$19","v":0},null,0,{"$f":"M19/$HM$19","v":0},null,{"$f":"$G19*P19","v":0},{"$f":"P19/$HM$19","v":0},null,{"$f":"$G19*S19","v":0},{"$f":"S19/$HM$19","v":0},null,{"$f":"$G19*V19","v":0},{"$f":"V19/$HM$19","v":0},null,{"$f":"$G19*Y19","v":0},{"$f":"Y19/$HM$19","v":0},null,{"$f":"$G19*AB19","v":0},{"$f":"AB19/$HM$19","v":0},null,{"$f":"$G19*AE19","v":0},{"$f":"AE19/$HM$19","v":0},null,{"$f":"$G19*AH19","v":0},{"$f":"AH19/$HM$19","v":0},null,{"$f":"$G19*AK19","v":0},{"$f":"AK19/$HM$19","v":0},null,{"$f":"$G19*AN19","v":0},{"$f":"AN19/$HM$19","v":0},null,{"$f":"$G19*AQ19","v":0},{"$f":"AQ19/$HM$19","v":0},null,{"$f":"$G19*AT19","v":0},{"$f":"AT19/$HM$19","v":0},null,{"$f":"$G19*AW19","v":0},{"$f":"AW19/$HM$19","v":0},null,{"$f":"$G19*AZ19","v":0},{"$f":"AZ19/$HM$19","v":0},null,{"$f":"$G19*BC19","v":0},{"$f":"BC19/$HM$19","v":0},null,0,{"$f":"BF19/$HM$19","v":0},null,0,{"$f":"BI19/$HM$19","v":0},null,{"$f":"$G19*BL19","v":0},{"$f":"BL19/$HM$19","v":0},null,{"$f":"$G19*BO19","v":0},{"$f":"BO19/$HM$19","v":0},null,{"$f":"$G19*BR19","v":0},{"$f":"BR19/$HM$19","v":0},null,{"$f":"$G19*BU19","v":0},{"$f":"BU19/$HM$19","v":0},null,{"$f":"$G19*BX19","v":0},{"$f":"BX19/$HM$19","v":0},null,{"$f":"$G19*CA19","v":0},{"$f":"CA19/$HM$19","v":0},null,{"$f":"$G19*CD19","v":0},{"$f":"CD19/$HM$19","v":0},null,{"$f":"$G19*CG19","v":0},{"$f":"CG19/$HM$19","v":0},null,{"$f":"$G19*CJ19","v":0},{"$f":"CJ19/$HM$19","v":0},null,{"$f":"$G19*CM19","v":0},{"$f":"CM19/$HM$19","v":0},null,{"$f":"$G19*CP19","v":0},{"$f":"CP19/$HM$19","v":0},null,{"$f":"$G19*CS19","v":0},{"$f":"CS19/$HM$19","v":0},null,{"$f":"$G19*CV19","v":0},{"$f":"CV19/$HM$19","v":0},null,{"$f":"$G19*CY19","v":0},{"$f":"CY19/$HM$19","v":0},null,0,{"$f":"DB19/$HM$19","v":0},null,0,{"$f":"DE19/$HM$19","v":0},null,{"$f":"$G19*DH19","v":0},{"$f":"DH19/$HM$19","v":0},null,{"$f":"$G19*DK19","v":0},{"$f":"DK19/$HM$19","v":0},null,{"$f":"$G19*DN19","v":0},{"$f":"DN19/$HM$19","v":0},null,{"$f":"$G19*DQ19","v":0},{"$f":"DQ19/$HM$19","v":0},null,{"$f":"$G19*DT19","v":0},{"$f":"DT19/$HM$19","v":0},null,{"$f":"$G19*DW19","v":0},{"$f":"DW19/$HM$19","v":0},null,{"$f":"$G19*DZ19","v":0},{"$f":"DZ19/$HM$19","v":0},null,{"$f":"$G19*EC19","v":0},{"$f":"EC19/$HM$19","v":0},null,{"$f":"$G19*EF19","v":0},{"$f":"EF19/$HM$19","v":0},null,{"$f":"$G19*EI19","v":0},{"$f":"EI19/$HM$19","v":0},null,{"$f":"$G19*EL19","v":0},{"$f":"EL19/$HM$19","v":0},null,{"$f":"$G19*EO19","v":0},{"$f":"EO19/$HM$19","v":0},null,{"$f":"$G19*ER19","v":0},{"$f":"ER19/$HM$19","v":0},null,{"$f":"$G19*EU19","v":0},{"$f":"EU19/$HM$19","v":0},null,0,{"$f":"EX19/$HM$19","v":0},null,0,{"$f":"FA19/$HM$19","v":0},null,{"$f":"$G19*FD19","v":0},{"$f":"FD19/$HM$19","v":0},null,{"$f":"$G19*FG19","v":0},{"$f":"FG19/$HM$19","v":0},null,{"$f":"$G19*FJ19","v":0},{"$f":"FJ19/$HM$19","v":0},null,{"$f":"$G19*FM19","v":0},{"$f":"FM19/$HM$19","v":0},null,{"$f":"$G19*FP19","v":0},{"$f":"FP19/$HM$19","v":0},null,{"$f":"$G19*FS19","v":0},{"$f":"FS19/$HM$19","v":0},null,{"$f":"$G19*FV19","v":0},{"$f":"FV19/$HM$19","v":0},null,{"$f":"$G19*FY19","v":0},{"$f":"FY19/$HM$19","v":0},null,{"$f":"$G19*GB19","v":0},{"$f":"GB19/$HM$19","v":0},null,{"$f":"$G19*GE19","v":0},{"$f":"GE19/$HM$19","v":0},null,{"$f":"$G19*GH19","v":0},{"$f":"GH19/$HM$19","v":0},null,{"$f":"$G19*GK19","v":0},{"$f":"GK19/$HM$19","v":0},null,{"$f":"$G19*GN19","v":0},{"$f":"GN19/$HM$19","v":0},null,{"$f":"$G19*GQ19","v":0},{"$f":"GQ19/$HM$19","v":0},null,{"$f":"$G19*GT19","v":0},{"$f":"GT19/$HM$19","v":0},null,{"$f":"$G19*GW19","v":0},{"$f":"GW19/$HM$19","v":0},null,{"$f":"$G19*GZ19","v":0},{"$f":"GZ19/$HM$19","v":0},null,{"$f":"$G19*HC19","v":0},{"$f":"HC19/$HM$19","v":0},null,{"$f":"$G19*HF19","v":0},{"$f":"HF19/$HM$19","v":0},null,{"$f":"$G19*HI19","v":0},{"$f":"HI19/$HM$19","v":0},null,15.17]
["1.3.4",null,"D","16 mm   - dužine 12m","16 mm   - length 12m","kg",{"$f":"CENA!G11","v":0},0,0,null,{"$f":"$G20*J20","v":0},{"$f":"J20/$HM$20","v":0},null,0,{"$f":"M20/$HM$20","v":0},null,{"$f":"$G20*P20","v":0},{"$f":"P20/$HM$20","v":0},null,{"$f":"$G20*S20","v":0},{"$f":"S20/$HM$20","v":0},null,{"$f":"$G20*V20","v":0},{"$f":"V20/$HM$20","v":0},null,{"$f":"$G20*Y20","v":0},{"$f":"Y20/$HM$20","v":0},null,{"$f":"$G20*AB20","v":0},{"$f":"AB20/$HM$20","v":0},null,{"$f":"$G20*AE20","v":0},{"$f":"AE20/$HM$20","v":0},null,{"$f":"$G20*AH20","v":0},{"$f":"AH20/$HM$20","v":0},null,{"$f":"$G20*AK20","v":0},{"$f":"AK20/$HM$20","v":0},null,{"$f":"$G20*AN20","v":0},{"$f":"AN20/$HM$20","v":0},null,{"$f":"$G20*AQ20","v":0},{"$f":"AQ20/$HM$20","v":0},null,{"$f":"$G20*AT20","v":0},{"$f":"AT20/$HM$20","v":0},null,{"$f":"$G20*AW20","v":0},{"$f":"AW20/$HM$20","v":0},null,{"$f":"$G20*AZ20","v":0},{"$f":"AZ20/$HM$20","v":0},null,{"$f":"$G20*BC20","v":0},{"$f":"BC20/$HM$20","v":0},null,0,{"$f":"BF20/$HM$20","v":0},null,0,{"$f":"BI20/$HM$20","v":0},null,{"$f":"$G20*BL20","v":0},{"$f":"BL20/$HM$20","v":0},null,{"$f":"$G20*BO20","v":0},{"$f":"BO20/$HM$20","v":0},null,{"$f":"$G20*BR20","v":0},{"$f":"BR20/$HM$20","v":0},null,{"$f":"$G20*BU20","v":0},{"$f":"BU20/$HM$20","v":0},null,{"$f":"$G20*BX20","v":0},{"$f":"BX20/$HM$20","v":0},null,{"$f":"$G20*CA20","v":0},{"$f":"CA20/$HM$20","v":0},null,{"$f":"$G20*CD20","v":0},{"$f":"CD20/$HM$20","v":0},null,{"$f":"$G20*CG20","v":0},{"$f":"CG20/$HM$20","v":0},null,{"$f":"$G20*CJ20","v":0},{"$f":"CJ20/$HM$20","v":0},null,{"$f":"$G20*CM20","v":0},{"$f":"CM20/$HM$20","v":0},null,{"$f":"$G20*CP20","v":0},{"$f":"CP20/$HM$20","v":0},null,{"$f":"$G20*CS20","v":0},{"$f":"CS20/$HM$20","v":0},null,{"$f":"$G20*CV20","v":0},{"$f":"CV20/$HM$20","v":0},null,{"$f":"$G20*CY20","v":0},{"$f":"CY20/$HM$20","v":0},null,0,{"$f":"DB20/$HM$20","v":0},null,0,{"$f":"DE20/$HM$20","v":0},null,{"$f":"$G20*DH20","v":0},{"$f":"DH20/$HM$20","v":0},null,{"$f":"$G20*DK20","v":0},{"$f":"DK20/$HM$20","v":0},null,{"$f":"$G20*DN20","v":0},{"$f":"DN20/$HM$20","v":0},null,{"$f":"$G20*DQ20","v":0},{"$f":"DQ20/$HM$20","v":0},null,{"$f":"$G20*DT20","v":0},{"$f":"DT20/$HM$20","v":0},null,{"$f":"$G20*DW20","v":0},{"$f":"DW20/$HM$20","v":0},null,{"$f":"$G20*DZ20","v":0},{"$f":"DZ20/$HM$20","v":0},null,{"$f":"$G20*EC20","v":0},{"$f":"EC20/$HM$20","v":0},null,{"$f":"$G20*EF20","v":0},{"$f":"EF20/$HM$20","v":0},null,{"$f":"$G20*EI20","v":0},{"$f":"EI20/$HM$20","v":0},null,{"$f":"$G20*EL20","v":0},{"$f":"EL20/$HM$20","v":0},null,{"$f":"$G20*EO20","v":0},{"$f":"EO20/$HM$20","v":0},null,{"$f":"$G20*ER20","v":0},{"$f":"ER20/$HM$20","v":0},null,{"$f":"$G20*EU20","v":0},{"$f":"EU20/$HM$20","v":0},null,0,{"$f":"EX20/$HM$20","v":0},null,0,{"$f":"FA20/$HM$20","v":0},null,{"$f":"$G20*FD20","v":0},{"$f":"FD20/$HM$20","v":0},null,{"$f":"$G20*FG20","v":0},{"$f":"FG20/$HM$20","v":0},null,{"$f":"$G20*FJ20","v":0},{"$f":"FJ20/$HM$20","v":0},null,{"$f":"$G20*FM20","v":0},{"$f":"FM20/$HM$20","v":0},null,{"$f":"$G20*FP20","v":0},{"$f":"FP20/$HM$20","v":0},null,{"$f":"$G20*FS20","v":0},{"$f":"FS20/$HM$20","v":0},null,{"$f":"$G20*FV20","v":0},{"$f":"FV20/$HM$20","v":0},null,{"$f":"$G20*FY20","v":0},{"$f":"FY20/$HM$20","v":0},null,{"$f":"$G20*GB20","v":0},{"$f":"GB20/$HM$20","v":0},null,{"$f":"$G20*GE20","v":0},{"$f":"GE20/$HM$20","v":0},null,{"$f":"$G20*GH20","v":0},{"$f":"GH20/$HM$20","v":0},null,{"$f":"$G20*GK20","v":0},{"$f":"GK20/$HM$20","v":0},null,{"$f":"$G20*GN20","v":0},{"$f":"GN20/$HM$20","v":0},null,{"$f":"$G20*GQ20","v":0},{"$f":"GQ20/$HM$20","v":0},null,{"$f":"$G20*GT20","v":0},{"$f":"GT20/$HM$20","v":0},null,{"$f":"$G20*GW20","v":0},{"$f":"GW20/$HM$20","v":0},null,{"$f":"$G20*GZ20","v":0},{"$f":"GZ20/$HM$20","v":0},null,{"$f":"$G20*HC20","v":0},{"$f":"HC20/$HM$20","v":0},null,{"$f":"$G20*HF20","v":0},{"$f":"HF20/$HM$20","v":0},null,{"$f":"$G20*HI20","v":0},{"$f":"HI20/$HM$20","v":0},null,19.809999999999999]
["1.4","O",4,"Glatko betonsko gvožđe (GA) ","Glibly reinforcement steel","/","/","/","/","/","/",null,"/","/",null,"/","/",null,"/","/",null,"/","/",null,"/","/",null,"/","/",null,"/","/",null,"/","/",null,"/","/",null,"/","/",null,"/","/",null,"/","/",null,"/","/",null,"/","/",null,"/","/",null,"/","/",null,"/","/",null,"/","/",null,"/","/",null,"/","/",null,"/","/",null,"/","/",null,"/","/",null,"/","/",null,"/","/",null,"/","/",null,"/","/",null,"/","/",null,"/","/",null,"/","/",null,"/","/",null,"/","/",null,"/","/",null,"/","/",null,"/","/",null,"/","/",null,"/","/",null,"/","/",null,"/","/",null,"/","/",null,"/","/",null,"/","/",null,"/","/",null,"/","/",null,"/","/",null,"/","/",null,"/","/",null,"/","/",null,"/","/",null,"/","/",null,"/","/",null,"/","/",null,"/","/",null,"/","/",null,"/","/",null,"/","/",null,"/","/",null,"/","/",null,"/","/",null,"/","/",null,"/","/",null,"/","/",null,"/","/",null,"/","/",null,"/","/",null,"/","/",null,"/","/",null,"/","/",null,"/","/"]
["1.4.1",null,"B","  8 mm   - dužine 12m","  8 mm   - length 12m","kg",{"$f":"CENA!G13","v":0},{"$f":"J22+M22+P22+S22+V22+Y22+AB22+AE22+AH22+AK22+AN22+AQ22+AZ22+AW22+AT22+BC22+BF22+BI22+BL22+BO22+BR22+BU22+BX22+CA22+CD22+CG22+CJ22+CM22+CP22+CS22+CV22+CY22+DB22+DE22+DH22+DK22+DN22+DQ22+DT22+DW22+DZ22+EC22+EF22+EI22+EL22+EO22+ER22+EU22+EX22+FA22+FD22+FG22+FJ22+FM22+FP22+FS22+FV22+FY22+GB22+GE22+GH22+GK22+GN22+GQ22+GT22+GW22+GZ22+HC22+HF22+HI22","v":0},{"$f":"G22*H22","v":0},null,{"$f":"$G22*J22","v":0},{"$f":"J22/$HM$22","v":0},null,{"$f":"$G22*M22","v":0},{"$f":"M22/$HM$22","v":0},null,{"$f":"$G22*P22","v":0},{"$f":"P22/$HM$22","v":0},null,{"$f":"$G22*S22","v":0},{"$f":"S22/$HM$22","v":0},null,{"$f":"$G22*V22","v":0},{"$f":"V22/$HM$22","v":0},null,{"$f":"$G22*Y22","v":0},{"$f":"Y22/$HM$22","v":0},null,{"$f":"$G22*AB22","v":0},{"$f":"AB22/$HM$22","v":0},null,{"$f":"$G22*AE22","v":0},{"$f":"AE22/$HM$22","v":0},null,{"$f":"$G22*AH22","v":0},{"$f":"AH22/$HM$22","v":0},null,{"$f":"$G22*AK22","v":0},{"$f":"AK22/$HM$22","v":0},null,{"$f":"$G22*AN22","v":0},{"$f":"AN22/$HM$22","v":0},null,{"$f":"$G22*AQ22","v":0},{"$f":"AQ22/$HM$22","v":0},null,{"$f":"$G22*AT22","v":0},{"$f":"AT22/$HM$22","v":0},null,{"$f":"$G22*AW22","v":0},{"$f":"AW22/$HM$22","v":0},null,{"$f":"$G22*AZ22","v":0},{"$f":"AZ22/$HM$22","v":0},null,{"$f":"$G22*BC22","v":0},{"$f":"BC22/$HM$22","v":0},null,{"$f":"$G22*BF22","v":0},{"$f":"BF22/$HM$22","v":0},null,{"$f":"$G22*BI22","v":0},{"$f":"BI22/$HM$22","v":0},null,{"$f":"$G22*BL22","v":0},{"$f":"BL22/$HM$22","v":0},null,{"$f":"$G22*BO22","v":0},{"$f":"BO22/$HM$22","v":0},null,{"$f":"$G22*BR22","v":0},{"$f":"BR22/$HM$22","v":0},null,{"$f":"$G22*BU22","v":0},{"$f":"BU22/$HM$22","v":0},null,{"$f":"$G22*BX22","v":0},{"$f":"BX22/$HM$22","v":0},null,{"$f":"$G22*CA22","v":0},{"$f":"CA22/$HM$22","v":0},null,{"$f":"$G22*CD22","v":0},{"$f":"CD22/$HM$22","v":0},null,{"$f":"$G22*CG22","v":0},{"$f":"CG22/$HM$22","v":0},null,{"$f":"$G22*CJ22","v":0},{"$f":"CJ22/$HM$22","v":0},null,{"$f":"$G22*CM22","v":0},{"$f":"CM22/$HM$22","v":0},null,{"$f":"$G22*CP22","v":0},{"$f":"CP22/$HM$22","v":0},null,{"$f":"$G22*CS22","v":0},{"$f":"CS22/$HM$22","v":0},null,{"$f":"$G22*CV22","v":0},{"$f":"CV22/$HM$22","v":0},null,{"$f":"$G22*CY22","v":0},{"$f":"CY22/$HM$22","v":0},null,{"$f":"$G22*DB22","v":0},{"$f":"DB22/$HM$22","v":0},null,{"$f":"$G22*DE22","v":0},{"$f":"DE22/$HM$22","v":0},null,{"$f":"$G22*DH22","v":0},{"$f":"DH22/$HM$22","v":0},null,{"$f":"$G22*DK22","v":0},{"$f":"DK22/$HM$22","v":0},null,{"$f":"$G22*DN22","v":0},{"$f":"DN22/$HM$22","v":0},null,{"$f":"$G22*DQ22","v":0},{"$f":"DQ22/$HM$22","v":0},null,{"$f":"$G22*DT22","v":0},{"$f":"DT22/$HM$22","v":0},null,{"$f":"$G22*DW22","v":0},{"$f":"DW22/$HM$22","v":0},null,{"$f":"$G22*DZ22","v":0},{"$f":"DZ22/$HM$22","v":0},null,{"$f":"$G22*EC22","v":0},{"$f":"EC22/$HM$22","v":0},null,{"$f":"$G22*EF22","v":0},{"$f":"EF22/$HM$22","v":0},null,{"$f":"$G22*EI22","v":0},{"$f":"EI22/$HM$22","v":0},null,{"$f":"$G22*EL22","v":0},{"$f":"EL22/$HM$22","v":0},null,{"$f":"$G22*EO22","v":0},{"$f":"EO22/$HM$22","v":0},null,{"$f":"$G22*ER22","v":0},{"$f":"ER22/$HM$22","v":0},null,{"$f":"$G22*EU22","v":0},{"$f":"EU22/$HM$22","v":0},null,{"$f":"$G22*EX22","v":0},{"$f":"EX22/$HM$22","v":0},null,{"$f":"$G22*FA22","v":0},{"$f":"FA22/$HM$22","v":0},null,{"$f":"$G22*FD22","v":0},{"$f":"FD22/$HM$22","v":0},null,{"$f":"$G22*FG22","v":0},{"$f":"FG22/$HM$22","v":0},null,{"$f":"$G22*FJ22","v":0},{"$f":"FJ22/$HM$22","v":0},null,{"$f":"$G22*FM22","v":0},{"$f":"FM22/$HM$22","v":0},null,{"$f":"$G22*FP22","v":0},{"$f":"FP22/$HM$22","v":0},null,{"$f":"$G22*FS22","v":0},{"$f":"FS22/$HM$22","v":0},null,{"$f":"$G22*FV22","v":0},{"$f":"FV22/$HM$22","v":0},null,{"$f":"$G22*FY22","v":0},{"$f":"FY22/$HM$22","v":0},null,{"$f":"$G22*GB22","v":0},{"$f":"GB22/$HM$22","v":0},null,{"$f":"$G22*GE22","v":0},{"$f":"GE22/$HM$22","v":0},null,{"$f":"$G22*GH22","v":0},{"$f":"GH22/$HM$22","v":0},null,{"$f":"$G22*GK22","v":0},{"$f":"GK22/$HM$22","v":0},null,{"$f":"$G22*GN22","v":0},{"$f":"GN22/$HM$22","v":0},null,{"$f":"$G22*GQ22","v":0},{"$f":"GQ22/$HM$22","v":0},null,{"$f":"$G22*GT22","v":0},{"$f":"GT22/$HM$22","v":0},null,{"$f":"$G22*GW22","v":0},{"$f":"GW22/$HM$22","v":0},null,{"$f":"$G22*GZ22","v":0},{"$f":"GZ22/$HM$22","v":0},null,{"$f":"$G22*HC22","v":0},{"$f":"HC22/$HM$22","v":0},null,{"$f":"$G22*HF22","v":0},{"$f":"HF22/$HM$22","v":0},null,{"$f":"$G22*HI22","v":0},{"$f":"HI22/$HM$22","v":0},null,4.74]
["1.4.2",null,"C","10 mm  - dužine 12m","10 mm  - length 12m","kg",{"$f":"CENA!G14","v":0},0,0,null,{"$f":"$G23*J23","v":0},{"$f":"J23/$HM$23","v":0},null,0,{"$f":"M23/$HM$23","v":0},null,{"$f":"$G23*P23","v":0},{"$f":"P23/$HM$23","v":0},null,{"$f":"$G23*S23","v":0},{"$f":"S23/$HM$23","v":0},null,{"$f":"$G23*V23","v":0},{"$f":"V23/$HM$23","v":0},null,{"$f":"$G23*Y23","v":0},{"$f":"Y23/$HM$23","v":0},null,{"$f":"$G23*AB23","v":0},{"$f":"AB23/$HM$23","v":0},null,{"$f":"$G23*AE23","v":0},{"$f":"AE23/$HM$23","v":0},null,{"$f":"$G23*AH23","v":0},{"$f":"AH23/$HM$23","v":0},null,{"$f":"$G23*AK23","v":0},{"$f":"AK23/$HM$23","v":0},null,{"$f":"$G23*AN23","v":0},{"$f":"AN23/$HM$23","v":0},null,{"$f":"$G23*AQ23","v":0},{"$f":"AQ23/$HM$23","v":0},null,{"$f":"$G23*AT23","v":0},{"$f":"AT23/$HM$23","v":0},null,{"$f":"$G23*AW23","v":0},{"$f":"AW23/$HM$23","v":0},null,{"$f":"$G23*AZ23","v":0},{"$f":"AZ23/$HM$23","v":0},null,{"$f":"$G23*BC23","v":0},{"$f":"BC23/$HM$23","v":0},null,0,{"$f":"BF23/$HM$23","v":0},null,0,{"$f":"BI23/$HM$23","v":0},null,{"$f":"$G23*BL23","v":0},{"$f":"BL23/$HM$23","v":0},null,{"$f":"$G23*BO23","v":0},{"$f":"BO23/$HM$23","v":0},null,{"$f":"$G23*BR23","v":0},{"$f":"BR23/$HM$23","v":0},null,{"$f":"$G23*BU23","v":0},{"$f":"BU23/$HM$23","v":0},null,{"$f":"$G23*BX23","v":0},{"$f":"BX23/$HM$23","v":0},null,{"$f":"$G23*CA23","v":0},{"$f":"CA23/$HM$23","v":0},null,{"$f":"$G23*CD23","v":0},{"$f":"CD23/$HM$23","v":0},null,{"$f":"$G23*CG23","v":0},{"$f":"CG23/$HM$23","v":0},null,{"$f":"$G23*CJ23","v":0},{"$f":"CJ23/$HM$23","v":0},null,{"$f":"$G23*CM23","v":0},{"$f":"CM23/$HM$23","v":0},null,{"$f":"$G23*CP23","v":0},{"$f":"CP23/$HM$23","v":0},null,{"$f":"$G23*CS23","v":0},{"$f":"CS23/$HM$23","v":0},null,{"$f":"$G23*CV23","v":0},{"$f":"CV23/$HM$23","v":0},null,{"$f":"$G23*CY23","v":0},{"$f":"CY23/$HM$23","v":0},null,0,{"$f":"DB23/$HM$23","v":0},null,0,{"$f":"DE23/$HM$23","v":0},null,{"$f":"$G23*DH23","v":0},{"$f":"DH23/$HM$23","v":0},null,{"$f":"$G23*DK23","v":0},{"$f":"DK23/$HM$23","v":0},null,{"$f":"$G23*DN23","v":0},{"$f":"DN23/$HM$23","v":0},null,{"$f":"$G23*DQ23","v":0},{"$f":"DQ23/$HM$23","v":0},null,{"$f":"$G23*DT23","v":0},{"$f":"DT23/$HM$23","v":0},null,{"$f":"$G23*DW23","v":0},{"$f":"DW23/$HM$23","v":0},null,{"$f":"$G23*DZ23","v":0},{"$f":"DZ23/$HM$23","v":0},null,{"$f":"$G23*EC23","v":0},{"$f":"EC23/$HM$23","v":0},null,{"$f":"$G23*EF23","v":0},{"$f":"EF23/$HM$23","v":0},null,{"$f":"$G23*EI23","v":0},{"$f":"EI23/$HM$23","v":0},null,{"$f":"$G23*EL23","v":0},{"$f":"EL23/$HM$23","v":0},null,{"$f":"$G23*EO23","v":0},{"$f":"EO23/$HM$23","v":0},null,{"$f":"$G23*ER23","v":0},{"$f":"ER23/$HM$23","v":0},null,{"$f":"$G23*EU23","v":0},{"$f":"EU23/$HM$23","v":0},null,0,{"$f":"EX23/$HM$23","v":0},null,0,{"$f":"FA23/$HM$23","v":0},null,{"$f":"$G23*FD23","v":0},{"$f":"FD23/$HM$23","v":0},null,{"$f":"$G23*FG23","v":0},{"$f":"FG23/$HM$23","v":0},null,{"$f":"$G23*FJ23","v":0},{"$f":"FJ23/$HM$23","v":0},null,{"$f":"$G23*FM23","v":0},{"$f":"FM23/$HM$23","v":0},null,{"$f":"$G23*FP23","v":0},{"$f":"FP23/$HM$23","v":0},null,{"$f":"$G23*FS23","v":0},{"$f":"FS23/$HM$23","v":0},null,{"$f":"$G23*FV23","v":0},{"$f":"FV23/$HM$23","v":0},null,{"$f":"$G23*FY23","v":0},{"$f":"FY23/$HM$23","v":0},null,{"$f":"$G23*GB23","v":0},{"$f":"GB23/$HM$23","v":0},null,{"$f":"$G23*GE23","v":0},{"$f":"GE23/$HM$23","v":0},null,{"$f":"$G23*GH23","v":0},{"$f":"GH23/$HM$23","v":0},null,{"$f":"$G23*GK23","v":0},{"$f":"GK23/$HM$23","v":0},null,{"$f":"$G23*GN23","v":0},{"$f":"GN23/$HM$23","v":0},null,{"$f":"$G23*GQ23","v":0},{"$f":"GQ23/$HM$23","v":0},null,{"$f":"$G23*GT23","v":0},{"$f":"GT23/$HM$23","v":0},null,{"$f":"$G23*GW23","v":0},{"$f":"GW23/$HM$23","v":0},null,{"$f":"$G23*GZ23","v":0},{"$f":"GZ23/$HM$23","v":0},null,{"$f":"$G23*HC23","v":0},{"$f":"HC23/$HM$23","v":0},null,{"$f":"$G23*HF23","v":0},{"$f":"HF23/$HM$23","v":0},null,{"$f":"$G23*HI23","v":0},{"$f":"HI23/$HM$23","v":0},null,7.4]
["1.5","O",5,"Armaturna betonska mreža \ndim. (dxš) 6000 x 2150 = 12,9 m2/kom","Reinforcement mesh\ndim. (lxw) 6000 x 2150 = 12,9 m2/pcs","/","/","/","/","/","/",null,"/","/",null,"/","/",null,"/","/",null,"/","/",null,"/","/",null,"/","/",null,"/","/",null,"/","/",null,"/","/",null,"/","/",null,"/","/",null,"/","/",null,"/","/",null,"/","/",null,"/","/",null,"/","/",null,"/","/",null,"/","/",null,"/","/",null,"/","/",null,"/","/",null,"/","/",null,"/","/",null,"/","/",null,"/","/",null,"/","/",null,"/","/",null,"/","/",null,"/","/",null,"/","/",null,"/","/",null,"/","/",null,"/","/",null,"/","/",null,"/","/",null,"/","/",null,"/","/",null,"/","/",null,"/","/",null,"/","/",null,"/","/",null,"/","/",null,"/","/",null,"/","/",null,"/","/",null,"/","/",null,"/","/",null,"/","/",null,"/","/",null,"/","/",null,"/","/",null,"/","/",null,"/","/",null,"/","/",null,"/","/",null,"/","/",null,"/","/",null,"/","/",null,"/","/",null,"/","/",null,"/","/",null,"/","/",null,"/","/",null,"/","/",null,"/","/",null,"/","/",null,"/","/",null,"/","/",null,"/","/"]
["1.5.1",null,"A","Q84    /4x4/150x150/ ","Q84    /4x4/150x150/ ","kg",{"$f":"CENA!G16","v":0},{"$f":"J25+M25+P25+S25+V25+Y25+AB25+AE25+AH25+AK25+AN25+AQ25+AZ25+AW25+AT25+BC25+BF25+BI25+BL25+BO25+BR25+BU25+BX25+CA25+CD25+CG25+CJ25+CM25+CP25+CS25+CV25+CY25+DB25+DE25+DH25+DK25+DN25+DQ25+DT25+DW25+DZ25+EC25+EF25+EI25+EL25+EO25+ER25+EU25+EX25+FA25+FD25+FG25+FJ25+FM25+FP25+FS25+FV25+FY25+GB25+GE25+GH25+GK25+GN25+GQ25+GT25+GW25+GZ25+HC25+HF25+HI25","v":70.400000000000006},{"$f":"G25*H25","v":0},null,{"$f":"$G25*J25","v":0},{"$f":"J25/$HM$25","v":0},null,{"$f":"$G25*M25","v":0},{"$f":"M25/$HM$25","v":0},null,{"$f":"$G25*P25","v":0},{"$f":"P25/$HM$25","v":0},70.400000000000006,{"$f":"$G25*S25","v":0},{"$f":"S25/$HM$25","v":4},null,{"$f":"$G25*V25","v":0},{"$f":"V25/$HM$25","v":0},null,{"$f":"$G25*Y25","v":0},{"$f":"Y25/$HM$25","v":0},null,{"$f":"$G25*AB25","v":0},{"$f":"AB25/$HM$25","v":0},null,{"$f":"$G25*AE25","v":0},{"$f":"AE25/$HM$25","v":0},null,{"$f":"$G25*AH25","v":0},{"$f":"AH25/$HM$25","v":0},null,{"$f":"$G25*AK25","v":0},{"$f":"AK25/$HM$25","v":0},null,{"$f":"$G25*AN25","v":0},{"$f":"AN25/$HM$25","v":0},null,{"$f":"$G25*AQ25","v":0},{"$f":"AQ25/$HM$25","v":0},null,{"$f":"$G25*AT25","v":0},{"$f":"AT25/$HM$25","v":0},null,{"$f":"$G25*AW25","v":0},{"$f":"AW25/$HM$25","v":0},null,{"$f":"$G25*AZ25","v":0},{"$f":"AZ25/$HM$25","v":0},null,{"$f":"$G25*BC25","v":0},{"$f":"BC25/$HM$25","v":0},null,{"$f":"$G25*BF25","v":0},{"$f":"BF25/$HM$25","v":0},null,{"$f":"$G25*BI25","v":0},{"$f":"BI25/$HM$25","v":0},null,{"$f":"$G25*BL25","v":0},{"$f":"BL25/$HM$25","v":0},null,{"$f":"$G25*BO25","v":0},{"$f":"BO25/$HM$25","v":0},null,{"$f":"$G25*BR25","v":0},{"$f":"BR25/$HM$25","v":0},null,{"$f":"$G25*BU25","v":0},{"$f":"BU25/$HM$25","v":0},null,{"$f":"$G25*BX25","v":0},{"$f":"BX25/$HM$25","v":0},null,{"$f":"$G25*CA25","v":0},{"$f":"CA25/$HM$25","v":0},null,{"$f":"$G25*CD25","v":0},{"$f":"CD25/$HM$25","v":0},null,{"$f":"$G25*CG25","v":0},{"$f":"CG25/$HM$25","v":0},null,{"$f":"$G25*CJ25","v":0},{"$f":"CJ25/$HM$25","v":0},null,{"$f":"$G25*CM25","v":0},{"$f":"CM25/$HM$25","v":0},null,{"$f":"$G25*CP25","v":0},{"$f":"CP25/$HM$25","v":0},null,{"$f":"$G25*CS25","v":0},{"$f":"CS25/$HM$25","v":0},null,{"$f":"$G25*CV25","v":0},{"$f":"CV25/$HM$25","v":0},null,{"$f":"$G25*CY25","v":0},{"$f":"CY25/$HM$25","v":0},null,{"$f":"$G25*DB25","v":0},{"$f":"DB25/$HM$25","v":0},null,{"$f":"$G25*DE25","v":0},{"$f":"DE25/$HM$25","v":0},null,{"$f":"$G25*DH25","v":0},{"$f":"DH25/$HM$25","v":0},null,{"$f":"$G25*DK25","v":0},{"$f":"DK25/$HM$25","v":0},null,{"$f":"$G25*DN25","v":0},{"$f":"DN25/$HM$25","v":0},null,{"$f":"$G25*DQ25","v":0},{"$f":"DQ25/$HM$25","v":0},null,{"$f":"$G25*DT25","v":0},{"$f":"DT25/$HM$25","v":0},null,{"$f":"$G25*DW25","v":0},{"$f":"DW25/$HM$25","v":0},null,{"$f":"$G25*DZ25","v":0},{"$f":"DZ25/$HM$25","v":0},null,{"$f":"$G25*EC25","v":0},{"$f":"EC25/$HM$25","v":0},null,{"$f":"$G25*EF25","v":0},{"$f":"EF25/$HM$25","v":0},null,{"$f":"$G25*EI25","v":0},{"$f":"EI25/$HM$25","v":0},null,{"$f":"$G25*EL25","v":0},{"$f":"EL25/$HM$25","v":0},null,{"$f":"$G25*EO25","v":0},{"$f":"EO25/$HM$25","v":0},null,{"$f":"$G25*ER25","v":0},{"$f":"ER25/$HM$25","v":0},null,{"$f":"$G25*EU25","v":0},{"$f":"EU25/$HM$25","v":0},null,{"$f":"$G25*EX25","v":0},{"$f":"EX25/$HM$25","v":0},null,{"$f":"$G25*FA25","v":0},{"$f":"FA25/$HM$25","v":0},null,{"$f":"$G25*FD25","v":0},{"$f":"FD25/$HM$25","v":0},null,{"$f":"$G25*FG25","v":0},{"$f":"FG25/$HM$25","v":0},null,{"$f":"$G25*FJ25","v":0},{"$f":"FJ25/$HM$25","v":0},null,{"$f":"$G25*FM25","v":0},{"$f":"FM25/$HM$25","v":0},null,{"$f":"$G25*FP25","v":0},{"$f":"FP25/$HM$25","v":0},null,{"$f":"$G25*FS25","v":0},{"$f":"FS25/$HM$25","v":0},null,{"$f":"$G25*FV25","v":0},{"$f":"FV25/$HM$25","v":0},null,{"$f":"$G25*FY25","v":0},{"$f":"FY25/$HM$25","v":0},null,{"$f":"$G25*GB25","v":0},{"$f":"GB25/$HM$25","v":0},null,{"$f":"$G25*GE25","v":0},{"$f":"GE25/$HM$25","v":0},null,{"$f":"$G25*GH25","v":0},{"$f":"GH25/$HM$25","v":0},null,{"$f":"$G25*GK25","v":0},{"$f":"GK25/$HM$25","v":0},null,{"$f":"$G25*GN25","v":0},{"$f":"GN25/$HM$25","v":0},null,{"$f":"$G25*GQ25","v":0},{"$f":"GQ25/$HM$25","v":0},null,{"$f":"$G25*GT25","v":0},{"$f":"GT25/$HM$25","v":0},null,{"$f":"$G25*GW25","v":0},{"$f":"GW25/$HM$25","v":0},null,{"$f":"$G25*GZ25","v":0},{"$f":"GZ25/$HM$25","v":0},null,{"$f":"$G25*HC25","v":0},{"$f":"HC25/$HM$25","v":0},null,{"$f":"$G25*HF25","v":0},{"$f":"HF25/$HM$25","v":0},null,{"$f":"$G25*HI25","v":0},{"$f":"HI25/$HM$25","v":0},null,17.600000000000001]
["1.5.2",null,"B","Q131  /5x5/150x150/ ","Q131  /5x5/150x150/ ","kg",{"$f":"CENA!G17","v":0},0,0,null,{"$f":"$G26*J26","v":0},{"$f":"J26/$HM$26","v":0},null,0,{"$f":"M26/$HM$26","v":0},null,{"$f":"$G26*P26","v":0},{"$f":"P26/$HM$26","v":0},null,{"$f":"$G26*S26","v":0},{"$f":"S26/$HM$26","v":0},null,{"$f":"$G26*V26","v":0},{"$f":"V26/$HM$26","v":0},null,{"$f":"$G26*Y26","v":0},{"$f":"Y26/$HM$26","v":0},null,{"$f":"$G26*AB26","v":0},{"$f":"AB26/$HM$26","v":0},null,{"$f":"$G26*AE26","v":0},{"$f":"AE26/$HM$26","v":0},null,{"$f":"$G26*AH26","v":0},{"$f":"AH26/$HM$26","v":0},null,{"$f":"$G26*AK26","v":0},{"$f":"AK26/$HM$26","v":0},null,{"$f":"$G26*AN26","v":0},{"$f":"AN26/$HM$26","v":0},null,{"$f":"$G26*AQ26","v":0},{"$f":"AQ26/$HM$26","v":0},null,{"$f":"$G26*AT26","v":0},{"$f":"AT26/$HM$26","v":0},null,{"$f":"$G26*AW26","v":0},{"$f":"AW26/$HM$26","v":0},null,{"$f":"$G26*AZ26","v":0},{"$f":"AZ26/$HM$26","v":0},null,{"$f":"$G26*BC26","v":0},{"$f":"BC26/$HM$26","v":0},null,0,{"$f":"BF26/$HM$26","v":0},null,0,{"$f":"BI26/$HM$26","v":0},null,{"$f":"$G26*BL26","v":0},{"$f":"BL26/$HM$26","v":0},null,{"$f":"$G26*BO26","v":0},{"$f":"BO26/$HM$26","v":0},null,{"$f":"$G26*BR26","v":0},{"$f":"BR26/$HM$26","v":0},null,{"$f":"$G26*BU26","v":0},{"$f":"BU26/$HM$26","v":0},null,{"$f":"$G26*BX26","v":0},{"$f":"BX26/$HM$26","v":0},null,{"$f":"$G26*CA26","v":0},{"$f":"CA26/$HM$26","v":0},null,{"$f":"$G26*CD26","v":0},{"$f":"CD26/$HM$26","v":0},null,{"$f":"$G26*CG26","v":0},{"$f":"CG26/$HM$26","v":0},null,{"$f":"$G26*CJ26","v":0},{"$f":"CJ26/$HM$26","v":0},null,{"$f":"$G26*CM26","v":0},{"$f":"CM26/$HM$26","v":0},null,{"$f":"$G26*CP26","v":0},{"$f":"CP26/$HM$26","v":0},null,{"$f":"$G26*CS26","v":0},{"$f":"CS26/$HM$26","v":0},null,{"$f":"$G26*CV26","v":0},{"$f":"CV26/$HM$26","v":0},null,{"$f":"$G26*CY26","v":0},{"$f":"CY26/$HM$26","v":0},null,0,{"$f":"DB26/$HM$26","v":0},null,0,{"$f":"DE26/$HM$26","v":0},null,{"$f":"$G26*DH26","v":0},{"$f":"DH26/$HM$26","v":0},null,{"$f":"$G26*DK26","v":0},{"$f":"DK26/$HM$26","v":0},null,{"$f":"$G26*DN26","v":0},{"$f":"DN26/$HM$26","v":0},null,{"$f":"$G26*DQ26","v":0},{"$f":"DQ26/$HM$26","v":0},null,{"$f":"$G26*DT26","v":0},{"$f":"DT26/$HM$26","v":0},null,{"$f":"$G26*DW26","v":0},{"$f":"DW26/$HM$26","v":0},null,{"$f":"$G26*DZ26","v":0},{"$f":"DZ26/$HM$26","v":0},null,{"$f":"$G26*EC26","v":0},{"$f":"EC26/$HM$26","v":0},null,{"$f":"$G26*EF26","v":0},{"$f":"EF26/$HM$26","v":0},null,{"$f":"$G26*EI26","v":0},{"$f":"EI26/$HM$26","v":0},null,{"$f":"$G26*EL26","v":0},{"$f":"EL26/$HM$26","v":0},null,{"$f":"$G26*EO26","v":0},{"$f":"EO26/$HM$26","v":0},null,{"$f":"$G26*ER26","v":0},{"$f":"ER26/$HM$26","v":0},null,{"$f":"$G26*EU26","v":0},{"$f":"EU26/$HM$26","v":0},null,0,{"$f":"EX26/$HM$26","v":0},null,0,{"$f":"FA26/$HM$26","v":0},null,{"$f":"$G26*FD26","v":0},{"$f":"FD26/$HM$26","v":0},null,{"$f":"$G26*FG26","v":0},{"$f":"FG26/$HM$26","v":0},null,{"$f":"$G26*FJ26","v":0},{"$f":"FJ26/$HM$26","v":0},null,{"$f":"$G26*FM26","v":0},{"$f":"FM26/$HM$26","v":0},null,{"$f":"$G26*FP26","v":0},{"$f":"FP26/$HM$26","v":0},null,{"$f":"$G26*FS26","v":0},{"$f":"FS26/$HM$26","v":0},null,{"$f":"$G26*FV26","v":0},{"$f":"FV26/$HM$26","v":0},null,{"$f":"$G26*FY26","v":0},{"$f":"FY26/$HM$26","v":0},null,{"$f":"$G26*GB26","v":0},{"$f":"GB26/$HM$26","v":0},null,{"$f":"$G26*GE26","v":0},{"$f":"GE26/$HM$26","v":0},null,{"$f":"$G26*GH26","v":0},{"$f":"GH26/$HM$26","v":0},null,{"$f":"$G26*GK26","v":0},{"$f":"GK26/$HM$26","v":0},null,{"$f":"$G26*GN26","v":0},{"$f":"GN26/$HM$26","v":0},null,{"$f":"$G26*GQ26","v":0},{"$f":"GQ26/$HM$26","v":0},null,{"$f":"$G26*GT26","v":0},{"$f":"GT26/$HM$26","v":0},null,{"$f":"$G26*GW26","v":0},{"$f":"GW26/$HM$26","v":0},null,{"$f":"$G26*GZ26","v":0},{"$f":"GZ26/$HM$26","v":0},null,{"$f":"$G26*HC26","v":0},{"$f":"HC26/$HM$26","v":0},null,{"$f":"$G26*HF26","v":0},{"$f":"HF26/$HM$26","v":0},null,{"$f":"$G26*HI26","v":0},{"$f":"HI26/$HM$26","v":0},null,27.38]
["1.5.3",null,"C","Q188  /6x6/150x150/ ","Q188  /6x6/150x150/ ","kg",{"$f":"CENA!G18","v":0},0,0,null,{"$f":"$G27*J27","v":0},{"$f":"J27/$HM$27","v":0},null,0,{"$f":"M27/$HM$27","v":0},null,{"$f":"$G27*P27","v":0},{"$f":"P27/$HM$27","v":0},0,{"$f":"$G27*S27","v":0},{"$f":"S27/$HM$27","v":0},null,{"$f":"$G27*V27","v":0},{"$f":"V27/$HM$27","v":0},null,{"$f":"$G27*Y27","v":0},{"$f":"Y27/$HM$27","v":0},null,{"$f":"$G27*AB27","v":0},{"$f":"AB27/$HM$27","v":0},null,{"$f":"$G27*AE27","v":0},{"$f":"AE27/$HM$27","v":0},null,{"$f":"$G27*AH27","v":0},{"$f":"AH27/$HM$27","v":0},null,{"$f":"$G27*AK27","v":0},{"$f":"AK27/$HM$27","v":0},null,{"$f":"$G27*AN27","v":0},{"$f":"AN27/$HM$27","v":0},null,{"$f":"$G27*AQ27","v":0},{"$f":"AQ27/$HM$27","v":0},null,{"$f":"$G27*AT27","v":0},{"$f":"AT27/$HM$27","v":0},null,{"$f":"$G27*AW27","v":0},{"$f":"AW27/$HM$27","v":0},null,{"$f":"$G27*AZ27","v":0},{"$f":"AZ27/$HM$27","v":0},null,{"$f":"$G27*BC27","v":0},{"$f":"BC27/$HM$27","v":0},null,0,{"$f":"BF27/$HM$27","v":0},null,0,{"$f":"BI27/$HM$27","v":0},null,{"$f":"$G27*BL27","v":0},{"$f":"BL27/$HM$27","v":0},0,{"$f":"$G27*BO27","v":0},{"$f":"BO27/$HM$27","v":0},null,{"$f":"$G27*BR27","v":0},{"$f":"BR27/$HM$27","v":0},null,{"$f":"$G27*BU27","v":0},{"$f":"BU27/$HM$27","v":0},null,{"$f":"$G27*BX27","v":0},{"$f":"BX27/$HM$27","v":0},null,{"$f":"$G27*CA27","v":0},{"$f":"CA27/$HM$27","v":0},null,{"$f":"$G27*CD27","v":0},{"$f":"CD27/$HM$27","v":0},null,{"$f":"$G27*CG27","v":0},{"$f":"CG27/$HM$27","v":0},null,{"$f":"$G27*CJ27","v":0},{"$f":"CJ27/$HM$27","v":0},null,{"$f":"$G27*CM27","v":0},{"$f":"CM27/$HM$27","v":0},null,{"$f":"$G27*CP27","v":0},{"$f":"CP27/$HM$27","v":0},null,{"$f":"$G27*CS27","v":0},{"$f":"CS27/$HM$27","v":0},null,{"$f":"$G27*CV27","v":0},{"$f":"CV27/$HM$27","v":0},null,{"$f":"$G27*CY27","v":0},{"$f":"CY27/$HM$27","v":0},null,0,{"$f":"DB27/$HM$27","v":0},null,0,{"$f":"DE27/$HM$27","v":0},null,{"$f":"$G27*DH27","v":0},{"$f":"DH27/$HM$27","v":0},0,{"$f":"$G27*DK27","v":0},{"$f":"DK27/$HM$27","v":0},null,{"$f":"$G27*DN27","v":0},{"$f":"DN27/$HM$27","v":0},null,{"$f":"$G27*DQ27","v":0},{"$f":"DQ27/$HM$27","v":0},null,{"$f":"$G27*DT27","v":0},{"$f":"DT27/$HM$27","v":0},null,{"$f":"$G27*DW27","v":0},{"$f":"DW27/$HM$27","v":0},null,{"$f":"$G27*DZ27","v":0},{"$f":"DZ27/$HM$27","v":0},null,{"$f":"$G27*EC27","v":0},{"$f":"EC27/$HM$27","v":0},null,{"$f":"$G27*EF27","v":0},{"$f":"EF27/$HM$27","v":0},null,{"$f":"$G27*EI27","v":0},{"$f":"EI27/$HM$27","v":0},null,{"$f":"$G27*EL27","v":0},{"$f":"EL27/$HM$27","v":0},null,{"$f":"$G27*EO27","v":0},{"$f":"EO27/$HM$27","v":0},null,{"$f":"$G27*ER27","v":0},{"$f":"ER27/$HM$27","v":0},null,{"$f":"$G27*EU27","v":0},{"$f":"EU27/$HM$27","v":0},null,0,{"$f":"EX27/$HM$27","v":0},null,0,{"$f":"FA27/$HM$27","v":0},null,{"$f":"$G27*FD27","v":0},{"$f":"FD27/$HM$27","v":0},0,{"$f":"$G27*FG27","v":0},{"$f":"FG27/$HM$27","v":0},null,{"$f":"$G27*FJ27","v":0},{"$f":"FJ27/$HM$27","v":0},null,{"$f":"$G27*FM27","v":0},{"$f":"FM27/$HM$27","v":0},null,{"$f":"$G27*FP27","v":0},{"$f":"FP27/$HM$27","v":0},null,{"$f":"$G27*FS27","v":0},{"$f":"FS27/$HM$27","v":0},null,{"$f":"$G27*FV27","v":0},{"$f":"FV27/$HM$27","v":0},null,{"$f":"$G27*FY27","v":0},{"$f":"FY27/$HM$27","v":0},null,{"$f":"$G27*GB27","v":0},{"$f":"GB27/$HM$27","v":0},null,{"$f":"$G27*GE27","v":0},{"$f":"GE27/$HM$27","v":0},null,{"$f":"$G27*GH27","v":0},{"$f":"GH27/$HM$27","v":0},null,{"$f":"$G27*GK27","v":0},{"$f":"GK27/$HM$27","v":0},null,{"$f":"$G27*GN27","v":0},{"$f":"GN27/$HM$27","v":0},null,{"$f":"$G27*GQ27","v":0},{"$f":"GQ27/$HM$27","v":0},null,{"$f":"$G27*GT27","v":0},{"$f":"GT27/$HM$27","v":0},null,{"$f":"$G27*GW27","v":0},{"$f":"GW27/$HM$27","v":0},null,{"$f":"$G27*GZ27","v":0},{"$f":"GZ27/$HM$27","v":0},null,{"$f":"$G27*HC27","v":0},{"$f":"HC27/$HM$27","v":0},null,{"$f":"$G27*HF27","v":0},{"$f":"HF27/$HM$27","v":0},null,{"$f":"$G27*HI27","v":0},{"$f":"HI27/$HM$27","v":0},null,39.46]
["1.5.4",null,"D","Q283  /6x6/100x100/","Q283  /6x6/100x100/","kg",{"$f":"CENA!G19","v":0},0,0,null,{"$f":"$G28*J28","v":0},{"$f":"J28/$HM$28","v":0},null,0,{"$f":"M28/$HM$28","v":0},null,{"$f":"$G28*P28","v":0},{"$f":"P28/$HM$28","v":0},null,{"$f":"$G28*S28","v":0},{"$f":"S28/$HM$28","v":0},null,{"$f":"$G28*V28","v":0},{"$f":"V28/$HM$28","v":0},null,{"$f":"$G28*Y28","v":0},{"$f":"Y28/$HM$28","v":0},null,{"$f":"$G28*AB28","v":0},{"$f":"AB28/$HM$28","v":0},null,{"$f":"$G28*AE28","v":0},{"$f":"AE28/$HM$28","v":0},null,{"$f":"$G28*AH28","v":0},{"$f":"AH28/$HM$28","v":0},null,{"$f":"$G28*AK28","v":0},{"$f":"AK28/$HM$28","v":0},null,{"$f":"$G28*AN28","v":0},{"$f":"AN28/$HM$28","v":0},null,{"$f":"$G28*AQ28","v":0},{"$f":"AQ28/$HM$28","v":0},null,{"$f":"$G28*AT28","v":0},{"$f":"AT28/$HM$28","v":0},null,{"$f":"$G28*AW28","v":0},{"$f":"AW28/$HM$28","v":0},null,{"$f":"$G28*AZ28","v":0},{"$f":"AZ28/$HM$28","v":0},null,{"$f":"$G28*BC28","v":0},{"$f":"BC28/$HM$28","v":0},null,0,{"$f":"BF28/$HM$28","v":0},null,0,{"$f":"BI28/$HM$28","v":0},null,{"$f":"$G28*BL28","v":0},{"$f":"BL28/$HM$28","v":0},null,{"$f":"$G28*BO28","v":0},{"$f":"BO28/$HM$28","v":0},null,{"$f":"$G28*BR28","v":0},{"$f":"BR28/$HM$28","v":0},null,{"$f":"$G28*BU28","v":0},{"$f":"BU28/$HM$28","v":0},null,{"$f":"$G28*BX28","v":0},{"$f":"BX28/$HM$28","v":0},null,{"$f":"$G28*CA28","v":0},{"$f":"CA28/$HM$28","v":0},null,{"$f":"$G28*CD28","v":0},{"$f":"CD28/$HM$28","v":0},null,{"$f":"$G28*CG28","v":0},{"$f":"CG28/$HM$28","v":0},null,{"$f":"$G28*CJ28","v":0},{"$f":"CJ28/$HM$28","v":0},null,{"$f":"$G28*CM28","v":0},{"$f":"CM28/$HM$28","v":0},null,{"$f":"$G28*CP28","v":0},{"$f":"CP28/$HM$28","v":0},null,{"$f":"$G28*CS28","v":0},{"$f":"CS28/$HM$28","v":0},null,{"$f":"$G28*CV28","v":0},{"$f":"CV28/$HM$28","v":0},null,{"$f":"$G28*CY28","v":0},{"$f":"CY28/$HM$28","v":0},null,0,{"$f":"DB28/$HM$28","v":0},null,0,{"$f":"DE28/$HM$28","v":0},null,{"$f":"$G28*DH28","v":0},{"$f":"DH28/$HM$28","v":0},null,{"$f":"$G28*DK28","v":0},{"$f":"DK28/$HM$28","v":0},null,{"$f":"$G28*DN28","v":0},{"$f":"DN28/$HM$28","v":0},null,{"$f":"$G28*DQ28","v":0},{"$f":"DQ28/$HM$28","v":0},null,{"$f":"$G28*DT28","v":0},{"$f":"DT28/$HM$28","v":0},null,{"$f":"$G28*DW28","v":0},{"$f":"DW28/$HM$28","v":0},null,{"$f":"$G28*DZ28","v":0},{"$f":"DZ28/$HM$28","v":0},null,{"$f":"$G28*EC28","v":0},{"$f":"EC28/$HM$28","v":0},null,{"$f":"$G28*EF28","v":0},{"$f":"EF28/$HM$28","v":0},null,{"$f":"$G28*EI28","v":0},{"$f":"EI28/$HM$28","v":0},null,{"$f":"$G28*EL28","v":0},{"$f":"EL28/$HM$28","v":0},null,{"$f":"$G28*EO28","v":0},{"$f":"EO28/$HM$28","v":0},null,{"$f":"$G28*ER28","v":0},{"$f":"ER28/$HM$28","v":0},null,{"$f":"$G28*EU28","v":0},{"$f":"EU28/$HM$28","v":0},null,0,{"$f":"EX28/$HM$28","v":0},null,0,{"$f":"FA28/$HM$28","v":0},null,{"$f":"$G28*FD28","v":0},{"$f":"FD28/$HM$28","v":0},null,{"$f":"$G28*FG28","v":0},{"$f":"FG28/$HM$28","v":0},null,{"$f":"$G28*FJ28","v":0},{"$f":"FJ28/$HM$28","v":0},null,{"$f":"$G28*FM28","v":0},{"$f":"FM28/$HM$28","v":0},null,{"$f":"$G28*FP28","v":0},{"$f":"FP28/$HM$28","v":0},null,{"$f":"$G28*FS28","v":0},{"$f":"FS28/$HM$28","v":0},null,{"$f":"$G28*FV28","v":0},{"$f":"FV28/$HM$28","v":0},null,{"$f":"$G28*FY28","v":0},{"$f":"FY28/$HM$28","v":0},null,{"$f":"$G28*GB28","v":0},{"$f":"GB28/$HM$28","v":0},null,{"$f":"$G28*GE28","v":0},{"$f":"GE28/$HM$28","v":0},null,{"$f":"$G28*GH28","v":0},{"$f":"GH28/$HM$28","v":0},null,{"$f":"$G28*GK28","v":0},{"$f":"GK28/$HM$28","v":0},null,{"$f":"$G28*GN28","v":0},{"$f":"GN28/$HM$28","v":0},null,{"$f":"$G28*GQ28","v":0},{"$f":"GQ28/$HM$28","v":0},null,{"$f":"$G28*GT28","v":0},{"$f":"GT28/$HM$28","v":0},null,{"$f":"$G28*GW28","v":0},{"$f":"GW28/$HM$28","v":0},null,{"$f":"$G28*GZ28","v":0},{"$f":"GZ28/$HM$28","v":0},null,{"$f":"$G28*HC28","v":0},{"$f":"HC28/$HM$28","v":0},null,{"$f":"$G28*HF28","v":0},{"$f":"HF28/$HM$28","v":0},null,{"$f":"$G28*HI28","v":0},{"$f":"HI28/$HM$28","v":0},null,58.21]
["1.5.5",null,"E","Q335  /8x8/150x150/","Q335  /8x8/150x150/","kg",{"$f":"CENA!G20","v":0},0,0,null,{"$f":"$G29*J29","v":0},{"$f":"J29/$HM$29","v":0},null,0,{"$f":"M29/$HM$29","v":0},null,{"$f":"$G29*P29","v":0},{"$f":"P29/$HM$29","v":0},null,{"$f":"$G29*S29","v":0},{"$f":"S29/$HM$29","v":0},null,{"$f":"$G29*V29","v":0},{"$f":"V29/$HM$29","v":0},null,{"$f":"$G29*Y29","v":0},{"$f":"Y29/$HM$29","v":0},null,{"$f":"$G29*AB29","v":0},{"$f":"AB29/$HM$29","v":0},null,{"$f":"$G29*AE29","v":0},{"$f":"AE29/$HM$29","v":0},null,{"$f":"$G29*AH29","v":0},{"$f":"AH29/$HM$29","v":0},null,{"$f":"$G29*AK29","v":0},{"$f":"AK29/$HM$29","v":0},null,{"$f":"$G29*AN29","v":0},{"$f":"AN29/$HM$29","v":0},null,{"$f":"$G29*AQ29","v":0},{"$f":"AQ29/$HM$29","v":0},null,{"$f":"$G29*AT29","v":0},{"$f":"AT29/$HM$29","v":0},null,{"$f":"$G29*AW29","v":0},{"$f":"AW29/$HM$29","v":0},null,{"$f":"$G29*AZ29","v":0},{"$f":"AZ29/$HM$29","v":0},null,{"$f":"$G29*BC29","v":0},{"$f":"BC29/$HM$29","v":0},null,0,{"$f":"BF29/$HM$29","v":0},null,0,{"$f":"BI29/$HM$29","v":0},null,{"$f":"$G29*BL29","v":0},{"$f":"BL29/$HM$29","v":0},null,{"$f":"$G29*BO29","v":0},{"$f":"BO29/$HM$29","v":0},null,{"$f":"$G29*BR29","v":0},{"$f":"BR29/$HM$29","v":0},null,{"$f":"$G29*BU29","v":0},{"$f":"BU29/$HM$29","v":0},null,{"$f":"$G29*BX29","v":0},{"$f":"BX29/$HM$29","v":0},null,{"$f":"$G29*CA29","v":0},{"$f":"CA29/$HM$29","v":0},null,{"$f":"$G29*CD29","v":0},{"$f":"CD29/$HM$29","v":0},null,{"$f":"$G29*CG29","v":0},{"$f":"CG29/$HM$29","v":0},null,{"$f":"$G29*CJ29","v":0},{"$f":"CJ29/$HM$29","v":0},null,{"$f":"$G29*CM29","v":0},{"$f":"CM29/$HM$29","v":0},null,{"$f":"$G29*CP29","v":0},{"$f":"CP29/$HM$29","v":0},null,{"$f":"$G29*CS29","v":0},{"$f":"CS29/$HM$29","v":0},null,{"$f":"$G29*CV29","v":0},{"$f":"CV29/$HM$29","v":0},null,{"$f":"$G29*CY29","v":0},{"$f":"CY29/$HM$29","v":0},null,0,{"$f":"DB29/$HM$29","v":0},null,0,{"$f":"DE29/$HM$29","v":0},null,{"$f":"$G29*DH29","v":0},{"$f":"DH29/$HM$29","v":0},null,{"$f":"$G29*DK29","v":0},{"$f":"DK29/$HM$29","v":0},null,{"$f":"$G29*DN29","v":0},{"$f":"DN29/$HM$29","v":0},null,{"$f":"$G29*DQ29","v":0},{"$f":"DQ29/$HM$29","v":0},null,{"$f":"$G29*DT29","v":0},{"$f":"DT29/$HM$29","v":0},null,{"$f":"$G29*DW29","v":0},{"$f":"DW29/$HM$29","v":0},null,{"$f":"$G29*DZ29","v":0},{"$f":"DZ29/$HM$29","v":0},null,{"$f":"$G29*EC29","v":0},{"$f":"EC29/$HM$29","v":0},null,{"$f":"$G29*EF29","v":0},{"$f":"EF29/$HM$29","v":0},null,{"$f":"$G29*EI29","v":0},{"$f":"EI29/$HM$29","v":0},null,{"$f":"$G29*EL29","v":0},{"$f":"EL29/$HM$29","v":0},null,{"$f":"$G29*EO29","v":0},{"$f":"EO29/$HM$29","v":0},null,{"$f":"$G29*ER29","v":0},{"$f":"ER29/$HM$29","v":0},null,{"$f":"$G29*EU29","v":0},{"$f":"EU29/$HM$29","v":0},null,0,{"$f":"EX29/$HM$29","v":0},null,0,{"$f":"FA29/$HM$29","v":0},null,{"$f":"$G29*FD29","v":0},{"$f":"FD29/$HM$29","v":0},null,{"$f":"$G29*FG29","v":0},{"$f":"FG29/$HM$29","v":0},null,{"$f":"$G29*FJ29","v":0},{"$f":"FJ29/$HM$29","v":0},null,{"$f":"$G29*FM29","v":0},{"$f":"FM29/$HM$29","v":0},null,{"$f":"$G29*FP29","v":0},{"$f":"FP29/$HM$29","v":0},null,{"$f":"$G29*FS29","v":0},{"$f":"FS29/$HM$29","v":0},null,{"$f":"$G29*FV29","v":0},{"$f":"FV29/$HM$29","v":0},null,{"$f":"$G29*FY29","v":0},{"$f":"FY29/$HM$29","v":0},null,{"$f":"$G29*GB29","v":0},{"$f":"GB29/$HM$29","v":0},null,{"$f":"$G29*GE29","v":0},{"$f":"GE29/$HM$29","v":0},null,{"$f":"$G29*GH29","v":0},{"$f":"GH29/$HM$29","v":0},null,{"$f":"$G29*GK29","v":0},{"$f":"GK29/$HM$29","v":0},null,{"$f":"$G29*GN29","v":0},{"$f":"GN29/$HM$29","v":0},null,{"$f":"$G29*GQ29","v":0},{"$f":"GQ29/$HM$29","v":0},null,{"$f":"$G29*GT29","v":0},{"$f":"GT29/$HM$29","v":0},null,{"$f":"$G29*GW29","v":0},{"$f":"GW29/$HM$29","v":0},null,{"$f":"$G29*GZ29","v":0},{"$f":"GZ29/$HM$29","v":0},null,{"$f":"$G29*HC29","v":0},{"$f":"HC29/$HM$29","v":0},null,{"$f":"$G29*HF29","v":0},{"$f":"HF29/$HM$29","v":0},null,{"$f":"$G29*HI29","v":0},{"$f":"HI29/$HM$29","v":0},null,70.22]
[]
[2,"Z",null,"MATERIJAL ZA ZIDANJE, MALTERISANJE, GLETOVANJE I FARBANJE","MASONRY, PLASTERING FAIRING AND PAINTING MATERIAL"]
["2.1","Z",1,"Giter blok (d/š/v) 250x190x190 mm","Gitter block (l/w/h) 250x190x190 mm","kom/pcs",{"$f":"CENA!G23","v":0},{"$f":"J32+M32+P32+S32+V32+Y32+AB32+AE32+AH32+AK32+AN32+AQ32+AZ32+AW32+AT32+BC32+BF32+BI32+BL32+BO32+BR32+BU32+BX32+CA32+CD32+CG32+CJ32+CM32+CP32+CS32+CV32+CY32+DB32+DE32+DH32+DK32+DN32+DQ32+DT32+DW32+DZ32+EC32+EF32+EI32+EL32+EO32+ER32+EU32+EX32+FA32+FD32+FG32+FJ32+FM32+FP32+FS32+FV32+FY32+GB32+GE32+GH32+GK32+GN32+GQ32+GT32+GW32+GZ32+HC32+HF32+HI32","v":0},{"$f":"G32*H32","v":0},null,{"$f":"$G32*J32","v":0},null,null,{"$f":"$G32*M32","v":0},null,null,{"$f":"$G32*P32","v":0},null,null,{"$f":"$G32*S32","v":0},null,null,{"$f":"$G32*V32","v":0},null,null,{"$f":"$G32*Y32","v":0},null,null,{"$f":"$G32*AB32","v":0},null,null,{"$f":"$G32*AE32","v":0},null,null,{"$f":"$G32*AH32","v":0},null,null,{"$f":"$G32*AK32","v":0},null,null,{"$f":"$G32*AN32","v":0},null,null,{"$f":"$G32*AQ32","v":0},null,null,{"$f":"$G32*AT32","v":0},null,null,{"$f":"$G32*AW32","v":0},null,null,{"$f":"$G32*AZ32","v":0},null,null,{"$f":"$G32*BC32","v":0},null,null,{"$f":"$G32*BF32","v":0},null,null,{"$f":"$G32*BI32","v":0},null,null,{"$f":"$G32*BL32","v":0},null,null,{"$f":"$G32*BO32","v":0},null,null,{"$f":"$G32*BR32","v":0},null,null,{"$f":"$G32*BU32","v":0},null,null,{"$f":"$G32*BX32","v":0},null,null,{"$f":"$G32*CA32","v":0},null,null,{"$f":"$G32*CD32","v":0},null,null,{"$f":"$G32*CG32","v":0},null,null,{"$f":"$G32*CJ32","v":0},null,null,{"$f":"$G32*CM32","v":0},null,null,{"$f":"$G32*CP32","v":0},null,null,{"$f":"$G32*CS32","v":0},null,null,{"$f":"$G32*CV32","v":0},null,null,{"$f":"$G32*CY32","v":0},null,null,{"$f":"$G32*DB32","v":0},null,null,{"$f":"$G32*DE32","v":0},null,null,{"$f":"$G32*DH32","v":0},null,null,{"$f":"$G32*DK32","v":0},null,null,{"$f":"$G32*DN32","v":0},null,null,{"$f":"$G32*DQ32","v":0},null,null,{"$f":"$G32*DT32","v":0},null,null,{"$f":"$G32*DW32","v":0},null,null,{"$f":"$G32*DZ32","v":0},null,null,{"$f":"$G32*EC32","v":0},null,null,{"$f":"$G32*EF32","v":0},null,null,{"$f":"$G32*EI32","v":0},null,null,{"$f":"$G32*EL32","v":0},null,null,{"$f":"$G32*EO32","v":0},null,null,{"$f":"$G32*ER32","v":0},null,null,{"$f":"$G32*EU32","v":0},null,null,{"$f":"$G32*EX32","v":0},null,null,{"$f":"$G32*FA32","v":0},null,null,{"$f":"$G32*FD32","v":0},null,null,{"$f":"$G32*FG32","v":0},null,null,{"$f":"$G32*FJ32","v":0},null,null,{"$f":"$G32*FM32","v":0},null,null,{"$f":"$G32*FP32","v":0},null,null,{"$f":"$G32*FS32","v":0},null,null,{"$f":"$G32*FV32","v":0},null,null,{"$f":"$G32*FY32","v":0},null,null,{"$f":"$G32*GB32","v":0},null,null,{"$f":"$G32*GE32","v":0},null,null,{"$f":"$G32*GH32","v":0},null,null,{"$f":"$G32*GK32","v":0},null,null,{"$f":"$G32*GN32","v":0},null,null,{"$f":"$G32*GQ32","v":0},null,null,{"$f":"$G32*GT32","v":0},null,null,{"$f":"$G32*GW32","v":0},null,null,{"$f":"$G32*GZ32","v":0},null,null,{"$f":"$G32*HC32","v":0},null,null,{"$f":"$G32*HF32","v":0},null,null,{"$f":"$G32*HI32","v":0}]
["2.2","Z",2,"Giter polublok (12cm) (d/š/v) 250x120x190mm","Gitter half block (12cm) (l/w/h) 250x120x190mm","kom/pcs",{"$f":"CENA!G24","v":0},0,0,null,{"$f":"$G33*J33","v":0},null,null,0,null,null,{"$f":"$G33*P33","v":0},null,null,{"$f":"$G33*S33","v":0},null,null,{"$f":"$G33*V33","v":0},null,null,{"$f":"$G33*Y33","v":0},null,null,{"$f":"$G33*AB33","v":0},null,null,{"$f":"$G33*AE33","v":0},null,null,{"$f":"$G33*AH33","v":0},null,null,{"$f":"$G33*AK33","v":0},null,null,{"$f":"$G33*AN33","v":0},null,null,{"$f":"$G33*AQ33","v":0},null,null,{"$f":"$G33*AT33","v":0},null,null,{"$f":"$G33*AW33","v":0},null,null,{"$f":"$G33*AZ33","v":0},null,null,{"$f":"$G33*BC33","v":0},null,null,0,null,null,0,null,null,{"$f":"$G33*BL33","v":0},null,null,{"$f":"$G33*BO33","v":0},null,null,{"$f":"$G33*BR33","v":0},null,null,{"$f":"$G33*BU33","v":0},null,null,{"$f":"$G33*BX33","v":0},null,null,{"$f":"$G33*CA33","v":0},null,null,{"$f":"$G33*CD33","v":0},null,null,{"$f":"$G33*CG33","v":0},null,null,{"$f":"$G33*CJ33","v":0},null,null,{"$f":"$G33*CM33","v":0},null,null,{"$f":"$G33*CP33","v":0},null,null,{"$f":"$G33*CS33","v":0},null,null,{"$f":"$G33*CV33","v":0},null,null,{"$f":"$G33*CY33","v":0},null,null,0,null,null,0,null,null,{"$f":"$G33*DH33","v":0},null,null,{"$f":"$G33*DK33","v":0},null,null,{"$f":"$G33*DN33","v":0},null,null,{"$f":"$G33*DQ33","v":0},null,null,{"$f":"$G33*DT33","v":0},null,null,{"$f":"$G33*DW33","v":0},null,null,{"$f":"$G33*DZ33","v":0},null,null,{"$f":"$G33*EC33","v":0},null,null,{"$f":"$G33*EF33","v":0},null,null,{"$f":"$G33*EI33","v":0},null,null,{"$f":"$G33*EL33","v":0},null,null,{"$f":"$G33*EO33","v":0},null,null,{"$f":"$G33*ER33","v":0},null,null,{"$f":"$G33*EU33","v":0},null,null,0,null,null,0,null,null,{"$f":"$G33*FD33","v":0},null,null,{"$f":"$G33*FG33","v":0},null,null,{"$f":"$G33*FJ33","v":0},null,null,{"$f":"$G33*FM33","v":0},null,null,{"$f":"$G33*FP33","v":0},null,null,{"$f":"$G33*FS33","v":0},null,null,{"$f":"$G33*FV33","v":0},null,null,{"$f":"$G33*FY33","v":0},null,null,{"$f":"$G33*GB33","v":0},null,null,{"$f":"$G33*GE33","v":0},null,null,{"$f":"$G33*GH33","v":0},null,null,{"$f":"$G33*GK33","v":0},null,null,{"$f":"$G33*GN33","v":0},null,null,{"$f":"$G33*GQ33","v":0},null,null,{"$f":"$G33*GT33","v":0},null,null,{"$f":"$G33*GW33","v":0},null,null,{"$f":"$G33*GZ33","v":0},null,null,{"$f":"$G33*HC33","v":0},null,null,{"$f":"$G33*HF33","v":0},null,null,{"$f":"$G33*HI33","v":0}]
["2.3","Z",3,"Opeka puna (d/š/v) 250x120x65 mm","Brick (full-without holes) (l/w/h) 250x120x65 mm","kom/pcs",{"$f":"CENA!G25","v":0},0,0,null,{"$f":"$G34*J34","v":0},null,null,0,null,null,{"$f":"$G34*P34","v":0},null,null,{"$f":"$G34*S34","v":0},null,null,{"$f":"$G34*V34","v":0},null,null,{"$f":"$G34*Y34","v":0},null,null,{"$f":"$G34*AB34","v":0},null,null,{"$f":"$G34*AE34","v":0},null,null,{"$f":"$G34*AH34","v":0},null,null,{"$f":"$G34*AK34","v":0},null,null,{"$f":"$G34*AN34","v":0},null,null,{"$f":"$G34*AQ34","v":0},null,null,{"$f":"$G34*AT34","v":0},null,null,{"$f":"$G34*AW34","v":0},null,null,{"$f":"$G34*AZ34","v":0},null,null,{"$f":"$G34*BC34","v":0},null,null,0,null,null,0,null,null,{"$f":"$G34*BL34","v":0},null,null,{"$f":"$G34*BO34","v":0},null,null,{"$f":"$G34*BR34","v":0},null,null,{"$f":"$G34*BU34","v":0},null,null,{"$f":"$G34*BX34","v":0},null,null,{"$f":"$G34*CA34","v":0},null,null,{"$f":"$G34*CD34","v":0},null,null,{"$f":"$G34*CG34","v":0},null,null,{"$f":"$G34*CJ34","v":0},null,null,{"$f":"$G34*CM34","v":0},null,null,{"$f":"$G34*CP34","v":0},null,null,{"$f":"$G34*CS34","v":0},null,null,{"$f":"$G34*CV34","v":0},null,null,{"$f":"$G34*CY34","v":0},null,null,0,null,null,0,null,null,{"$f":"$G34*DH34","v":0},null,null,{"$f":"$G34*DK34","v":0},null,null,{"$f":"$G34*DN34","v":0},null,null,{"$f":"$G34*DQ34","v":0},null,null,{"$f":"$G34*DT34","v":0},null,null,{"$f":"$G34*DW34","v":0},null,null,{"$f":"$G34*DZ34","v":0},null,null,{"$f":"$G34*EC34","v":0},null,null,{"$f":"$G34*EF34","v":0},null,null,{"$f":"$G34*EI34","v":0},null,null,{"$f":"$G34*EL34","v":0},null,null,{"$f":"$G34*EO34","v":0},null,null,{"$f":"$G34*ER34","v":0},null,null,{"$f":"$G34*EU34","v":0},null,null,0,null,null,0,null,null,{"$f":"$G34*FD34","v":0},null,null,{"$f":"$G34*FG34","v":0},null,null,{"$f":"$G34*FJ34","v":0},null,null,{"$f":"$G34*FM34","v":0},null,null,{"$f":"$G34*FP34","v":0},null,null,{"$f":"$G34*FS34","v":0},null,null,{"$f":"$G34*FV34","v":0},null,null,{"$f":"$G34*FY34","v":0},null,null,{"$f":"$G34*GB34","v":0},null,null,{"$f":"$G34*GE34","v":0},null,null,{"$f":"$G34*GH34","v":0},null,null,{"$f":"$G34*GK34","v":0},null,null,{"$f":"$G34*GN34","v":0},null,null,{"$f":"$G34*GQ34","v":0},null,null,{"$f":"$G34*GT34","v":0},null,null,{"$f":"$G34*GW34","v":0},null,null,{"$f":"$G34*GZ34","v":0},null,null,{"$f":"$G34*HC34","v":0},null,null,{"$f":"$G34*HF34","v":0},null,null,{"$f":"$G34*HI34","v":0}]
["2.4","Z",4,"Blok od porobetona za pregradni zid\n(d/š/v) 625x200x200 mm","Aerated concrete block for partition wall\n(l/w/h) 625x200x200 mm","kom/pcs",{"$f":"CENA!G26","v":0},0,0,null,{"$f":"$G35*J35","v":0},null,null,0,null,null,{"$f":"$G35*P35","v":0},null,null,{"$f":"$G35*S35","v":0},null,null,{"$f":"$G35*V35","v":0},null,null,{"$f":"$G35*Y35","v":0},null,null,{"$f":"$G35*AB35","v":0},null,null,{"$f":"$G35*AE35","v":0},null,null,{"$f":"$G35*AH35","v":0},null,null,{"$f":"$G35*AK35","v":0},null,null,{"$f":"$G35*AN35","v":0},null,null,{"$f":"$G35*AQ35","v":0},null,null,{"$f":"$G35*AT35","v":0},null,null,{"$f":"$G35*AW35","v":0},null,null,{"$f":"$G35*AZ35","v":0},null,null,{"$f":"$G35*BC35","v":0},null,null,0,null,null,0,null,null,{"$f":"$G35*BL35","v":0},null,null,{"$f":"$G35*BO35","v":0},null,null,{"$f":"$G35*BR35","v":0},null,null,{"$f":"$G35*BU35","v":0},null,null,{"$f":"$G35*BX35","v":0},null,null,{"$f":"$G35*CA35","v":0},null,null,{"$f":"$G35*CD35","v":0},null,null,{"$f":"$G35*CG35","v":0},null,null,{"$f":"$G35*CJ35","v":0},null,null,{"$f":"$G35*CM35","v":0},null,null,{"$f":"$G35*CP35","v":0},null,null,{"$f":"$G35*CS35","v":0},null,null,{"$f":"$G35*CV35","v":0},null,null,{"$f":"$G35*CY35","v":0},null,null,0,null,null,0,null,null,{"$f":"$G35*DH35","v":0},null,null,{"$f":"$G35*DK35","v":0},null,null,{"$f":"$G35*DN35","v":0},null,null,{"$f":"$G35*DQ35","v":0},null,null,{"$f":"$G35*DT35","v":0},null,null,{"$f":"$G35*DW35","v":0},null,null,{"$f":"$G35*DZ35","v":0},null,null,{"$f":"$G35*EC35","v":0},null,null,{"$f":"$G35*EF35","v":0},null,null,{"$f":"$G35*EI35","v":0},null,null,{"$f":"$G35*EL35","v":0},null,null,{"$f":"$G35*EO35","v":0},null,null,{"$f":"$G35*ER35","v":0},null,null,{"$f":"$G35*EU35","v":0},null,null,0,null,null,0,null,null,{"$f":"$G35*FD35","v":0},null,null,{"$f":"$G35*FG35","v":0},null,null,{"$f":"$G35*FJ35","v":0},null,null,{"$f":"$G35*FM35","v":0},null,null,{"$f":"$G35*FP35","v":0},null,null,{"$f":"$G35*FS35","v":0},null,null,{"$f":"$G35*FV35","v":0},null,null,{"$f":"$G35*FY35","v":0},null,null,{"$f":"$G35*GB35","v":0},null,null,{"$f":"$G35*GE35","v":0},null,null,{"$f":"$G35*GH35","v":0},null,null,{"$f":"$G35*GK35","v":0},null,null,{"$f":"$G35*GN35","v":0},null,null,{"$f":"$G35*GQ35","v":0},null,null,{"$f":"$G35*GT35","v":0},null,null,{"$f":"$G35*GW35","v":0},null,null,{"$f":"$G35*GZ35","v":0},null,null,{"$f":"$G35*HC35","v":0},null,null,{"$f":"$G35*HF35","v":0},null,null,{"$f":"$G35*HI35","v":0}]
["2.5","Z",5,"Fert nosači (gredice)\nDužina nosača je jednaka dužini binora = \nširina otvora između zidova + 30 cm.\nBroj gredica = dužina prostorije x 0,40","Fert beams\nBoom length is equal to the length of Binor =\nwidth of the openings between the walls + 30 cm.\nNumber of beams = length of room x 0.40","/","/","/","/","/","/",null,null,"/",null,"/","/",null,"/","/",null,"/","/",null,"/","/",null,"/","/",null,"/","/",null,"/","/",null,"/","/",null,"/","/",null,"/","/",null,"/","/",null,"/","/",null,"/","/",null,"/","/",null,"/","/",null,null,"/",null,"/","/",null,"/","/",null,"/","/",null,"/","/",null,"/","/",null,"/","/",null,"/","/",null,"/","/",null,"/","/",null,"/","/",null,"/","/",null,"/","/",null,"/","/",null,"/","/",null,"/","/",null,null,"/",null,"/","/",null,"/","/",null,"/","/",null,"/","/",null,"/","/",null,"/","/",null,"/","/",null,"/","/",null,"/","/",null,"/","/",null,"/","/",null,"/","/",null,"/","/",null,"/","/",null,"/","/",null,null,"/",null,"/","/",null,"/","/",null,"/","/",null,"/","/",null,"/","/",null,"/","/",null,"/","/",null,"/","/",null,"/","/",null,"/","/",null,"/","/",null,"/","/",null,"/","/",null,"/","/",null,"/","/",null,"/","/",null,"/","/",null,"/","/",null,"/","/",null,"/","/"]
["2.5.1",null,"A","0,00-3,90 m ","0,00-3,90 m ","m1",{"$f":"CENA!G28","v":0},{"$f":"J37+M37+P37+S37+V37+Y37+AB37+AE37+AH37+AK37+AN37+AQ37+AZ37+AW37+AT37+BC37+BF37+BI37+BL37+BO37+BR37+BU37+BX37+CA37+CD37+CG37+CJ37+CM37+CP37+CS37+CV37+CY37+DB37+DE37+DH37+DK37+DN37+DQ37+DT37+DW37+DZ37+EC37+EF37+EI37+EL37+EO37+ER37+EU37+EX37+FA37+FD37+FG37+FJ37+FM37+FP37+FS37+FV37+FY37+GB37+GE37+GH37+GK37+GN37+GQ37+GT37+GW37+GZ37+HC37+HF37+HI37","v":0},{"$f":"G37*H37","v":0},null,{"$f":"$G37*J37","v":0},{"$f":"J37/3.9","v":0},null,{"$f":"$G37*M37","v":0},{"$f":"M37/3.9","v":0},null,{"$f":"$G37*P37","v":0},null,null,{"$f":"$G37*S37","v":0},null,null,{"$f":"$G37*V37","v":0},null,null,{"$f":"$G37*Y37","v":0},null,null,{"$f":"$G37*AB37","v":0},null,null,{"$f":"$G37*AE37","v":0},{"$f":"AE37/3.9","v":0},null,{"$f":"$G37*AH37","v":0},{"$f":"AH37/3.9","v":0},null,{"$f":"$G37*AK37","v":0},null,null,{"$f":"$G37*AN37","v":0},null,null,{"$f":"$G37*AQ37","v":0},{"$f":"AQ37/3.9","v":0},null,{"$f":"$G37*AT37","v":0},{"$f":"AT37/3.9","v":0},null,{"$f":"$G37*AW37","v":0},null,null,{"$f":"$G37*AZ37","v":0},null,null,{"$f":"$G37*BC37","v":0},null,null,{"$f":"$G37*BF37","v":0},{"$f":"BF37/3.9","v":0},null,{"$f":"$G37*BI37","v":0},{"$f":"BI37/3.9","v":0},null,{"$f":"$G37*BL37","v":0},null,null,{"$f":"$G37*BO37","v":0},null,null,{"$f":"$G37*BR37","v":0},null,null,{"$f":"$G37*BU37","v":0},null,null,{"$f":"$G37*BX37","v":0},null,null,{"$f":"$G37*CA37","v":0},{"$f":"CA37/3.9","v":0},null,{"$f":"$G37*CD37","v":0},{"$f":"CD37/3.9","v":0},null,{"$f":"$G37*CG37","v":0},null,null,{"$f":"$G37*CJ37","v":0},null,null,{"$f":"$G37*CM37","v":0},{"$f":"CM37/3.9","v":0},null,{"$f":"$G37*CP37","v":0},{"$f":"CP37/3.9","v":0},null,{"$f":"$G37*CS37","v":0},null,null,{"$f":"$G37*CV37","v":0},null,null,{"$f":"$G37*CY37","v":0},null,null,{"$f":"$G37*DB37","v":0},{"$f":"DB37/3.9","v":0},null,{"$f":"$G37*DE37","v":0},{"$f":"DE37/3.9","v":0},null,{"$f":"$G37*DH37","v":0},null,null,{"$f":"$G37*DK37","v":0},null,null,{"$f":"$G37*DN37","v":0},null,null,{"$f":"$G37*DQ37","v":0},null,null,{"$f":"$G37*DT37","v":0},null,null,{"$f":"$G37*DW37","v":0},{"$f":"DW37/3.9","v":0},null,{"$f":"$G37*DZ37","v":0},{"$f":"DZ37/3.9","v":0},null,{"$f":"$G37*EC37","v":0},null,null,{"$f":"$G37*EF37","v":0},null,null,{"$f":"$G37*EI37","v":0},{"$f":"EI37/3.9","v":0},null,{"$f":"$G37*EL37","v":0},{"$f":"EL37/3.9","v":0},null,{"$f":"$G37*EO37","v":0},null,null,{"$f":"$G37*ER37","v":0},null,null,{"$f":"$G37*EU37","v":0},null,null,{"$f":"$G37*EX37","v":0},{"$f":"EX37/3.9","v":0},null,{"$f":"$G37*FA37","v":0},{"$f":"FA37/3.9","v":0},null,{"$f":"$G37*FD37","v":0},null,null,{"$f":"$G37*FG37","v":0},null,null,{"$f":"$G37*FJ37","v":0},null,null,{"$f":"$G37*FM37","v":0},null,null,{"$f":"$G37*FP37","v":0},null,null,{"$f":"$G37*FS37","v":0},{"$f":"FS37/3.9","v":0},null,{"$f":"$G37*FV37","v":0},{"$f":"FV37/3.9","v":0},null,{"$f":"$G37*FY37","v":0},null,null,{"$f":"$G37*GB37","v":0},null,null,{"$f":"$G37*GE37","v":0},{"$f":"GE37/3.9","v":0},null,{"$f":"$G37*GH37","v":0},{"$f":"GH37/3.9","v":0},null,{"$f":"$G37*GK37","v":0},null,null,{"$f":"$G37*GN37","v":0},null,null,{"$f":"$G37*GQ37","v":0},null,null,{"$f":"$G37*GT37","v":0},null,null,{"$f":"$G37*GW37","v":0},{"$f":"GW37/3.9","v":0},null,{"$f":"$G37*GZ37","v":0},{"$f":"GZ37/3.9","v":0},null,{"$f":"$G37*HC37","v":0},null,null,{"$f":"$G37*HF37","v":0},null,null,{"$f":"$G37*HI37","v":0}]
["2.5.2",null,"B","3,91-4,50 m ","3,91-4,50 m ","m1",{"$f":"CENA!G29","v":0},0,0,null,{"$f":"$G38*J38","v":0},{"$f":"J38/4.5","v":0},null,0,{"$f":"M38/4.5","v":0},null,0,null,null,0,null,null,0,null,null,0,null,null,0,null,null,0,{"$f":"AE38/4.5","v":0},null,0,{"$f":"AH38/4.5","v":0},null,0,null,null,0,null,null,0,{"$f":"AQ38/4.5","v":0},null,0,{"$f":"AT38/4.5","v":0},null,0,null,null,0,null,null,0,null,null,0,{"$f":"BF38/4.5","v":0},null,0,{"$f":"BI38/4.5","v":0},null,0,null,null,0,null,null,0,null,null,0,null,null,0,null,null,0,{"$f":"CA38/4.5","v":0},null,0,{"$f":"CD38/4.5","v":0},null,0,null,null,0,null,null,0,{"$f":"CM38/4.5","v":0},null,0,{"$f":"CP38/4.5","v":0},null,0,null,null,0,null,null,0,null,null,0,{"$f":"DB38/4.5","v":0},null,0,{"$f":"DE38/4.5","v":0},null,0,null,null,0,null,null,0,null,null,0,null,null,0,null,null,0,{"$f":"DW38/4.5","v":0},null,0,{"$f":"DZ38/4.5","v":0},null,0,null,null,0,null,null,0,{"$f":"EI38/4.5","v":0},null,0,{"$f":"EL38/4.5","v":0},null,0,null,null,0,null,null,0,null,null,0,{"$f":"EX38/4.5","v":0},null,0,{"$f":"FA38/4.5","v":0},null,0,null,null,0,null,null,0,null,null,0,null,null,0,null,null,0,{"$f":"FS38/4.5","v":0},null,0,{"$f":"FV38/4.5","v":0},null,0,null,null,0,null,null,0,{"$f":"GE38/4.5","v":0},null,0,{"$f":"GH38/4.5","v":0},null,0,null,null,0,null,null,0,null,null,0,null,null,0,{"$f":"GW38/4.5","v":0},null,0,{"$f":"GZ38/4.5","v":0},null,0,null,null,0,null,null,0]
["2.5.3",null,"C","4,51-4,90 m ","4,51-4,90 m ","m1",{"$f":"CENA!G30","v":0},0,0,null,{"$f":"$G39*J39","v":0},{"$f":"J39/4.9","v":0},null,0,{"$f":"M39/4.9","v":0},null,0,null,null,0,null,null,0,null,null,0,null,null,0,null,null,0,{"$f":"AE39/4.9","v":0},null,0,{"$f":"AH39/4.9","v":0},null,0,null,null,0,null,null,0,{"$f":"AQ39/4.9","v":0},null,0,{"$f":"AT39/4.9","v":0},null,0,null,null,0,null,null,0,null,null,0,{"$f":"BF39/4.9","v":0},null,0,{"$f":"BI39/4.9","v":0},null,0,null,null,0,null,null,0,null,null,0,null,null,0,null,null,0,{"$f":"CA39/4.9","v":0},null,0,{"$f":"CD39/4.9","v":0},null,0,null,null,0,null,null,0,{"$f":"CM39/4.9","v":0},null,0,{"$f":"CP39/4.9","v":0},null,0,null,null,0,null,null,0,null,null,0,{"$f":"DB39/4.9","v":0},null,0,{"$f":"DE39/4.9","v":0},null,0,null,null,0,null,null,0,null,null,0,null,null,0,null,null,0,{"$f":"DW39/4.9","v":0},null,0,{"$f":"DZ39/4.9","v":0},null,0,null,null,0,null,null,0,{"$f":"EI39/4.9","v":0},null,0,{"$f":"EL39/4.9","v":0},null,0,null,null,0,null,null,0,null,null,0,{"$f":"EX39/4.9","v":0},null,0,{"$f":"FA39/4.9","v":0},null,0,null,null,0,null,null,0,null,null,0,null,null,0,null,null,0,{"$f":"FS39/4.9","v":0},null,0,{"$f":"FV39/4.9","v":0},null,0,null,null,0,null,null,0,{"$f":"GE39/4.9","v":0},null,0,{"$f":"GH39/4.9","v":0},null,0,null,null,0,null,null,0,null,null,0,null,null,0,{"$f":"GW39/4.9","v":0},null,0,{"$f":"GZ39/4.9","v":0},null,0,null,null,0,null,null,0]
["2.5.4",null,"D","4,91-5,30 m ","4,91-5,30 m ","m1",{"$f":"CENA!G31","v":0},0,0,null,{"$f":"$G40*J40","v":0},{"$f":"J40/5.3","v":0},null,0,{"$f":"M40/5.3","v":0},null,0,null,null,0,null,null,0,null,null,0,null,null,0,null,null,0,{"$f":"AE40/5.3","v":0},null,0,{"$f":"AH40/5.3","v":0},null,0,null,null,0,null,null,0,{"$f":"AQ40/5.3","v":0},null,0,{"$f":"AT40/5.3","v":0},null,0,null,null,0,null,null,0,null,null,0,{"$f":"BF40/5.3","v":0},null,0,{"$f":"BI40/5.3","v":0},null,0,null,null,0,null,null,0,null,null,0,null,null,0,null,null,0,{"$f":"CA40/5.3","v":0},null,0,{"$f":"CD40/5.3","v":0},null,0,null,null,0,null,null,0,{"$f":"CM40/5.3","v":0},null,0,{"$f":"CP40/5.3","v":0},null,0,null,null,0,null,null,0,null,null,0,{"$f":"DB40/5.3","v":0},null,0,{"$f":"DE40/5.3","v":0},null,0,null,null,0,null,null,0,null,null,0,null,null,0,null,null,0,{"$f":"DW40/5.3","v":0},null,0,{"$f":"DZ40/5.3","v":0},null,0,null,null,0,null,null,0,{"$f":"EI40/5.3","v":0},null,0,{"$f":"EL40/5.3","v":0},null,0,null,null,0,null,null,0,null,null,0,{"$f":"EX40/5.3","v":0},null,0,{"$f":"FA40/5.3","v":0},null,0,null,null,0,null,null,0,null,null,0,null,null,0,null,null,0,{"$f":"FS40/5.3","v":0},null,0,{"$f":"FV40/5.3","v":0},null,0,null,null,0,null,null,0,{"$f":"GE40/5.3","v":0},null,0,{"$f":"GH40/5.3","v":0},null,0,null,null,0,null,null,0,null,null,0,null,null,0,{"$f":"GW40/5.3","v":0},null,0,{"$f":"GZ40/5.3","v":0},null,0,null,null,0,null,null,0]
["2.5.5",null,"E","5,31-5,90 m ","5,31-5,90 m ","m1",{"$f":"CENA!G32","v":0},0,0,null,{"$f":"$G41*J41","v":0},{"$f":"J41/5.9","v":0},null,0,{"$f":"M41/5.9","v":0},null,0,null,null,0,null,null,0,null,null,0,null,null,0,null,null,0,{"$f":"AE41/5.9","v":0},null,0,{"$f":"AH41/5.9","v":0},null,0,null,null,0,null,null,0,{"$f":"AQ41/5.9","v":0},null,0,{"$f":"AT41/5.9","v":0},null,0,null,null,0,null,null,0,null,null,0,{"$f":"BF41/5.9","v":0},null,0,{"$f":"BI41/5.9","v":0},null,0,null,null,0,null,null,0,null,null,0,null,null,0,null,null,0,{"$f":"CA41/5.9","v":0},null,0,{"$f":"CD41/5.9","v":0},null,0,null,null,0,null,null,0,{"$f":"CM41/5.9","v":0},null,0,{"$f":"CP41/5.9","v":0},null,0,null,null,0,null,null,0,null,null,0,{"$f":"DB41/5.9","v":0},null,0,{"$f":"DE41/5.9","v":0},null,0,null,null,0,null,null,0,null,null,0,null,null,0,null,null,0,{"$f":"DW41/5.9","v":0},null,0,{"$f":"DZ41/5.9","v":0},null,0,null,null,0,null,null,0,{"$f":"EI41/5.9","v":0},null,0,{"$f":"EL41/5.9","v":0},null,0,null,null,0,null,null,0,null,null,0,{"$f":"EX41/5.9","v":0},null,0,{"$f":"FA41/5.9","v":0},null,0,null,null,0,null,null,0,null,null,0,null,null,0,null,null,0,{"$f":"FS41/5.9","v":0},null,0,{"$f":"FV41/5.9","v":0},null,0,null,null,0,null,null,0,{"$f":"GE41/5.9","v":0},null,0,{"$f":"GH41/5.9","v":0},null,0,null,null,0,null,null,0,null,null,0,null,null,0,{"$f":"GW41/5.9","v":0},null,0,{"$f":"GZ41/5.9","v":0},null,0,null,null,0,null,null,0]
["2.5.6",null,"F","5,91-6,30 m ","5,91-6,30 m ","m1",{"$f":"CENA!G33","v":0},0,0,null,{"$f":"$G42*J42","v":0},{"$f":"J42/6.3","v":0},null,0,{"$f":"M42/6.3","v":0},null,0,null,null,0,null,null,0,null,null,0,null,null,0,null,null,0,{"$f":"AE42/6.3","v":0},null,0,{"$f":"AH42/6.3","v":0},null,0,null,null,0,null,null,0,{"$f":"AQ42/6.3","v":0},null,0,{"$f":"AT42/6.3","v":0},null,0,null,null,0,null,null,0,null,null,0,{"$f":"BF42/6.3","v":0},null,0,{"$f":"BI42/6.3","v":0},null,0,null,null,0,null,null,0,null,null,0,null,null,0,null,null,0,{"$f":"CA42/6.3","v":0},null,0,{"$f":"CD42/6.3","v":0},null,0,null,null,0,null,null,0,{"$f":"CM42/6.3","v":0},null,0,{"$f":"CP42/6.3","v":0},null,0,null,null,0,null,null,0,null,null,0,{"$f":"DB42/6.3","v":0},null,0,{"$f":"DE42/6.3","v":0},null,0,null,null,0,null,null,0,null,null,0,null,null,0,null,null,0,{"$f":"DW42/6.3","v":0},null,0,{"$f":"DZ42/6.3","v":0},null,0,null,null,0,null,null,0,{"$f":"EI42/6.3","v":0},null,0,{"$f":"EL42/6.3","v":0},null,0,null,null,0,null,null,0,null,null,0,{"$f":"EX42/6.3","v":0},null,0,{"$f":"FA42/6.3","v":0},null,0,null,null,0,null,null,0,null,null,0,null,null,0,null,null,0,{"$f":"FS42/6.3","v":0},null,0,{"$f":"FV42/6.3","v":0},null,0,null,null,0,null,null,0,{"$f":"GE42/6.3","v":0},null,0,{"$f":"GH42/6.3","v":0},null,0,null,null,0,null,null,0,null,null,0,null,null,0,{"$f":"GW42/6.3","v":0},null,0,{"$f":"GZ42/6.3","v":0},null,0,null,null,0,null,null,0]
["2.6","Z",6,"Fert ispuna (d/š/v) 245x285/275x160 mm ","Fert fillings (l/w/h) 245x285/275x160 mm ","kom/pcs",{"$f":"CENA!G34","v":0},0,0,null,{"$f":"$G43*J43","v":0},null,null,0,null,null,0,null,null,0,null,null,0,null,null,0,null,null,0,null,null,0,null,null,0,null,null,0,null,null,0,null,null,0,null,null,0,null,null,0,null,null,0,null,null,0,null,null,0,null,null,0,null,null,0,null,null,0,null,null,0,null,null,0,null,null,0,null,null,0,null,null,0,null,null,0,null,null,0,null,null,0,null,null,0,null,null,0,null,null,0,null,null,0,null,null,0,null,null,0,null,null,0,null,null,0,null,null,0,null,null,0,null,null,0,null,null,0,null,null,0,null,null,0,null,null,0,null,null,0,null,null,0,null,null,0,null,null,0,null,null,0,null,null,0,null,null,0,null,null,0,null,null,0,null,null,0,null,null,0,null,null,0,null,null,0,null,null,0,null,null,0,null,null,0,null,null,0,null,null,0,null,null,0,null,null,0,null,null,0,null,null,0,null,null,0,null,null,0,null,null,0,null,null,0,null,null,0]
["2.7","Z",7,"Malter za zidanje \nPripremljeno krečno - cementno vezivo","Mortar for masonry\nPrepared lime - cement binder","kg",{"$f":"CENA!G35","v":0},0,0,null,{"$f":"$G44*J44","v":0},null,null,0,null,null,0,null,null,0,null,null,0,null,null,0,null,null,0,null,null,0,null,null,0,null,null,0,null,null,0,null,null,0,null,null,0,null,null,0,null,null,0,null,null,0,null,null,0,null,null,0,null,null,0,null,null,0,null,null,0,null,null,0,null,null,0,null,null,0,null,null,0,null,null,0,null,null,0,null,null,0,null,null,0,null,null,0,null,null,0,null,null,0,null,null,0,null,null,0,null,null,0,null,null,0,null,null,0,null,null,0,null,null,0,null,null,0,null,null,0,null,null,0,null,null,0,null,null,0,null,null,0,null,null,0,null,null,0,null,null,0,null,null,0,null,null,0,null,null,0,null,null,0,null,null,0,null,null,0,null,null,0,null,null,0,null,null,0,null,null,0,null,null,0,null,null,0,null,null,0,null,null,0,null,null,0,null,null,0,null,null,0,null,null,0,null,null,0,null,null,0,null,null,0,null,null,0]
["2.8","Z",8,"Malter za malterisanje \nPripremljeno krečno - cementno vezivo","Mortar for plastering\nPrepared lime - cement binder","kg",{"$f":"CENA!G36","v":0},0,0,null,{"$f":"$G45*J45","v":0},null,null,0,null,null,0,null,null,0,null,null,0,null,null,0,null,null,0,null,null,0,null,null,0,null,null,0,null,null,0,null,null,0,null,null,0,null,null,0,null,null,0,null,null,0,null,null,0,null,null,0,null,null,0,null,null,0,null,null,0,null,null,0,null,null,0,null,null,0,null,null,0,null,null,0,null,null,0,null,null,0,null,null,0,null,null,0,null,null,0,null,null,0,null,null,0,null,null,0,null,null,0,null,null,0,null,null,0,null,null,0,null,null,0,null,null,0,null,null,0,null,null,0,null,null,0,null,null,0,null,null,0,null,null,0,null,null,0,null,null,0,null,null,0,null,null,0,null,null,0,null,null,0,null,null,0,null,null,0,null,null,0,null,null,0,null,null,0,null,null,0,null,null,0,null,null,0,null,null,0,null,null,0,null,null,0,null,null,0,null,null,0,null,null,0,null,null,0,null,null,0,null,null,0,null,null,0]
["2.9","Z",9,"Krečna glet masa\nBezcementna krečna masa za gletovanje","Lime smoothing mass\nNo cement lime compound for smoothing","kg",{"$f":"CENA!G37","v":0},0,0,null,{"$f":"$G46*J46","v":0},null,null,0,null,null,0,null,null,0,null,null,0,null,null,0,null,null,0,null,null,0,null,null,0,null,null,0,null,null,0,null,null,0,null,null,0,null,null,0,null,null,0,null,null,0,null,null,0,null,null,0,null,null,0,null,null,0,null,null,0,null,null,0,null,null,0,null,null,0,null,null,0,null,null,0,null,null,0,null,null,0,null,null,0,null,null,0,null,null,0,null,null,0,null,null,0,null,null,0,null,null,0,null,null,0,null,null,0,null,null,0,null,null,0,null,null,0,null,null,0,null,null,0,null,null,0,null,null,0,null,null,0,null,null,0,null,null,0,null,null,0,null,null,0,null,null,0,null,null,0,null,null,0,null,null,0,null,null,0,null,null,0,null,null,0,null,null,0,null,null,0,null,null,0,null,null,0,null,null,0,null,null,0,null,null,0,null,null,0,null,null,0,null,null,0,null,null,0,null,null,0,null,null,0,null,null,0]
["2.10","Z",10,"Poludisperzivna boja \nPoludisperziona boja  razrediva vodom","Semi dispersion paint","kg",{"$f":"CENA!G38","v":0},0,0,null,{"$f":"$G47*J47","v":0},null,null,0,null,null,0,null,null,0,null,null,0,null,null,0,null,null,0,null,null,0,null,null,0,null,null,0,null,null,0,null,null,0,null,null,0,null,null,0,null,null,0,null,null,0,null,null,0,null,null,0,null,null,0,null,null,0,null,null,0,null,null,0,null,null,0,null,null,0,null,null,0,null,null,0,null,null,0,null,null,0,null,null,0,null,null,0,null,null,0,null,null,0,null,null,0,null,null,0,null,null,0,null,null,0,null,null,0,null,null,0,null,null,0,null,null,0,null,null,0,null,null,0,null,null,0,null,null,0,null,null,0,null,null,0,null,null,0,null,null,0,null,null,0,null,null,0,null,null,0,null,null,0,null,null,0,null,null,0,null,null,0,null,null,0,null,null,0,null,null,0,null,null,0,null,null,0,null,null,0,null,null,0,null,null,0,null,null,0,null,null,0,null,null,0,null,null,0,null,null,0,null,null,0,null,null,0]
[]
["3","K",null,"MATERIJAL ZA KROVNU KONSTRUKCIJU, KROVNI POKRIVAČ, OSB I GIPS KARONSKE TABLE","ROOF CONSTRUCTION AND ROOFING MATERIAL, OSB AND PLASTERBOARD TABLE"]
["3.1","K",1,"Presovani glineni crep I klase\ndimenzija: 400-450x245-275 mm","Pressed clay tiles class 1\ndim: 400-450x245-275 mm","kom/pcs",{"$f":"CENA!G41","v":0},{"$f":"J50+M50+P50+S50+V50+Y50+AB50+AE50+AH50+AK50+AN50+AQ50+AZ50+AW50+AT50+BC50+BF50+BI50+BL50+BO50+BR50+BU50+BX50+CA50+CD50+CG50+CJ50+CM50+CP50+CS50+CV50+CY50+DB50+DE50+DH50+DK50+DN50+DQ50+DT50+DW50+DZ50+EC50+EF50+EI50+EL50+EO50+ER50+EU50+EX50+FA50+FD50+FG50+FJ50+FM50+FP50+FS50+FV50+FY50+GB50+GE50+GH50+GK50+GN50+GQ50+GT50+GW50+GZ50+HC50+HF50+HI50","v":3520},{"$f":"G50*H50","v":0},null,{"$f":"$G50*J50","v":0},null,null,{"$f":"$G50*M50","v":0},null,2240,{"$f":"$G50*P50","v":0},null,null,{"$f":"$G50*S50","v":0},null,1280,{"$f":"$G50*V50","v":0},null,null,{"$f":"$G50*Y50","v":0},null,null,{"$f":"$G50*AB50","v":0},null,null,{"$f":"$G50*AE50","v":0},null,null,{"$f":"$G50*AH50","v":0},null,null,{"$f":"$G50*AK50","v":0},null,null,{"$f":"$G50*AN50","v":0},null,null,{"$f":"$G50*AQ50","v":0},null,null,{"$f":"$G50*AT50","v":0},null,null,{"$f":"$G50*AW50","v":0},null,null,{"$f":"$G50*AZ50","v":0},null,null,{"$f":"$G50*BC50","v":0},null,null,{"$f":"$G50*BF50","v":0},null,null,{"$f":"$G50*BI50","v":0},null,null,{"$f":"$G50*BL50","v":0},null,null,{"$f":"$G50*BO50","v":0},null,null,{"$f":"$G50*BR50","v":0},null,null,{"$f":"$G50*BU50","v":0},null,null,{"$f":"$G50*BX50","v":0},null,null,{"$f":"$G50*CA50","v":0},null,null,{"$f":"$G50*CD50","v":0},null,null,{"$f":"$G50*CG50","v":0},null,null,{"$f":"$G50*CJ50","v":0},null,null,{"$f":"$G50*CM50","v":0},null,null,{"$f":"$G50*CP50","v":0},null,null,{"$f":"$G50*CS50","v":0},null,null,{"$f":"$G50*CV50","v":0},null,null,{"$f":"$G50*CY50","v":0},null,null,{"$f":"$G50*DB50","v":0},null,null,{"$f":"$G50*DE50","v":0},null,null,{"$f":"$G50*DH50","v":0},null,null,{"$f":"$G50*DK50","v":0},null,null,{"$f":"$G50*DN50","v":0},null,null,{"$f":"$G50*DQ50","v":0},null,null,{"$f":"$G50*DT50","v":0},null,null,{"$f":"$G50*DW50","v":0},null,null,{"$f":"$G50*DZ50","v":0},null,null,{"$f":"$G50*EC50","v":0},null,null,{"$f":"$G50*EF50","v":0},null,null,{"$f":"$G50*EI50","v":0},null,null,{"$f":"$G50*EL50","v":0},null,null,{"$f":"$G50*EO50","v":0},null,null,{"$f":"$G50*ER50","v":0},null,null,{"$f":"$G50*EU50","v":0},null,null,{"$f":"$G50*EX50","v":0},null,null,{"$f":"$G50*FA50","v":0},null,null,{"$f":"$G50*FD50","v":0},null,null,{"$f":"$G50*FG50","v":0},null,null,{"$f":"$G50*FJ50","v":0},null,null,{"$f":"$G50*FM50","v":0},null,null,{"$f":"$G50*FP50","v":0},null,null,{"$f":"$G50*FS50","v":0},null,null,{"$f":"$G50*FV50","v":0},null,null,{"$f":"$G50*FY50","v":0},null,null,{"$f":"$G50*GB50","v":0},null,null,{"$f":"$G50*GE50","v":0},null,null,{"$f":"$G50*GH50","v":0},null,null,{"$f":"$G50*GK50","v":0},null,null,{"$f":"$G50*GN50","v":0},null,null,{"$f":"$G50*GQ50","v":0},null,null,{"$f":"$G50*GT50","v":0},null,null,{"$f":"$G50*GW50","v":0},null,null,{"$f":"$G50*GZ50","v":0},null,null,{"$f":"$G50*HC50","v":0},null,null,{"$f":"$G50*HF50","v":0},null,null,{"$f":"$G50*HI50","v":0}]
["3.2","K",3,"Biber crep I klase dimenzija: 180x380 mm","Biber clay tiles class 1 dim: 180x380 mm","kom/pcs",{"$f":"CENA!G42","v":0},0,0,null,{"$f":"$G51*J51","v":0},null,null,0,null,null,{"$f":"$G51*P51","v":0},null,null,{"$f":"$G51*S51","v":0},null,null,{"$f":"$G51*V51","v":0},null,null,{"$f":"$G51*Y51","v":0},null,null,{"$f":"$G51*AB51","v":0},null,null,{"$f":"$G51*AE51","v":0},null,null,{"$f":"$G51*AH51","v":0},null,null,{"$f":"$G51*AK51","v":0},null,null,{"$f":"$G51*AN51","v":0},null,null,{"$f":"$G51*AQ51","v":0},null,null,{"$f":"$G51*AT51","v":0},null,null,{"$f":"$G51*AW51","v":0},null,null,{"$f":"$G51*AZ51","v":0},null,null,{"$f":"$G51*BC51","v":0},null,null,0,null,null,0,null,null,{"$f":"$G51*BL51","v":0},null,null,{"$f":"$G51*BO51","v":0},null,null,{"$f":"$G51*BR51","v":0},null,null,{"$f":"$G51*BU51","v":0},null,null,{"$f":"$G51*BX51","v":0},null,null,{"$f":"$G51*CA51","v":0},null,null,{"$f":"$G51*CD51","v":0},null,null,{"$f":"$G51*CG51","v":0},null,null,{"$f":"$G51*CJ51","v":0},null,null,{"$f":"$G51*CM51","v":0},null,null,{"$f":"$G51*CP51","v":0},null,null,{"$f":"$G51*CS51","v":0},null,null,{"$f":"$G51*CV51","v":0},null,null,{"$f":"$G51*CY51","v":0},null,null,0,null,null,0,null,null,{"$f":"$G51*DH51","v":0},null,null,{"$f":"$G51*DK51","v":0},null,null,{"$f":"$G51*DN51","v":0},null,null,{"$f":"$G51*DQ51","v":0},null,null,{"$f":"$G51*DT51","v":0},null,null,{"$f":"$G51*DW51","v":0},null,null,{"$f":"$G51*DZ51","v":0},null,null,{"$f":"$G51*EC51","v":0},null,null,{"$f":"$G51*EF51","v":0},null,null,{"$f":"$G51*EI51","v":0},null,null,{"$f":"$G51*EL51","v":0},null,null,{"$f":"$G51*EO51","v":0},null,null,{"$f":"$G51*ER51","v":0},null,null,{"$f":"$G51*EU51","v":0},null,null,0,null,null,0,null,null,{"$f":"$G51*FD51","v":0},null,null,{"$f":"$G51*FG51","v":0},null,null,{"$f":"$G51*FJ51","v":0},null,null,{"$f":"$G51*FM51","v":0},null,null,{"$f":"$G51*FP51","v":0},null,null,{"$f":"$G51*FS51","v":0},null,null,{"$f":"$G51*FV51","v":0},null,null,{"$f":"$G51*FY51","v":0},null,null,{"$f":"$G51*GB51","v":0},null,null,{"$f":"$G51*GE51","v":0},null,null,{"$f":"$G51*GH51","v":0},null,null,{"$f":"$G51*GK51","v":0},null,null,{"$f":"$G51*GN51","v":0},null,null,{"$f":"$G51*GQ51","v":0},null,null,{"$f":"$G51*GT51","v":0},null,null,{"$f":"$G51*GW51","v":0},null,null,{"$f":"$G51*GZ51","v":0},null,null,{"$f":"$G51*HC51","v":0},null,null,{"$f":"$G51*HF51","v":0},null,null,{"$f":"$G51*HI51","v":0}]
["3.3","K",2,"Slemeni crep I klase (žljebnjak)","Ridge clay tiles class 1","kom/pcs",{"$f":"CENA!G43","v":0},0,0,null,{"$f":"$G52*J52","v":0},null,null,0,null,null,{"$f":"$G52*P52","v":0},null,null,{"$f":"$G52*S52","v":0},null,null,{"$f":"$G52*V52","v":0},null,null,{"$f":"$G52*Y52","v":0},null,null,{"$f":"$G52*AB52","v":0},null,null,{"$f":"$G52*AE52","v":0},null,null,{"$f":"$G52*AH52","v":0},null,null,{"$f":"$G52*AK52","v":0},null,null,{"$f":"$G52*AN52","v":0},null,null,{"$f":"$G52*AQ52","v":0},null,null,{"$f":"$G52*AT52","v":0},null,null,{"$f":"$G52*AW52","v":0},null,null,{"$f":"$G52*AZ52","v":0},null,null,{"$f":"$G52*BC52","v":0},null,null,0,null,null,0,null,null,{"$f":"$G52*BL52","v":0},null,null,{"$f":"$G52*BO52","v":0},null,null,{"$f":"$G52*BR52","v":0},null,null,{"$f":"$G52*BU52","v":0},null,null,{"$f":"$G52*BX52","v":0},null,null,{"$f":"$G52*CA52","v":0},null,null,{"$f":"$G52*CD52","v":0},null,null,{"$f":"$G52*CG52","v":0},null,null,{"$f":"$G52*CJ52","v":0},null,null,{"$f":"$G52*CM52","v":0},null,null,{"$f":"$G52*CP52","v":0},null,null,{"$f":"$G52*CS52","v":0},null,null,{"$f":"$G52*CV52","v":0},null,null,{"$f":"$G52*CY52","v":0},null,null,0,null,null,0,null,null,{"$f":"$G52*DH52","v":0},null,null,{"$f":"$G52*DK52","v":0},null,null,{"$f":"$G52*DN52","v":0},null,null,{"$f":"$G52*DQ52","v":0},null,null,{"$f":"$G52*DT52","v":0},null,null,{"$f":"$G52*DW52","v":0},null,null,{"$f":"$G52*DZ52","v":0},null,null,{"$f":"$G52*EC52","v":0},null,null,{"$f":"$G52*EF52","v":0},null,null,{"$f":"$G52*EI52","v":0},null,null,{"$f":"$G52*EL52","v":0},null,null,{"$f":"$G52*EO52","v":0},null,null,{"$f":"$G52*ER52","v":0},null,null,{"$f":"$G52*EU52","v":0},null,null,0,null,null,0,null,null,{"$f":"$G52*FD52","v":0},null,null,{"$f":"$G52*FG52","v":0},null,null,{"$f":"$G52*FJ52","v":0},null,null,{"$f":"$G52*FM52","v":0},null,null,{"$f":"$G52*FP52","v":0},null,null,{"$f":"$G52*FS52","v":0},null,null,{"$f":"$G52*FV52","v":0},null,null,{"$f":"$G52*FY52","v":0},null,null,{"$f":"$G52*GB52","v":0},null,null,{"$f":"$G52*GE52","v":0},null,null,{"$f":"$G52*GH52","v":0},null,null,{"$f":"$G52*GK52","v":0},null,null,{"$f":"$G52*GN52","v":0},null,null,{"$f":"$G52*GQ52","v":0},null,null,{"$f":"$G52*GT52","v":0},null,null,{"$f":"$G52*GW52","v":0},null,null,{"$f":"$G52*GZ52","v":0},null,null,{"$f":"$G52*HC52","v":0},null,null,{"$f":"$G52*HF52","v":0},null,null,{"$f":"$G52*HI52","v":0}]
["3.4","K",4,"Paropropusna i vodonepropusna krovna  folija kontrola vodene pare iznad termoizolacije","Vapour permeable and waterproof roof sheeting control of water vapor above the insulation","m2",{"$f":"CENA!G44","v":0},0,0,null,{"$f":"$G53*J53","v":0},null,null,0,null,null,{"$f":"$G53*P53","v":0},null,null,{"$f":"$G53*S53","v":0},null,null,{"$f":"$G53*V53","v":0},null,null,{"$f":"$G53*Y53","v":0},null,null,{"$f":"$G53*AB53","v":0},null,null,{"$f":"$G53*AE53","v":0},null,null,{"$f":"$G53*AH53","v":0},null,null,{"$f":"$G53*AK53","v":0},null,null,{"$f":"$G53*AN53","v":0},null,null,{"$f":"$G53*AQ53","v":0},null,null,{"$f":"$G53*AT53","v":0},null,null,{"$f":"$G53*AW53","v":0},null,null,{"$f":"$G53*AZ53","v":0},null,null,{"$f":"$G53*BC53","v":0},null,null,0,null,null,0,null,null,{"$f":"$G53*BL53","v":0},null,null,{"$f":"$G53*BO53","v":0},null,null,{"$f":"$G53*BR53","v":0},null,null,{"$f":"$G53*BU53","v":0},null,null,{"$f":"$G53*BX53","v":0},null,null,{"$f":"$G53*CA53","v":0},null,null,{"$f":"$G53*CD53","v":0},null,null,{"$f":"$G53*CG53","v":0},null,null,{"$f":"$G53*CJ53","v":0},null,null,{"$f":"$G53*CM53","v":0},null,null,{"$f":"$G53*CP53","v":0},null,null,{"$f":"$G53*CS53","v":0},null,null,{"$f":"$G53*CV53","v":0},null,null,{"$f":"$G53*CY53","v":0},null,null,0,null,null,0,null,null,{"$f":"$G53*DH53","v":0},null,null,{"$f":"$G53*DK53","v":0},null,null,{"$f":"$G53*DN53","v":0},null,null,{"$f":"$G53*DQ53","v":0},null,null,{"$f":"$G53*DT53","v":0},null,null,{"$f":"$G53*DW53","v":0},null,null,{"$f":"$G53*DZ53","v":0},null,null,{"$f":"$G53*EC53","v":0},null,null,{"$f":"$G53*EF53","v":0},null,null,{"$f":"$G53*EI53","v":0},null,null,{"$f":"$G53*EL53","v":0},null,null,{"$f":"$G53*EO53","v":0},null,null,{"$f":"$G53*ER53","v":0},null,null,{"$f":"$G53*EU53","v":0},null,null,0,null,null,0,null,null,{"$f":"$G53*FD53","v":0},null,null,{"$f":"$G53*FG53","v":0},null,null,{"$f":"$G53*FJ53","v":0},null,null,{"$f":"$G53*FM53","v":0},null,null,{"$f":"$G53*FP53","v":0},null,null,{"$f":"$G53*FS53","v":0},null,null,{"$f":"$G53*FV53","v":0},null,null,{"$f":"$G53*FY53","v":0},null,null,{"$f":"$G53*GB53","v":0},null,null,{"$f":"$G53*GE53","v":0},null,null,{"$f":"$G53*GH53","v":0},null,null,{"$f":"$G53*GK53","v":0},null,null,{"$f":"$G53*GN53","v":0},null,null,{"$f":"$G53*GQ53","v":0},null,null,{"$f":"$G53*GT53","v":0},null,null,{"$f":"$G53*GW53","v":0},null,null,{"$f":"$G53*GZ53","v":0},null,null,{"$f":"$G53*HC53","v":0},null,null,{"$f":"$G53*HF53","v":0},null,null,{"$f":"$G53*HI53","v":0}]
["3.5","K",5,"Staklena mineralna vuna \ntermoizolacija potkrovlja između rogova","Glass Mineral Wool \nloft insulation between the rafters","/","/","/","/","/","/",null,"/","/",null,"/","/",null,"/","/",null,"/","/",null,"/","/",null,"/","/",null,"/","/",null,"/","/",null,"/","/",null,"/","/",null,"/","/",null,"/","/",null,"/","/",null,"/","/",null,"/","/",null,"/","/",null,"/","/",null,"/","/",null,"/","/",null,"/","/",null,"/","/",null,"/","/",null,"/","/",null,"/","/",null,"/","/",null,"/","/",null,"/","/",null,"/","/",null,"/","/",null,"/","/",null,"/","/",null,"/","/",null,"/","/",null,"/","/",null,"/","/",null,"/","/",null,"/","/",null,"/","/",null,"/","/",null,"/","/",null,"/","/",null,"/","/",null,"/","/",null,"/","/",null,"/","/",null,"/","/",null,"/","/",null,"/","/",null,"/","/",null,"/","/",null,"/","/",null,"/","/",null,"/","/",null,"/","/",null,"/","/",null,"/","/",null,"/","/",null,"/","/",null,"/","/",null,"/","/",null,"/","/",null,"/","/",null,"/","/",null,"/","/",null,"/","/",null,"/","/",null,"/","/",null,"/","/",null,"/","/"]
["3.5.1",null,"A","debljina d=10 cm  ","thickness d=10 cm  ","m2",{"$f":"CENA!G46","v":0},{"$f":"J55+M55+P55+S55+V55+Y55+AB55+AE55+AH55+AK55+AN55+AQ55+AZ55+AW55+AT55+BC55+BF55+BI55+BL55+BO55+BR55+BU55+BX55+CA55+CD55+CG55+CJ55+CM55+CP55+CS55+CV55+CY55+DB55+DE55+DH55+DK55+DN55+DQ55+DT55+DW55+DZ55+EC55+EF55+EI55+EL55+EO55+ER55+EU55+EX55+FA55+FD55+FG55+FJ55+FM55+FP55+FS55+FV55+FY55+GB55+GE55+GH55+GK55+GN55+GQ55+GT55+GW55+GZ55+HC55+HF55+HI55","v":0},{"$f":"G55*H55","v":0},null,{"$f":"$G55*J55","v":0},null,null,{"$f":"$G55*M55","v":0},null,null,{"$f":"$G55*P55","v":0},null,null,{"$f":"$G55*S55","v":0},null,null,{"$f":"$G55*V55","v":0},null,null,{"$f":"$G55*Y55","v":0},null,null,{"$f":"$G55*AB55","v":0},null,null,{"$f":"$G55*AE55","v":0},null,null,{"$f":"$G55*AH55","v":0},null,null,{"$f":"$G55*AK55","v":0},null,null,{"$f":"$G55*AN55","v":0},null,null,{"$f":"$G55*AQ55","v":0},null,null,{"$f":"$G55*AT55","v":0},null,null,{"$f":"$G55*AW55","v":0},null,null,{"$f":"$G55*AZ55","v":0},null,null,{"$f":"$G55*BC55","v":0},null,null,{"$f":"$G55*BF55","v":0},null,null,{"$f":"$G55*BI55","v":0},null,null,{"$f":"$G55*BL55","v":0},null,null,{"$f":"$G55*BO55","v":0},null,null,{"$f":"$G55*BR55","v":0},null,null,{"$f":"$G55*BU55","v":0},null,null,{"$f":"$G55*BX55","v":0},null,null,{"$f":"$G55*CA55","v":0},null,null,{"$f":"$G55*CD55","v":0},null,null,{"$f":"$G55*CG55","v":0},null,null,{"$f":"$G55*CJ55","v":0},null,null,{"$f":"$G55*CM55","v":0},null,null,{"$f":"$G55*CP55","v":0},null,null,{"$f":"$G55*CS55","v":0},null,null,{"$f":"$G55*CV55","v":0},null,null,{"$f":"$G55*CY55","v":0},null,null,{"$f":"$G55*DB55","v":0},null,null,{"$f":"$G55*DE55","v":0},null,null,{"$f":"$G55*DH55","v":0},null,null,{"$f":"$G55*DK55","v":0},null,null,{"$f":"$G55*DN55","v":0},null,null,{"$f":"$G55*DQ55","v":0},null,null,{"$f":"$G55*DT55","v":0},null,null,{"$f":"$G55*DW55","v":0},null,null,{"$f":"$G55*DZ55","v":0},null,null,{"$f":"$G55*EC55","v":0},null,null,{"$f":"$G55*EF55","v":0},null,null,{"$f":"$G55*EI55","v":0},null,null,{"$f":"$G55*EL55","v":0},null,null,{"$f":"$G55*EO55","v":0},null,null,{"$f":"$G55*ER55","v":0},null,null,{"$f":"$G55*EU55","v":0},null,null,{"$f":"$G55*EX55","v":0},null,null,{"$f":"$G55*FA55","v":0},null,null,{"$f":"$G55*FD55","v":0},null,null,{"$f":"$G55*FG55","v":0},null,null,{"$f":"$G55*FJ55","v":0},null,null,{"$f":"$G55*FM55","v":0},null,null,{"$f":"$G55*FP55","v":0},null,null,{"$f":"$G55*FS55","v":0},null,null,{"$f":"$G55*FV55","v":0},null,null,{"$f":"$G55*FY55","v":0},null,null,{"$f":"$G55*GB55","v":0},null,null,{"$f":"$G55*GE55","v":0},null,null,{"$f":"$G55*GH55","v":0},null,null,{"$f":"$G55*GK55","v":0},null,null,{"$f":"$G55*GN55","v":0},null,null,{"$f":"$G55*GQ55","v":0},null,null,{"$f":"$G55*GT55","v":0},null,null,{"$f":"$G55*GW55","v":0},null,null,{"$f":"$G55*GZ55","v":0},null,null,{"$f":"$G55*HC55","v":0},null,null,{"$f":"$G55*HF55","v":0},null,null,{"$f":"$G55*HI55","v":0}]
["3.5.2",null,"B","debljina d=12 cm  ","thickness d=12 cm  ","m2",{"$f":"CENA!G47","v":0},0,0,null,{"$f":"$G56*J56","v":0},null,null,0,null,null,{"$f":"$G56*P56","v":0},null,null,{"$f":"$G56*S56","v":0},null,null,{"$f":"$G56*V56","v":0},null,null,{"$f":"$G56*Y56","v":0},null,null,{"$f":"$G56*AB56","v":0},null,null,{"$f":"$G56*AE56","v":0},null,null,{"$f":"$G56*AH56","v":0},null,null,{"$f":"$G56*AK56","v":0},null,null,{"$f":"$G56*AN56","v":0},null,null,{"$f":"$G56*AQ56","v":0},null,null,{"$f":"$G56*AT56","v":0},null,null,{"$f":"$G56*AW56","v":0},null,null,{"$f":"$G56*AZ56","v":0},null,null,{"$f":"$G56*BC56","v":0},null,null,0,null,null,0,null,null,{"$f":"$G56*BL56","v":0},null,null,{"$f":"$G56*BO56","v":0},null,null,{"$f":"$G56*BR56","v":0},null,null,{"$f":"$G56*BU56","v":0},null,null,{"$f":"$G56*BX56","v":0},null,null,{"$f":"$G56*CA56","v":0},null,null,{"$f":"$G56*CD56","v":0},null,null,{"$f":"$G56*CG56","v":0},null,null,{"$f":"$G56*CJ56","v":0},null,null,{"$f":"$G56*CM56","v":0},null,null,{"$f":"$G56*CP56","v":0},null,null,{"$f":"$G56*CS56","v":0},null,null,{"$f":"$G56*CV56","v":0},null,null,{"$f":"$G56*CY56","v":0},null,null,0,null,null,0,null,null,{"$f":"$G56*DH56","v":0},null,null,{"$f":"$G56*DK56","v":0},null,null,{"$f":"$G56*DN56","v":0},null,null,{"$f":"$G56*DQ56","v":0},null,null,{"$f":"$G56*DT56","v":0},null,null,{"$f":"$G56*DW56","v":0},null,null,{"$f":"$G56*DZ56","v":0},null,null,{"$f":"$G56*EC56","v":0},null,null,{"$f":"$G56*EF56","v":0},null,null,{"$f":"$G56*EI56","v":0},null,null,{"$f":"$G56*EL56","v":0},null,null,{"$f":"$G56*EO56","v":0},null,null,{"$f":"$G56*ER56","v":0},null,null,{"$f":"$G56*EU56","v":0},null,null,0,null,null,0,null,null,{"$f":"$G56*FD56","v":0},null,null,{"$f":"$G56*FG56","v":0},null,null,{"$f":"$G56*FJ56","v":0},null,null,{"$f":"$G56*FM56","v":0},null,null,{"$f":"$G56*FP56","v":0},null,null,{"$f":"$G56*FS56","v":0},null,null,{"$f":"$G56*FV56","v":0},null,null,{"$f":"$G56*FY56","v":0},null,null,{"$f":"$G56*GB56","v":0},null,null,{"$f":"$G56*GE56","v":0},null,null,{"$f":"$G56*GH56","v":0},null,null,{"$f":"$G56*GK56","v":0},null,null,{"$f":"$G56*GN56","v":0},null,null,{"$f":"$G56*GQ56","v":0},null,null,{"$f":"$G56*GT56","v":0},null,null,{"$f":"$G56*GW56","v":0},null,null,{"$f":"$G56*GZ56","v":0},null,null,{"$f":"$G56*HC56","v":0},null,null,{"$f":"$G56*HF56","v":0},null,null,{"$f":"$G56*HI56","v":0}]
["3.5.3",null,"C","debljina d=14 cm  ","thickness d=14 cm  ","m2",{"$f":"CENA!G48","v":0},0,0,null,{"$f":"$G57*J57","v":0},null,null,0,null,null,{"$f":"$G57*P57","v":0},null,null,{"$f":"$G57*S57","v":0},null,null,{"$f":"$G57*V57","v":0},null,null,{"$f":"$G57*Y57","v":0},null,null,{"$f":"$G57*AB57","v":0},null,null,{"$f":"$G57*AE57","v":0},null,null,{"$f":"$G57*AH57","v":0},null,null,{"$f":"$G57*AK57","v":0},null,null,{"$f":"$G57*AN57","v":0},null,null,{"$f":"$G57*AQ57","v":0},null,null,{"$f":"$G57*AT57","v":0},null,null,{"$f":"$G57*AW57","v":0},null,null,{"$f":"$G57*AZ57","v":0},null,null,{"$f":"$G57*BC57","v":0},null,null,0,null,null,0,null,null,{"$f":"$G57*BL57","v":0},null,null,{"$f":"$G57*BO57","v":0},null,null,{"$f":"$G57*BR57","v":0},null,null,{"$f":"$G57*BU57","v":0},null,null,{"$f":"$G57*BX57","v":0},null,null,{"$f":"$G57*CA57","v":0},null,null,{"$f":"$G57*CD57","v":0},null,null,{"$f":"$G57*CG57","v":0},null,null,{"$f":"$G57*CJ57","v":0},null,null,{"$f":"$G57*CM57","v":0},null,null,{"$f":"$G57*CP57","v":0},null,null,{"$f":"$G57*CS57","v":0},null,null,{"$f":"$G57*CV57","v":0},null,null,{"$f":"$G57*CY57","v":0},null,null,0,null,null,0,null,null,{"$f":"$G57*DH57","v":0},null,null,{"$f":"$G57*DK57","v":0},null,null,{"$f":"$G57*DN57","v":0},null,null,{"$f":"$G57*DQ57","v":0},null,null,{"$f":"$G57*DT57","v":0},null,null,{"$f":"$G57*DW57","v":0},null,null,{"$f":"$G57*DZ57","v":0},null,null,{"$f":"$G57*EC57","v":0},null,null,{"$f":"$G57*EF57","v":0},null,null,{"$f":"$G57*EI57","v":0},null,null,{"$f":"$G57*EL57","v":0},null,null,{"$f":"$G57*EO57","v":0},null,null,{"$f":"$G57*ER57","v":0},null,null,{"$f":"$G57*EU57","v":0},null,null,0,null,null,0,null,null,{"$f":"$G57*FD57","v":0},null,null,{"$f":"$G57*FG57","v":0},null,null,{"$f":"$G57*FJ57","v":0},null,null,{"$f":"$G57*FM57","v":0},null,null,{"$f":"$G57*FP57","v":0},null,null,{"$f":"$G57*FS57","v":0},null,null,{"$f":"$G57*FV57","v":0},null,null,{"$f":"$G57*FY57","v":0},null,null,{"$f":"$G57*GB57","v":0},null,null,{"$f":"$G57*GE57","v":0},null,null,{"$f":"$G57*GH57","v":0},null,null,{"$f":"$G57*GK57","v":0},null,null,{"$f":"$G57*GN57","v":0},null,null,{"$f":"$G57*GQ57","v":0},null,null,{"$f":"$G57*GT57","v":0},null,null,{"$f":"$G57*GW57","v":0},null,null,{"$f":"$G57*GZ57","v":0},null,null,{"$f":"$G57*HC57","v":0},null,null,{"$f":"$G57*HF57","v":0},null,null,{"$f":"$G57*HI57","v":0}]
["3.6","K",6,"Parna brana\nkontrola vodene pare ispod termoizolacije","Vapor barrier \ncontrol of water vapor below the insulation","m2",{"$f":"CENA!G49","v":0},0,0,null,{"$f":"$G58*J58","v":0},null,null,0,null,null,{"$f":"$G58*P58","v":0},null,null,{"$f":"$G58*S58","v":0},null,null,{"$f":"$G58*V58","v":0},null,null,{"$f":"$G58*Y58","v":0},null,null,{"$f":"$G58*AB58","v":0},null,null,{"$f":"$G58*AE58","v":0},null,null,{"$f":"$G58*AH58","v":0},null,null,{"$f":"$G58*AK58","v":0},null,null,{"$f":"$G58*AN58","v":0},null,null,{"$f":"$G58*AQ58","v":0},null,null,{"$f":"$G58*AT58","v":0},null,null,{"$f":"$G58*AW58","v":0},null,null,{"$f":"$G58*AZ58","v":0},null,null,{"$f":"$G58*BC58","v":0},null,null,0,null,null,0,null,null,{"$f":"$G58*BL58","v":0},null,null,{"$f":"$G58*BO58","v":0},null,null,{"$f":"$G58*BR58","v":0},null,null,{"$f":"$G58*BU58","v":0},null,null,{"$f":"$G58*BX58","v":0},null,null,{"$f":"$G58*CA58","v":0},null,null,{"$f":"$G58*CD58","v":0},null,null,{"$f":"$G58*CG58","v":0},null,null,{"$f":"$G58*CJ58","v":0},null,null,{"$f":"$G58*CM58","v":0},null,null,{"$f":"$G58*CP58","v":0},null,null,{"$f":"$G58*CS58","v":0},null,null,{"$f":"$G58*CV58","v":0},null,null,{"$f":"$G58*CY58","v":0},null,null,0,null,null,0,null,null,{"$f":"$G58*DH58","v":0},null,null,{"$f":"$G58*DK58","v":0},null,null,{"$f":"$G58*DN58","v":0},null,null,{"$f":"$G58*DQ58","v":0},null,null,{"$f":"$G58*DT58","v":0},null,null,{"$f":"$G58*DW58","v":0},null,null,{"$f":"$G58*DZ58","v":0},null,null,{"$f":"$G58*EC58","v":0},null,null,{"$f":"$G58*EF58","v":0},null,null,{"$f":"$G58*EI58","v":0},null,null,{"$f":"$G58*EL58","v":0},null,null,{"$f":"$G58*EO58","v":0},null,null,{"$f":"$G58*ER58","v":0},null,null,{"$f":"$G58*EU58","v":0},null,null,0,null,null,0,null,null,{"$f":"$G58*FD58","v":0},null,null,{"$f":"$G58*FG58","v":0},null,null,{"$f":"$G58*FJ58","v":0},null,null,{"$f":"$G58*FM58","v":0},null,null,{"$f":"$G58*FP58","v":0},null,null,{"$f":"$G58*FS58","v":0},null,null,{"$f":"$G58*FV58","v":0},null,null,{"$f":"$G58*FY58","v":0},null,null,{"$f":"$G58*GB58","v":0},null,null,{"$f":"$G58*GE58","v":0},null,null,{"$f":"$G58*GH58","v":0},null,null,{"$f":"$G58*GK58","v":0},null,null,{"$f":"$G58*GN58","v":0},null,null,{"$f":"$G58*GQ58","v":0},null,null,{"$f":"$G58*GT58","v":0},null,null,{"$f":"$G58*GW58","v":0},null,null,{"$f":"$G58*GZ58","v":0},null,null,{"$f":"$G58*HC58","v":0},null,null,{"$f":"$G58*HF58","v":0},null,null,{"$f":"$G58*HI58","v":0}]
["3.7","K",7,"Čamova rezana građa različitog preseka\ndužine 400 cm","Fir lumber of different cross-section\nlength 400 cm","/","/","/","/","/","/",null,"/","/",null,"/","/",null,"/","/",null,"/","/",null,"/","/",null,"/","/",null,"/","/",null,"/","/",null,"/","/",null,"/","/",null,"/","/",null,"/","/",null,"/","/",null,"/","/",null,"/","/",null,"/","/",null,"/","/",null,"/","/",null,"/","/",null,"/","/",null,"/","/",null,"/","/",null,"/","/",null,"/","/",null,"/","/",null,"/","/",null,"/","/",null,"/","/",null,"/","/",null,"/","/",null,"/","/",null,"/","/",null,"/","/",null,"/","/",null,"/","/",null,"/","/",null,"/","/",null,"/","/",null,"/","/",null,"/","/",null,"/","/",null,"/","/",null,"/","/",null,"/","/",null,"/","/",null,"/","/",null,"/","/",null,"/","/",null,"/","/",null,"/","/",null,"/","/",null,"/","/",null,"/","/",null,"/","/",null,"/","/",null,"/","/",null,"/","/",null,"/","/",null,"/","/",null,"/","/",null,"/","/",null,"/","/",null,"/","/",null,"/","/",null,"/","/",null,"/","/",null,"/","/",null,"/","/",null,"/","/"]
["3.7.1",null,"A","Rog/Venčanica/Raspinjača           10/12 cm","rafters / wall plate / ridge collar 10/12 cm","m3",{"$f":"CENA!G51","v":0},{"$f":"J60+M60+P60+S60+V60+Y60+AB60+AE60+AH60+AK60+AN60+AQ60+AZ60+AW60+AT60+BC60+BF60+BI60+BL60+BO60+BR60+BU60+BX60+CA60+CD60+CG60+CJ60+CM60+CP60+CS60+CV60+CY60+DB60+DE60+DH60+DK60+DN60+DQ60+DT60+DW60+DZ60+EC60+EF60+EI60+EL60+EO60+ER60+EU60+EX60+FA60+FD60+FG60+FJ60+FM60+FP60+FS60+FV60+FY60+GB60+GE60+GH60+GK60+GN60+GQ60+GT60+GW60+GZ60+HC60+HF60+HI60","v":1.97},{"$f":"G60*H60","v":0},null,{"$f":"$G60*J60","v":0},{"$f":"J60/$HM$60","v":0},1.97,{"$f":"$G60*M60","v":0},{"$f":"M60/$HM$60","v":41},null,{"$f":"$G60*P60","v":0},{"$f":"P60/$HM$60","v":0},0,{"$f":"$G60*S60","v":0},{"$f":"S60/$HM$60","v":0},null,{"$f":"$G60*V60","v":0},{"$f":"V60/$HM$60","v":0},null,{"$f":"$G60*Y60","v":0},{"$f":"Y60/$HM$60","v":0},null,{"$f":"$G60*AB60","v":0},{"$f":"AB60/$HM$60","v":0},null,{"$f":"$G60*AE60","v":0},{"$f":"AE60/$HM$60","v":0},null,{"$f":"$G60*AH60","v":0},{"$f":"AH60/$HM$60","v":0},null,{"$f":"$G60*AK60","v":0},{"$f":"AK60/$HM$60","v":0},null,{"$f":"$G60*AN60","v":0},{"$f":"AN60/$HM$60","v":0},null,{"$f":"$G60*AQ60","v":0},{"$f":"AQ60/$HM$60","v":0},null,{"$f":"$G60*AT60","v":0},{"$f":"AT60/$HM$60","v":0},null,{"$f":"$G60*AW60","v":0},{"$f":"AW60/$HM$60","v":0},null,{"$f":"$G60*AZ60","v":0},{"$f":"AZ60/$HM$60","v":0},null,{"$f":"$G60*BC60","v":0},{"$f":"BC60/$HM$60","v":0},null,{"$f":"$G60*BF60","v":0},{"$f":"BF60/$HM$60","v":0},null,{"$f":"$G60*BI60","v":0},{"$f":"BI60/$HM$60","v":0},null,{"$f":"$G60*BL60","v":0},{"$f":"BL60/$HM$60","v":0},0,{"$f":"$G60*BO60","v":0},{"$f":"BO60/$HM$60","v":0},null,{"$f":"$G60*BR60","v":0},{"$f":"BR60/$HM$60","v":0},null,{"$f":"$G60*BU60","v":0},{"$f":"BU60/$HM$60","v":0},null,{"$f":"$G60*BX60","v":0},{"$f":"BX60/$HM$60","v":0},null,{"$f":"$G60*CA60","v":0},{"$f":"CA60/$HM$60","v":0},null,{"$f":"$G60*CD60","v":0},{"$f":"CD60/$HM$60","v":0},null,{"$f":"$G60*CG60","v":0},{"$f":"CG60/$HM$60","v":0},null,{"$f":"$G60*CJ60","v":0},{"$f":"CJ60/$HM$60","v":0},null,{"$f":"$G60*CM60","v":0},{"$f":"CM60/$HM$60","v":0},null,{"$f":"$G60*CP60","v":0},{"$f":"CP60/$HM$60","v":0},null,{"$f":"$G60*CS60","v":0},{"$f":"CS60/$HM$60","v":0},null,{"$f":"$G60*CV60","v":0},{"$f":"CV60/$HM$60","v":0},null,{"$f":"$G60*CY60","v":0},{"$f":"CY60/$HM$60","v":0},null,{"$f":"$G60*DB60","v":0},{"$f":"DB60/$HM$60","v":0},null,{"$f":"$G60*DE60","v":0},{"$f":"DE60/$HM$60","v":0},null,{"$f":"$G60*DH60","v":0},{"$f":"DH60/$HM$60","v":0},0,{"$f":"$G60*DK60","v":0},{"$f":"DK60/$HM$60","v":0},null,{"$f":"$G60*DN60","v":0},{"$f":"DN60/$HM$60","v":0},null,{"$f":"$G60*DQ60","v":0},{"$f":"DQ60/$HM$60","v":0},null,{"$f":"$G60*DT60","v":0},{"$f":"DT60/$HM$60","v":0},null,{"$f":"$G60*DW60","v":0},{"$f":"DW60/$HM$60","v":0},null,{"$f":"$G60*DZ60","v":0},{"$f":"DZ60/$HM$60","v":0},null,{"$f":"$G60*EC60","v":0},{"$f":"EC60/$HM$60","v":0},null,{"$f":"$G60*EF60","v":0},{"$f":"EF60/$HM$60","v":0},null,{"$f":"$G60*EI60","v":0},{"$f":"EI60/$HM$60","v":0},null,{"$f":"$G60*EL60","v":0},{"$f":"EL60/$HM$60","v":0},null,{"$f":"$G60*EO60","v":0},{"$f":"EO60/$HM$60","v":0},null,{"$f":"$G60*ER60","v":0},{"$f":"ER60/$HM$60","v":0},null,{"$f":"$G60*EU60","v":0},{"$f":"EU60/$HM$60","v":0},null,{"$f":"$G60*EX60","v":0},{"$f":"EX60/$HM$60","v":0},null,{"$f":"$G60*FA60","v":0},{"$f":"FA60/$HM$60","v":0},null,{"$f":"$G60*FD60","v":0},{"$f":"FD60/$HM$60","v":0},0,{"$f":"$G60*FG60","v":0},{"$f":"FG60/$HM$60","v":0},null,{"$f":"$G60*FJ60","v":0},{"$f":"FJ60/$HM$60","v":0},null,{"$f":"$G60*FM60","v":0},{"$f":"FM60/$HM$60","v":0},null,{"$f":"$G60*FP60","v":0},{"$f":"FP60/$HM$60","v":0},null,{"$f":"$G60*FS60","v":0},{"$f":"FS60/$HM$60","v":0},null,{"$f":"$G60*FV60","v":0},{"$f":"FV60/$HM$60","v":0},null,{"$f":"$G60*FY60","v":0},{"$f":"FY60/$HM$60","v":0},null,{"$f":"$G60*GB60","v":0},{"$f":"GB60/$HM$60","v":0},null,{"$f":"$G60*GE60","v":0},{"$f":"GE60/$HM$60","v":0},null,{"$f":"$G60*GH60","v":0},{"$f":"GH60/$HM$60","v":0},null,{"$f":"$G60*GK60","v":0},{"$f":"GK60/$HM$60","v":0},null,{"$f":"$G60*GN60","v":0},{"$f":"GN60/$HM$60","v":0},null,{"$f":"$G60*GQ60","v":0},{"$f":"GQ60/$HM$60","v":0},null,{"$f":"$G60*GT60","v":0},{"$f":"GT60/$HM$60","v":0},null,{"$f":"$G60*GW60","v":0},{"$f":"GW60/$HM$60","v":0},null,{"$f":"$G60*GZ60","v":0},{"$f":"GZ60/$HM$60","v":0},null,{"$f":"$G60*HC60","v":0},{"$f":"HC60/$HM$60","v":0},null,{"$f":"$G60*HF60","v":0},{"$f":"HF60/$HM$60","v":0},null,{"$f":"$G60*HI60","v":0},{"$f":"HI60/$HM$60","v":0},null,4.8000000000000001E-2]
["3.7.2",null,"B","Rog/Stub/Grebenjača/Slemenja.   12/14 cm","column / pile / hip rafter / ridge 12/14 cm","m3",{"$f":"CENA!G52","v":0},0.4,0,null,{"$f":"$G61*J61","v":0},{"$f":"J61/$HM$61","v":0},0.4,0,{"$f":"M61/$HM$61","v":6},null,{"$f":"$G61*P61","v":0},{"$f":"P61/$HM$61","v":0},0,{"$f":"$G61*S61","v":0},{"$f":"S61/$HM$61","v":0},null,{"$f":"$G61*V61","v":0},{"$f":"V61/$HM$61","v":0},null,{"$f":"$G61*Y61","v":0},{"$f":"Y61/$HM$61","v":0},null,{"$f":"$G61*AB61","v":0},{"$f":"AB61/$HM$61","v":0},null,{"$f":"$G61*AE61","v":0},{"$f":"AE61/$HM$61","v":0},null,{"$f":"$G61*AH61","v":0},{"$f":"AH61/$HM$61","v":0},null,{"$f":"$G61*AK61","v":0},{"$f":"AK61/$HM$61","v":0},null,{"$f":"$G61*AN61","v":0},{"$f":"AN61/$HM$61","v":0},null,{"$f":"$G61*AQ61","v":0},{"$f":"AQ61/$HM$61","v":0},null,{"$f":"$G61*AT61","v":0},{"$f":"AT61/$HM$61","v":0},null,{"$f":"$G61*AW61","v":0},{"$f":"AW61/$HM$61","v":0},null,{"$f":"$G61*AZ61","v":0},{"$f":"AZ61/$HM$61","v":0},null,{"$f":"$G61*BC61","v":0},{"$f":"BC61/$HM$61","v":0},null,0,{"$f":"BF61/$HM$61","v":0},null,0,{"$f":"BI61/$HM$61","v":0},null,{"$f":"$G61*BL61","v":0},{"$f":"BL61/$HM$61","v":0},0,{"$f":"$G61*BO61","v":0},{"$f":"BO61/$HM$61","v":0},null,{"$f":"$G61*BR61","v":0},{"$f":"BR61/$HM$61","v":0},null,{"$f":"$G61*BU61","v":0},{"$f":"BU61/$HM$61","v":0},null,{"$f":"$G61*BX61","v":0},{"$f":"BX61/$HM$61","v":0},null,{"$f":"$G61*CA61","v":0},{"$f":"CA61/$HM$61","v":0},null,{"$f":"$G61*CD61","v":0},{"$f":"CD61/$HM$61","v":0},null,{"$f":"$G61*CG61","v":0},{"$f":"CG61/$HM$61","v":0},null,{"$f":"$G61*CJ61","v":0},{"$f":"CJ61/$HM$61","v":0},null,{"$f":"$G61*CM61","v":0},{"$f":"CM61/$HM$61","v":0},null,{"$f":"$G61*CP61","v":0},{"$f":"CP61/$HM$61","v":0},null,{"$f":"$G61*CS61","v":0},{"$f":"CS61/$HM$61","v":0},null,{"$f":"$G61*CV61","v":0},{"$f":"CV61/$HM$61","v":0},null,{"$f":"$G61*CY61","v":0},{"$f":"CY61/$HM$61","v":0},null,0,{"$f":"DB61/$HM$61","v":0},null,0,{"$f":"DE61/$HM$61","v":0},null,{"$f":"$G61*DH61","v":0},{"$f":"DH61/$HM$61","v":0},0,{"$f":"$G61*DK61","v":0},{"$f":"DK61/$HM$61","v":0},null,{"$f":"$G61*DN61","v":0},{"$f":"DN61/$HM$61","v":0},null,{"$f":"$G61*DQ61","v":0},{"$f":"DQ61/$HM$61","v":0},null,{"$f":"$G61*DT61","v":0},{"$f":"DT61/$HM$61","v":0},null,{"$f":"$G61*DW61","v":0},{"$f":"DW61/$HM$61","v":0},null,{"$f":"$G61*DZ61","v":0},{"$f":"DZ61/$HM$61","v":0},null,{"$f":"$G61*EC61","v":0},{"$f":"EC61/$HM$61","v":0},null,{"$f":"$G61*EF61","v":0},{"$f":"EF61/$HM$61","v":0},null,{"$f":"$G61*EI61","v":0},{"$f":"EI61/$HM$61","v":0},null,{"$f":"$G61*EL61","v":0},{"$f":"EL61/$HM$61","v":0},null,{"$f":"$G61*EO61","v":0},{"$f":"EO61/$HM$61","v":0},null,{"$f":"$G61*ER61","v":0},{"$f":"ER61/$HM$61","v":0},null,{"$f":"$G61*EU61","v":0},{"$f":"EU61/$HM$61","v":0},null,0,{"$f":"EX61/$HM$61","v":0},null,0,{"$f":"FA61/$HM$61","v":0},null,{"$f":"$G61*FD61","v":0},{"$f":"FD61/$HM$61","v":0},0,{"$f":"$G61*FG61","v":0},{"$f":"FG61/$HM$61","v":0},null,{"$f":"$G61*FJ61","v":0},{"$f":"FJ61/$HM$61","v":0},null,{"$f":"$G61*FM61","v":0},{"$f":"FM61/$HM$61","v":0},null,{"$f":"$G61*FP61","v":0},{"$f":"FP61/$HM$61","v":0},null,{"$f":"$G61*FS61","v":0},{"$f":"FS61/$HM$61","v":0},null,{"$f":"$G61*FV61","v":0},{"$f":"FV61/$HM$61","v":0},null,{"$f":"$G61*FY61","v":0},{"$f":"FY61/$HM$61","v":0},null,{"$f":"$G61*GB61","v":0},{"$f":"GB61/$HM$61","v":0},null,{"$f":"$G61*GE61","v":0},{"$f":"GE61/$HM$61","v":0},null,{"$f":"$G61*GH61","v":0},{"$f":"GH61/$HM$61","v":0},null,{"$f":"$G61*GK61","v":0},{"$f":"GK61/$HM$61","v":0},null,{"$f":"$G61*GN61","v":0},{"$f":"GN61/$HM$61","v":0},null,{"$f":"$G61*GQ61","v":0},{"$f":"GQ61/$HM$61","v":0},null,{"$f":"$G61*GT61","v":0},{"$f":"GT61/$HM$61","v":0},null,{"$f":"$G61*GW61","v":0},{"$f":"GW61/$HM$61","v":0},null,{"$f":"$G61*GZ61","v":0},{"$f":"GZ61/$HM$61","v":0},null,{"$f":"$G61*HC61","v":0},{"$f":"HC61/$HM$61","v":0},null,{"$f":"$G61*HF61","v":0},{"$f":"HF61/$HM$61","v":0},null,{"$f":"$G61*HI61","v":0},{"$f":"HI61/$HM$61","v":0},null,6.7199999999999996E-2]
["3.7.3",null,"C","Stub/Grebenjača                         14/14 cm","column / hip rafter 14/14 cm","m3",{"$f":"CENA!G53","v":0},0,0,null,{"$f":"$G62*J62","v":0},{"$f":"J62/$HM$62","v":0},null,0,{"$f":"M62/$HM$62","v":0},null,{"$f":"$G62*P62","v":0},{"$f":"P62/$HM$62","v":0},0,{"$f":"$G62*S62","v":0},{"$f":"S62/$HM$62","v":0},null,{"$f":"$G62*V62","v":0},{"$f":"V62/$HM$62","v":0},null,{"$f":"$G62*Y62","v":0},{"$f":"Y62/$HM$62","v":0},null,{"$f":"$G62*AB62","v":0},{"$f":"AB62/$HM$62","v":0},null,{"$f":"$G62*AE62","v":0},{"$f":"AE62/$HM$62","v":0},null,{"$f":"$G62*AH62","v":0},{"$f":"AH62/$HM$62","v":0},null,{"$f":"$G62*AK62","v":0},{"$f":"AK62/$HM$62","v":0},null,{"$f":"$G62*AN62","v":0},{"$f":"AN62/$HM$62","v":0},null,{"$f":"$G62*AQ62","v":0},{"$f":"AQ62/$HM$62","v":0},null,{"$f":"$G62*AT62","v":0},{"$f":"AT62/$HM$62","v":0},null,{"$f":"$G62*AW62","v":0},{"$f":"AW62/$HM$62","v":0},null,{"$f":"$G62*AZ62","v":0},{"$f":"AZ62/$HM$62","v":0},null,{"$f":"$G62*BC62","v":0},{"$f":"BC62/$HM$62","v":0},null,0,{"$f":"BF62/$HM$62","v":0},null,0,{"$f":"BI62/$HM$62","v":0},null,{"$f":"$G62*BL62","v":0},{"$f":"BL62/$HM$62","v":0},0,{"$f":"$G62*BO62","v":0},{"$f":"BO62/$HM$62","v":0},null,{"$f":"$G62*BR62","v":0},{"$f":"BR62/$HM$62","v":0},null,{"$f":"$G62*BU62","v":0},{"$f":"BU62/$HM$62","v":0},null,{"$f":"$G62*BX62","v":0},{"$f":"BX62/$HM$62","v":0},null,{"$f":"$G62*CA62","v":0},{"$f":"CA62/$HM$62","v":0},null,{"$f":"$G62*CD62","v":0},{"$f":"CD62/$HM$62","v":0},null,{"$f":"$G62*CG62","v":0},{"$f":"CG62/$HM$62","v":0},null,{"$f":"$G62*CJ62","v":0},{"$f":"CJ62/$HM$62","v":0},null,{"$f":"$G62*CM62","v":0},{"$f":"CM62/$HM$62","v":0},null,{"$f":"$G62*CP62","v":0},{"$f":"CP62/$HM$62","v":0},null,{"$f":"$G62*CS62","v":0},{"$f":"CS62/$HM$62","v":0},null,{"$f":"$G62*CV62","v":0},{"$f":"CV62/$HM$62","v":0},null,{"$f":"$G62*CY62","v":0},{"$f":"CY62/$HM$62","v":0},null,0,{"$f":"DB62/$HM$62","v":0},null,0,{"$f":"DE62/$HM$62","v":0},null,{"$f":"$G62*DH62","v":0},{"$f":"DH62/$HM$62","v":0},0,{"$f":"$G62*DK62","v":0},{"$f":"DK62/$HM$62","v":0},null,{"$f":"$G62*DN62","v":0},{"$f":"DN62/$HM$62","v":0},null,{"$f":"$G62*DQ62","v":0},{"$f":"DQ62/$HM$62","v":0},null,{"$f":"$G62*DT62","v":0},{"$f":"DT62/$HM$62","v":0},null,{"$f":"$G62*DW62","v":0},{"$f":"DW62/$HM$62","v":0},null,{"$f":"$G62*DZ62","v":0},{"$f":"DZ62/$HM$62","v":0},null,{"$f":"$G62*EC62","v":0},{"$f":"EC62/$HM$62","v":0},null,{"$f":"$G62*EF62","v":0},{"$f":"EF62/$HM$62","v":0},null,{"$f":"$G62*EI62","v":0},{"$f":"EI62/$HM$62","v":0},null,{"$f":"$G62*EL62","v":0},{"$f":"EL62/$HM$62","v":0},null,{"$f":"$G62*EO62","v":0},{"$f":"EO62/$HM$62","v":0},null,{"$f":"$G62*ER62","v":0},{"$f":"ER62/$HM$62","v":0},null,{"$f":"$G62*EU62","v":0},{"$f":"EU62/$HM$62","v":0},null,0,{"$f":"EX62/$HM$62","v":0},null,0,{"$f":"FA62/$HM$62","v":0},null,{"$f":"$G62*FD62","v":0},{"$f":"FD62/$HM$62","v":0},0,{"$f":"$G62*FG62","v":0},{"$f":"FG62/$HM$62","v":0},null,{"$f":"$G62*FJ62","v":0},{"$f":"FJ62/$HM$62","v":0},null,{"$f":"$G62*FM62","v":0},{"$f":"FM62/$HM$62","v":0},null,{"$f":"$G62*FP62","v":0},{"$f":"FP62/$HM$62","v":0},null,{"$f":"$G62*FS62","v":0},{"$f":"FS62/$HM$62","v":0},null,{"$f":"$G62*FV62","v":0},{"$f":"FV62/$HM$62","v":0},null,{"$f":"$G62*FY62","v":0},{"$f":"FY62/$HM$62","v":0},null,{"$f":"$G62*GB62","v":0},{"$f":"GB62/$HM$62","v":0},null,{"$f":"$G62*GE62","v":0},{"$f":"GE62/$HM$62","v":0},null,{"$f":"$G62*GH62","v":0},{"$f":"GH62/$HM$62","v":0},null,{"$f":"$G62*GK62","v":0},{"$f":"GK62/$HM$62","v":0},null,{"$f":"$G62*GN62","v":0},{"$f":"GN62/$HM$62","v":0},null,{"$f":"$G62*GQ62","v":0},{"$f":"GQ62/$HM$62","v":0},null,{"$f":"$G62*GT62","v":0},{"$f":"GT62/$HM$62","v":0},null,{"$f":"$G62*GW62","v":0},{"$f":"GW62/$HM$62","v":0},null,{"$f":"$G62*GZ62","v":0},{"$f":"GZ62/$HM$62","v":0},null,{"$f":"$G62*HC62","v":0},{"$f":"HC62/$HM$62","v":0},null,{"$f":"$G62*HF62","v":0},{"$f":"HF62/$HM$62","v":0},null,{"$f":"$G62*HI62","v":0},{"$f":"HI62/$HM$62","v":0},null,7.8399999999999997E-2]
["3.7.4",null,"H","Tavanjače                                   18/26 cm","attic beams 18/26 cm","m3",{"$f":"CENA!G54","v":0},0,0,null,{"$f":"$G63*J63","v":0},{"$f":"J63/$HM$63","v":0},null,0,{"$f":"M63/$HM$63","v":0},null,{"$f":"$G63*P63","v":0},{"$f":"P63/$HM$63","v":0},0,{"$f":"$G63*S63","v":0},{"$f":"S63/$HM$63","v":0},null,{"$f":"$G63*V63","v":0},{"$f":"V63/$HM$63","v":0},null,{"$f":"$G63*Y63","v":0},{"$f":"Y63/$HM$63","v":0},null,{"$f":"$G63*AB63","v":0},{"$f":"AB63/$HM$63","v":0},null,{"$f":"$G63*AE63","v":0},{"$f":"AE63/$HM$63","v":0},null,{"$f":"$G63*AH63","v":0},{"$f":"AH63/$HM$63","v":0},null,{"$f":"$G63*AK63","v":0},{"$f":"AK63/$HM$63","v":0},null,{"$f":"$G63*AN63","v":0},{"$f":"AN63/$HM$63","v":0},null,{"$f":"$G63*AQ63","v":0},{"$f":"AQ63/$HM$63","v":0},null,{"$f":"$G63*AT63","v":0},{"$f":"AT63/$HM$63","v":0},null,{"$f":"$G63*AW63","v":0},{"$f":"AW63/$HM$63","v":0},null,{"$f":"$G63*AZ63","v":0},{"$f":"AZ63/$HM$63","v":0},null,{"$f":"$G63*BC63","v":0},{"$f":"BC63/$HM$63","v":0},null,0,{"$f":"BF63/$HM$63","v":0},null,0,{"$f":"BI63/$HM$63","v":0},null,{"$f":"$G63*BL63","v":0},{"$f":"BL63/$HM$63","v":0},0,{"$f":"$G63*BO63","v":0},{"$f":"BO63/$HM$63","v":0},null,{"$f":"$G63*BR63","v":0},{"$f":"BR63/$HM$63","v":0},null,{"$f":"$G63*BU63","v":0},{"$f":"BU63/$HM$63","v":0},null,{"$f":"$G63*BX63","v":0},{"$f":"BX63/$HM$63","v":0},null,{"$f":"$G63*CA63","v":0},{"$f":"CA63/$HM$63","v":0},null,{"$f":"$G63*CD63","v":0},{"$f":"CD63/$HM$63","v":0},null,{"$f":"$G63*CG63","v":0},{"$f":"CG63/$HM$63","v":0},null,{"$f":"$G63*CJ63","v":0},{"$f":"CJ63/$HM$63","v":0},null,{"$f":"$G63*CM63","v":0},{"$f":"CM63/$HM$63","v":0},null,{"$f":"$G63*CP63","v":0},{"$f":"CP63/$HM$63","v":0},null,{"$f":"$G63*CS63","v":0},{"$f":"CS63/$HM$63","v":0},null,{"$f":"$G63*CV63","v":0},{"$f":"CV63/$HM$63","v":0},null,{"$f":"$G63*CY63","v":0},{"$f":"CY63/$HM$63","v":0},null,0,{"$f":"DB63/$HM$63","v":0},null,0,{"$f":"DE63/$HM$63","v":0},null,{"$f":"$G63*DH63","v":0},{"$f":"DH63/$HM$63","v":0},0,{"$f":"$G63*DK63","v":0},{"$f":"DK63/$HM$63","v":0},null,{"$f":"$G63*DN63","v":0},{"$f":"DN63/$HM$63","v":0},null,{"$f":"$G63*DQ63","v":0},{"$f":"DQ63/$HM$63","v":0},null,{"$f":"$G63*DT63","v":0},{"$f":"DT63/$HM$63","v":0},null,{"$f":"$G63*DW63","v":0},{"$f":"DW63/$HM$63","v":0},null,{"$f":"$G63*DZ63","v":0},{"$f":"DZ63/$HM$63","v":0},null,{"$f":"$G63*EC63","v":0},{"$f":"EC63/$HM$63","v":0},null,{"$f":"$G63*EF63","v":0},{"$f":"EF63/$HM$63","v":0},null,{"$f":"$G63*EI63","v":0},{"$f":"EI63/$HM$63","v":0},null,{"$f":"$G63*EL63","v":0},{"$f":"EL63/$HM$63","v":0},null,{"$f":"$G63*EO63","v":0},{"$f":"EO63/$HM$63","v":0},null,{"$f":"$G63*ER63","v":0},{"$f":"ER63/$HM$63","v":0},null,{"$f":"$G63*EU63","v":0},{"$f":"EU63/$HM$63","v":0},null,0,{"$f":"EX63/$HM$63","v":0},null,0,{"$f":"FA63/$HM$63","v":0},null,{"$f":"$G63*FD63","v":0},{"$f":"FD63/$HM$63","v":0},0,{"$f":"$G63*FG63","v":0},{"$f":"FG63/$HM$63","v":0},null,{"$f":"$G63*FJ63","v":0},{"$f":"FJ63/$HM$63","v":0},null,{"$f":"$G63*FM63","v":0},{"$f":"FM63/$HM$63","v":0},null,{"$f":"$G63*FP63","v":0},{"$f":"FP63/$HM$63","v":0},null,{"$f":"$G63*FS63","v":0},{"$f":"FS63/$HM$63","v":0},null,{"$f":"$G63*FV63","v":0},{"$f":"FV63/$HM$63","v":0},null,{"$f":"$G63*FY63","v":0},{"$f":"FY63/$HM$63","v":0},null,{"$f":"$G63*GB63","v":0},{"$f":"GB63/$HM$63","v":0},null,{"$f":"$G63*GE63","v":0},{"$f":"GE63/$HM$63","v":0},null,{"$f":"$G63*GH63","v":0},{"$f":"GH63/$HM$63","v":0},null,{"$f":"$G63*GK63","v":0},{"$f":"GK63/$HM$63","v":0},null,{"$f":"$G63*GN63","v":0},{"$f":"GN63/$HM$63","v":0},null,{"$f":"$G63*GQ63","v":0},{"$f":"GQ63/$HM$63","v":0},null,{"$f":"$G63*GT63","v":0},{"$f":"GT63/$HM$63","v":0},null,{"$f":"$G63*GW63","v":0},{"$f":"GW63/$HM$63","v":0},null,{"$f":"$G63*GZ63","v":0},{"$f":"GZ63/$HM$63","v":0},null,{"$f":"$G63*HC63","v":0},{"$f":"HC63/$HM$63","v":0},null,{"$f":"$G63*HF63","v":0},{"$f":"HF63/$HM$63","v":0},null,{"$f":"$G63*HI63","v":0},{"$f":"HI63/$HM$63","v":0},null,0.18720000000000001]
["3.8","K",8,"Čamova rezana građa različitog preseka\ndužine 600 cm","Fir lumber of different cross-section\nlength 600 cm","/","/","/","/","/","/",null,"/","/",null,"/","/",null,"/","/",null,"/","/",null,"/","/",null,"/","/",null,"/","/",null,"/","/",null,"/","/",null,"/","/",null,"/","/",null,"/","/",null,"/","/",null,"/","/",null,"/","/",null,"/","/",null,"/","/",null,"/","/",null,"/","/",null,"/","/",null,"/","/",null,"/","/",null,"/","/",null,"/","/",null,"/","/",null,"/","/",null,"/","/",null,"/","/",null,"/","/",null,"/","/",null,"/","/",null,"/","/",null,"/","/",null,"/","/",null,"/","/",null,"/","/",null,"/","/",null,"/","/",null,"/","/",null,"/","/",null,"/","/",null,"/","/",null,"/","/",null,"/","/",null,"/","/",null,"/","/",null,"/","/",null,"/","/",null,"/","/",null,"/","/",null,"/","/",null,"/","/",null,"/","/",null,"/","/",null,"/","/",null,"/","/",null,"/","/",null,"/","/",null,"/","/",null,"/","/",null,"/","/",null,"/","/",null,"/","/",null,"/","/",null,"/","/",null,"/","/",null,"/","/",null,"/","/",null,"/","/",null,null,"/"]
["3.8.1",null,"A","Rog/Venčanica/Raspinjača          10/12 cm","rafters / wall plate / ridge collar 10/12 cm","m3",{"$f":"CENA!G56","v":0},{"$f":"J65+M65+P65+S65+V65+Y65+AB65+AE65+AH65+AK65+AN65+AQ65+AZ65+AW65+AT65+BC65+BF65+BI65+BL65+BO65+BR65+BU65+BX65+CA65+CD65+CG65+CJ65+CM65+CP65+CS65+CV65+CY65+DB65+DE65+DH65+DK65+DN65+DQ65+DT65+DW65+DZ65+EC65+EF65+EI65+EL65+EO65+ER65+EU65+EX65+FA65+FD65+FG65+FJ65+FM65+FP65+FS65+FV65+FY65+GB65+GE65+GH65+GK65+GN65+GQ65+GT65+GW65+GZ65+HC65+HF65+HI65","v":3.9},{"$f":"G65*H65","v":0},null,{"$f":"$G65*J65","v":0},{"$f":"J65/$HM$65","v":0},0.3,{"$f":"$G65*M65","v":0},{"$f":"M65/$HM$65","v":4},null,{"$f":"$G65*P65","v":0},{"$f":"P65/$HM$65","v":0},null,{"$f":"$G65*S65","v":0},{"$f":"S65/$HM$65","v":0},0.65,{"$f":"$G65*V65","v":0},{"$f":"V65/$HM$65","v":9},2.95,{"$f":"$G65*Y65","v":0},{"$f":"Y65/$HM$65","v":41},null,{"$f":"$G65*AB65","v":0},{"$f":"AB65/$HM$65","v":0},null,{"$f":"$G65*AE65","v":0},{"$f":"AE65/$HM$65","v":0},null,{"$f":"$G65*AH65","v":0},{"$f":"AH65/$HM$65","v":0},null,{"$f":"$G65*AK65","v":0},{"$f":"AK65/$HM$65","v":0},null,{"$f":"$G65*AN65","v":0},{"$f":"AN65/$HM$65","v":0},null,{"$f":"$G65*AQ65","v":0},{"$f":"AQ65/$HM$65","v":0},null,{"$f":"$G65*AT65","v":0},{"$f":"AT65/$HM$65","v":0},null,{"$f":"$G65*AW65","v":0},{"$f":"AW65/$HM$65","v":0},null,{"$f":"$G65*AZ65","v":0},{"$f":"AZ65/$HM$65","v":0},null,{"$f":"$G65*BC65","v":0},{"$f":"BC65/$HM$65","v":0},null,{"$f":"$G65*BF65","v":0},{"$f":"BF65/$HM$65","v":0},null,{"$f":"$G65*BI65","v":0},{"$f":"BI65/$HM$65","v":0},null,{"$f":"$G65*BL65","v":0},{"$f":"BL65/$HM$65","v":0},null,{"$f":"$G65*BO65","v":0},{"$f":"BO65/$HM$65","v":0},null,{"$f":"$G65*BR65","v":0},{"$f":"BR65/$HM$65","v":0},null,{"$f":"$G65*BU65","v":0},{"$f":"BU65/$HM$65","v":0},null,{"$f":"$G65*BX65","v":0},{"$f":"BX65/$HM$65","v":0},null,{"$f":"$G65*CA65","v":0},{"$f":"CA65/$HM$65","v":0},null,{"$f":"$G65*CD65","v":0},{"$f":"CD65/$HM$65","v":0},null,{"$f":"$G65*CG65","v":0},{"$f":"CG65/$HM$65","v":0},null,{"$f":"$G65*CJ65","v":0},{"$f":"CJ65/$HM$65","v":0},null,{"$f":"$G65*CM65","v":0},{"$f":"CM65/$HM$65","v":0},null,{"$f":"$G65*CP65","v":0},{"$f":"CP65/$HM$65","v":0},null,{"$f":"$G65*CS65","v":0},{"$f":"CS65/$HM$65","v":0},null,{"$f":"$G65*CV65","v":0},{"$f":"CV65/$HM$65","v":0},null,{"$f":"$G65*CY65","v":0},{"$f":"CY65/$HM$65","v":0},null,{"$f":"$G65*DB65","v":0},{"$f":"DB65/$HM$65","v":0},null,{"$f":"$G65*DE65","v":0},{"$f":"DE65/$HM$65","v":0},null,{"$f":"$G65*DH65","v":0},{"$f":"DH65/$HM$65","v":0},null,{"$f":"$G65*DK65","v":0},{"$f":"DK65/$HM$65","v":0},null,{"$f":"$G65*DN65","v":0},{"$f":"DN65/$HM$65","v":0},null,{"$f":"$G65*DQ65","v":0},{"$f":"DQ65/$HM$65","v":0},null,{"$f":"$G65*DT65","v":0},{"$f":"DT65/$HM$65","v":0},null,{"$f":"$G65*DW65","v":0},{"$f":"DW65/$HM$65","v":0},null,{"$f":"$G65*DZ65","v":0},{"$f":"DZ65/$HM$65","v":0},null,{"$f":"$G65*EC65","v":0},{"$f":"EC65/$HM$65","v":0},null,{"$f":"$G65*EF65","v":0},{"$f":"EF65/$HM$65","v":0},null,{"$f":"$G65*EI65","v":0},{"$f":"EI65/$HM$65","v":0},null,{"$f":"$G65*EL65","v":0},{"$f":"EL65/$HM$65","v":0},null,{"$f":"$G65*EO65","v":0},{"$f":"EO65/$HM$65","v":0},null,{"$f":"$G65*ER65","v":0},{"$f":"ER65/$HM$65","v":0},null,{"$f":"$G65*EU65","v":0},{"$f":"EU65/$HM$65","v":0},null,{"$f":"$G65*EX65","v":0},{"$f":"EX65/$HM$65","v":0},null,{"$f":"$G65*FA65","v":0},{"$f":"FA65/$HM$65","v":0},null,{"$f":"$G65*FD65","v":0},{"$f":"FD65/$HM$65","v":0},null,{"$f":"$G65*FG65","v":0},{"$f":"FG65/$HM$65","v":0},null,{"$f":"$G65*FJ65","v":0},{"$f":"FJ65/$HM$65","v":0},null,{"$f":"$G65*FM65","v":0},{"$f":"FM65/$HM$65","v":0},null,{"$f":"$G65*FP65","v":0},{"$f":"FP65/$HM$65","v":0},null,{"$f":"$G65*FS65","v":0},{"$f":"FS65/$HM$65","v":0},null,{"$f":"$G65*FV65","v":0},{"$f":"FV65/$HM$65","v":0},null,{"$f":"$G65*FY65","v":0},{"$f":"FY65/$HM$65","v":0},null,{"$f":"$G65*GB65","v":0},{"$f":"GB65/$HM$65","v":0},null,{"$f":"$G65*GE65","v":0},{"$f":"GE65/$HM$65","v":0},null,{"$f":"$G65*GH65","v":0},{"$f":"GH65/$HM$65","v":0},null,{"$f":"$G65*GK65","v":0},{"$f":"GK65/$HM$65","v":0},null,{"$f":"$G65*GN65","v":0},{"$f":"GN65/$HM$65","v":0},null,{"$f":"$G65*GQ65","v":0},{"$f":"GQ65/$HM$65","v":0},null,{"$f":"$G65*GT65","v":0},{"$f":"GT65/$HM$65","v":0},null,{"$f":"$G65*GW65","v":0},{"$f":"GW65/$HM$65","v":0},null,{"$f":"$G65*GZ65","v":0},{"$f":"GZ65/$HM$65","v":0},null,{"$f":"$G65*HC65","v":0},{"$f":"HC65/$HM$65","v":0},null,{"$f":"$G65*HF65","v":0},{"$f":"HF65/$HM$65","v":0},null,{"$f":"$G65*HI65","v":0},{"$f":"HI65/$HM$65","v":0},null,7.1999999999999995E-2]
["3.8.2",null,"B","Rog/Stub/Grebenjača/Slemenja.   12/14 cm","column / pile / hip rafter / ridge 12/14 cm","m3",{"$f":"CENA!G57","v":0},0,0,null,{"$f":"$G66*J66","v":0},{"$f":"J66/$HM$66","v":0},null,0,{"$f":"M66/$HM$66","v":0},null,0,{"$f":"P66/$HM$66","v":0},null,0,{"$f":"S66/$HM$66","v":0},null,0,{"$f":"V66/$HM$66","v":0},null,0,{"$f":"Y66/$HM$66","v":0},null,0,{"$f":"AB66/$HM$66","v":0},null,0,{"$f":"AE66/$HM$66","v":0},null,0,{"$f":"AH66/$HM$66","v":0},null,0,{"$f":"AK66/$HM$66","v":0},null,0,{"$f":"AN66/$HM$66","v":0},null,0,{"$f":"AQ66/$HM$66","v":0},null,0,{"$f":"AT66/$HM$66","v":0},null,0,{"$f":"AW66/$HM$66","v":0},null,0,{"$f":"AZ66/$HM$66","v":0},null,0,{"$f":"BC66/$HM$66","v":0},null,0,{"$f":"BF66/$HM$66","v":0},null,0,{"$f":"BI66/$HM$66","v":0},null,0,{"$f":"BL66/$HM$66","v":0},null,0,{"$f":"BO66/$HM$66","v":0},null,0,{"$f":"BR66/$HM$66","v":0},null,0,{"$f":"BU66/$HM$66","v":0},null,0,{"$f":"BX66/$HM$66","v":0},null,0,{"$f":"CA66/$HM$66","v":0},null,0,{"$f":"CD66/$HM$66","v":0},null,0,{"$f":"CG66/$HM$66","v":0},null,0,{"$f":"CJ66/$HM$66","v":0},null,0,{"$f":"CM66/$HM$66","v":0},null,0,{"$f":"CP66/$HM$66","v":0},null,0,{"$f":"CS66/$HM$66","v":0},null,0,{"$f":"CV66/$HM$66","v":0},null,0,{"$f":"CY66/$HM$66","v":0},null,0,{"$f":"DB66/$HM$66","v":0},null,0,{"$f":"DE66/$HM$66","v":0},null,0,{"$f":"DH66/$HM$66","v":0},null,0,{"$f":"DK66/$HM$66","v":0},null,0,{"$f":"DN66/$HM$66","v":0},null,0,{"$f":"DQ66/$HM$66","v":0},null,0,{"$f":"DT66/$HM$66","v":0},null,0,{"$f":"DW66/$HM$66","v":0},null,0,{"$f":"DZ66/$HM$66","v":0},null,0,{"$f":"EC66/$HM$66","v":0},null,0,{"$f":"EF66/$HM$66","v":0},null,0,{"$f":"EI66/$HM$66","v":0},null,0,{"$f":"EL66/$HM$66","v":0},null,0,{"$f":"EO66/$HM$66","v":0},null,0,{"$f":"ER66/$HM$66","v":0},null,0,{"$f":"EU66/$HM$66","v":0},null,0,{"$f":"EX66/$HM$66","v":0},null,0,{"$f":"FA66/$HM$66","v":0},null,0,{"$f":"FD66/$HM$66","v":0},null,0,{"$f":"FG66/$HM$66","v":0},null,0,{"$f":"FJ66/$HM$66","v":0},null,0,{"$f":"FM66/$HM$66","v":0},null,0,{"$f":"FP66/$HM$66","v":0},null,0,{"$f":"FS66/$HM$66","v":0},null,0,{"$f":"FV66/$HM$66","v":0},null,0,{"$f":"FY66/$HM$66","v":0},null,0,{"$f":"GB66/$HM$66","v":0},null,0,{"$f":"GE66/$HM$66","v":0},null,0,{"$f":"GH66/$HM$66","v":0},null,0,{"$f":"GK66/$HM$66","v":0},null,0,{"$f":"GN66/$HM$66","v":0},null,0,{"$f":"GQ66/$HM$66","v":0},null,0,{"$f":"GT66/$HM$66","v":0},null,0,{"$f":"GW66/$HM$66","v":0},null,0,{"$f":"GZ66/$HM$66","v":0},null,0,{"$f":"HC66/$HM$66","v":0},null,0,{"$f":"HF66/$HM$66","v":0},null,0,{"$f":"HI66/$HM$66","v":0},null,0.1008]
["3.8.3",null,"C","Stub/Grebenjača                         14/14 cm","column / hip rafter 14/14 cm","m3",{"$f":"CENA!G58","v":0},0,0,null,{"$f":"$G67*J67","v":0},{"$f":"J67/$HM$67","v":0},null,0,{"$f":"M67/$HM$67","v":0},null,0,{"$f":"P67/$HM$67","v":0},null,0,{"$f":"S67/$HM$67","v":0},null,0,{"$f":"V67/$HM$67","v":0},null,0,{"$f":"Y67/$HM$67","v":0},null,0,{"$f":"AB67/$HM$67","v":0},null,0,{"$f":"AE67/$HM$67","v":0},null,0,{"$f":"AH67/$HM$67","v":0},null,0,{"$f":"AK67/$HM$67","v":0},null,0,{"$f":"AN67/$HM$67","v":0},null,0,{"$f":"AQ67/$HM$67","v":0},null,0,{"$f":"AT67/$HM$67","v":0},null,0,{"$f":"AW67/$HM$67","v":0},null,0,{"$f":"AZ67/$HM$67","v":0},null,0,{"$f":"BC67/$HM$67","v":0},null,0,{"$f":"BF67/$HM$67","v":0},null,0,{"$f":"BI67/$HM$67","v":0},null,0,{"$f":"BL67/$HM$67","v":0},null,0,{"$f":"BO67/$HM$67","v":0},null,0,{"$f":"BR67/$HM$67","v":0},null,0,{"$f":"BU67/$HM$67","v":0},null,0,{"$f":"BX67/$HM$67","v":0},null,0,{"$f":"CA67/$HM$67","v":0},null,0,{"$f":"CD67/$HM$67","v":0},null,0,{"$f":"CG67/$HM$67","v":0},null,0,{"$f":"CJ67/$HM$67","v":0},null,0,{"$f":"CM67/$HM$67","v":0},null,0,{"$f":"CP67/$HM$67","v":0},null,0,{"$f":"CS67/$HM$67","v":0},null,0,{"$f":"CV67/$HM$67","v":0},null,0,{"$f":"CY67/$HM$67","v":0},null,0,{"$f":"DB67/$HM$67","v":0},null,0,{"$f":"DE67/$HM$67","v":0},null,0,{"$f":"DH67/$HM$67","v":0},null,0,{"$f":"DK67/$HM$67","v":0},null,0,{"$f":"DN67/$HM$67","v":0},null,0,{"$f":"DQ67/$HM$67","v":0},null,0,{"$f":"DT67/$HM$67","v":0},null,0,{"$f":"DW67/$HM$67","v":0},null,0,{"$f":"DZ67/$HM$67","v":0},null,0,{"$f":"EC67/$HM$67","v":0},null,0,{"$f":"EF67/$HM$67","v":0},null,0,{"$f":"EI67/$HM$67","v":0},null,0,{"$f":"EL67/$HM$67","v":0},null,0,{"$f":"EO67/$HM$67","v":0},null,0,{"$f":"ER67/$HM$67","v":0},null,0,{"$f":"EU67/$HM$67","v":0},null,0,{"$f":"EX67/$HM$67","v":0},null,0,{"$f":"FA67/$HM$67","v":0},null,0,{"$f":"FD67/$HM$67","v":0},null,0,{"$f":"FG67/$HM$67","v":0},null,0,{"$f":"FJ67/$HM$67","v":0},null,0,{"$f":"FM67/$HM$67","v":0},null,0,{"$f":"FP67/$HM$67","v":0},null,0,{"$f":"FS67/$HM$67","v":0},null,0,{"$f":"FV67/$HM$67","v":0},null,0,{"$f":"FY67/$HM$67","v":0},null,0,{"$f":"GB67/$HM$67","v":0},null,0,{"$f":"GE67/$HM$67","v":0},null,0,{"$f":"GH67/$HM$67","v":0},null,0,{"$f":"GK67/$HM$67","v":0},null,0,{"$f":"GN67/$HM$67","v":0},null,0,{"$f":"GQ67/$HM$67","v":0},null,0,{"$f":"GT67/$HM$67","v":0},null,0,{"$f":"GW67/$HM$67","v":0},null,0,{"$f":"GZ67/$HM$67","v":0},null,0,{"$f":"HC67/$HM$67","v":0},null,0,{"$f":"HF67/$HM$67","v":0},null,0,{"$f":"HI67/$HM$67","v":0},null,0.1176]
["3.8.4",null,"D","Rožnjača                                    14/16 cm","Purlin 14/16 cm","m3",{"$f":"CENA!G59","v":0},0,0,null,{"$f":"$G68*J68","v":0},{"$f":"J68/$HM$68","v":0},null,0,{"$f":"M68/$HM$68","v":0},null,0,{"$f":"P68/$HM$68","v":0},null,0,{"$f":"S68/$HM$68","v":0},null,0,{"$f":"V68/$HM$68","v":0},null,0,{"$f":"Y68/$HM$68","v":0},null,0,{"$f":"AB68/$HM$68","v":0},null,0,{"$f":"AE68/$HM$68","v":0},null,0,{"$f":"AH68/$HM$68","v":0},null,0,{"$f":"AK68/$HM$68","v":0},null,0,{"$f":"AN68/$HM$68","v":0},null,0,{"$f":"AQ68/$HM$68","v":0},null,0,{"$f":"AT68/$HM$68","v":0},null,0,{"$f":"AW68/$HM$68","v":0},null,0,{"$f":"AZ68/$HM$68","v":0},null,0,{"$f":"BC68/$HM$68","v":0},null,0,{"$f":"BF68/$HM$68","v":0},null,0,{"$f":"BI68/$HM$68","v":0},null,0,{"$f":"BL68/$HM$68","v":0},null,0,{"$f":"BO68/$HM$68","v":0},null,0,{"$f":"BR68/$HM$68","v":0},null,0,{"$f":"BU68/$HM$68","v":0},null,0,{"$f":"BX68/$HM$68","v":0},null,0,{"$f":"CA68/$HM$68","v":0},null,0,{"$f":"CD68/$HM$68","v":0},null,0,{"$f":"CG68/$HM$68","v":0},null,0,{"$f":"CJ68/$HM$68","v":0},null,0,{"$f":"CM68/$HM$68","v":0},null,0,{"$f":"CP68/$HM$68","v":0},null,0,{"$f":"CS68/$HM$68","v":0},null,0,{"$f":"CV68/$HM$68","v":0},null,0,{"$f":"CY68/$HM$68","v":0},null,0,{"$f":"DB68/$HM$68","v":0},null,0,{"$f":"DE68/$HM$68","v":0},null,0,{"$f":"DH68/$HM$68","v":0},null,0,{"$f":"DK68/$HM$68","v":0},null,0,{"$f":"DN68/$HM$68","v":0},null,0,{"$f":"DQ68/$HM$68","v":0},null,0,{"$f":"DT68/$HM$68","v":0},null,0,{"$f":"DW68/$HM$68","v":0},null,0,{"$f":"DZ68/$HM$68","v":0},null,0,{"$f":"EC68/$HM$68","v":0},null,0,{"$f":"EF68/$HM$68","v":0},null,0,{"$f":"EI68/$HM$68","v":0},null,0,{"$f":"EL68/$HM$68","v":0},null,0,{"$f":"EO68/$HM$68","v":0},null,0,{"$f":"ER68/$HM$68","v":0},null,0,{"$f":"EU68/$HM$68","v":0},null,0,{"$f":"EX68/$HM$68","v":0},null,0,{"$f":"FA68/$HM$68","v":0},null,0,{"$f":"FD68/$HM$68","v":0},null,0,{"$f":"FG68/$HM$68","v":0},null,0,{"$f":"FJ68/$HM$68","v":0},null,0,{"$f":"FM68/$HM$68","v":0},null,0,{"$f":"FP68/$HM$68","v":0},null,0,{"$f":"FS68/$HM$68","v":0},null,0,{"$f":"FV68/$HM$68","v":0},null,0,{"$f":"FY68/$HM$68","v":0},null,0,{"$f":"GB68/$HM$68","v":0},null,0,{"$f":"GE68/$HM$68","v":0},null,0,{"$f":"GH68/$HM$68","v":0},null,0,{"$f":"GK68/$HM$68","v":0},null,0,{"$f":"GN68/$HM$68","v":0},null,0,{"$f":"GQ68/$HM$68","v":0},null,0,{"$f":"GT68/$HM$68","v":0},null,0,{"$f":"GW68/$HM$68","v":0},null,0,{"$f":"GZ68/$HM$68","v":0},null,0,{"$f":"HC68/$HM$68","v":0},null,0,{"$f":"HF68/$HM$68","v":0},null,0,{"$f":"HI68/$HM$68","v":0},null,0.13439999999999999]
["3.8.5",null,"E","Kosnik/Pajanta                           10/10 cm","Strut 10/10 cm","m3",{"$f":"CENA!G60","v":0},0,0,null,{"$f":"$G69*J69","v":0},{"$f":"J69/$HM$69","v":0},null,0,{"$f":"M69/$HM$69","v":0},null,0,{"$f":"P69/$HM$69","v":0},null,0,{"$f":"S69/$HM$69","v":0},null,0,{"$f":"V69/$HM$69","v":0},null,0,{"$f":"Y69/$HM$69","v":0},null,0,{"$f":"AB69/$HM$69","v":0},null,0,{"$f":"AE69/$HM$69","v":0},null,0,{"$f":"AH69/$HM$69","v":0},null,0,{"$f":"AK69/$HM$69","v":0},null,0,{"$f":"AN69/$HM$69","v":0},null,0,{"$f":"AQ69/$HM$69","v":0},null,0,{"$f":"AT69/$HM$69","v":0},null,0,{"$f":"AW69/$HM$69","v":0},null,0,{"$f":"AZ69/$HM$69","v":0},null,0,{"$f":"BC69/$HM$69","v":0},null,0,{"$f":"BF69/$HM$69","v":0},null,0,{"$f":"BI69/$HM$69","v":0},null,0,{"$f":"BL69/$HM$69","v":0},null,0,{"$f":"BO69/$HM$69","v":0},null,0,{"$f":"BR69/$HM$69","v":0},null,0,{"$f":"BU69/$HM$69","v":0},null,0,{"$f":"BX69/$HM$69","v":0},null,0,{"$f":"CA69/$HM$69","v":0},null,0,{"$f":"CD69/$HM$69","v":0},null,0,{"$f":"CG69/$HM$69","v":0},null,0,{"$f":"CJ69/$HM$69","v":0},null,0,{"$f":"CM69/$HM$69","v":0},null,0,{"$f":"CP69/$HM$69","v":0},null,0,{"$f":"CS69/$HM$69","v":0},null,0,{"$f":"CV69/$HM$69","v":0},null,0,{"$f":"CY69/$HM$69","v":0},null,0,{"$f":"DB69/$HM$69","v":0},null,0,{"$f":"DE69/$HM$69","v":0},null,0,{"$f":"DH69/$HM$69","v":0},null,0,{"$f":"DK69/$HM$69","v":0},null,0,{"$f":"DN69/$HM$69","v":0},null,0,{"$f":"DQ69/$HM$69","v":0},null,0,{"$f":"DT69/$HM$69","v":0},null,0,{"$f":"DW69/$HM$69","v":0},null,0,{"$f":"DZ69/$HM$69","v":0},null,0,{"$f":"EC69/$HM$69","v":0},null,0,{"$f":"EF69/$HM$69","v":0},null,0,{"$f":"EI69/$HM$69","v":0},null,0,{"$f":"EL69/$HM$69","v":0},null,0,{"$f":"EO69/$HM$69","v":0},null,0,{"$f":"ER69/$HM$69","v":0},null,0,{"$f":"EU69/$HM$69","v":0},null,0,{"$f":"EX69/$HM$69","v":0},null,0,{"$f":"FA69/$HM$69","v":0},null,0,{"$f":"FD69/$HM$69","v":0},null,0,{"$f":"FG69/$HM$69","v":0},null,0,{"$f":"FJ69/$HM$69","v":0},null,0,{"$f":"FM69/$HM$69","v":0},null,0,{"$f":"FP69/$HM$69","v":0},null,0,{"$f":"FS69/$HM$69","v":0},null,0,{"$f":"FV69/$HM$69","v":0},null,0,{"$f":"FY69/$HM$69","v":0},null,0,{"$f":"GB69/$HM$69","v":0},null,0,{"$f":"GE69/$HM$69","v":0},null,0,{"$f":"GH69/$HM$69","v":0},null,0,{"$f":"GK69/$HM$69","v":0},null,0,{"$f":"GN69/$HM$69","v":0},null,0,{"$f":"GQ69/$HM$69","v":0},null,0,{"$f":"GT69/$HM$69","v":0},null,0,{"$f":"GW69/$HM$69","v":0},null,0,{"$f":"GZ69/$HM$69","v":0},null,0,{"$f":"HC69/$HM$69","v":0},null,0,{"$f":"HF69/$HM$69","v":0},null,0,{"$f":"HI69/$HM$69","v":0},null,0.06]
["3.8.6",null,"F","Klešta                                         6/12 cm","Collar tie 6/12 cm","m3",{"$f":"CENA!G61","v":0},0,0,null,{"$f":"$G70*J70","v":0},{"$f":"J70/$HM$70","v":0},null,0,{"$f":"M70/$HM$70","v":0},null,0,{"$f":"P70/$HM$70","v":0},null,0,{"$f":"S70/$HM$70","v":0},null,0,{"$f":"V70/$HM$70","v":0},null,0,{"$f":"Y70/$HM$70","v":0},null,0,{"$f":"AB70/$HM$70","v":0},null,0,{"$f":"AE70/$HM$70","v":0},null,0,{"$f":"AH70/$HM$70","v":0},null,0,{"$f":"AK70/$HM$70","v":0},null,0,{"$f":"AN70/$HM$70","v":0},null,0,{"$f":"AQ70/$HM$70","v":0},null,0,{"$f":"AT70/$HM$70","v":0},null,0,{"$f":"AW70/$HM$70","v":0},null,0,{"$f":"AZ70/$HM$70","v":0},null,0,{"$f":"BC70/$HM$70","v":0},null,0,{"$f":"BF70/$HM$70","v":0},null,0,{"$f":"BI70/$HM$70","v":0},null,0,{"$f":"BL70/$HM$70","v":0},null,0,{"$f":"BO70/$HM$70","v":0},null,0,{"$f":"BR70/$HM$70","v":0},null,0,{"$f":"BU70/$HM$70","v":0},null,0,{"$f":"BX70/$HM$70","v":0},null,0,{"$f":"CA70/$HM$70","v":0},null,0,{"$f":"CD70/$HM$70","v":0},null,0,{"$f":"CG70/$HM$70","v":0},null,0,{"$f":"CJ70/$HM$70","v":0},null,0,{"$f":"CM70/$HM$70","v":0},null,0,{"$f":"CP70/$HM$70","v":0},null,0,{"$f":"CS70/$HM$70","v":0},null,0,{"$f":"CV70/$HM$70","v":0},null,0,{"$f":"CY70/$HM$70","v":0},null,0,{"$f":"DB70/$HM$70","v":0},null,0,{"$f":"DE70/$HM$70","v":0},null,0,{"$f":"DH70/$HM$70","v":0},null,0,{"$f":"DK70/$HM$70","v":0},null,0,{"$f":"DN70/$HM$70","v":0},null,0,{"$f":"DQ70/$HM$70","v":0},null,0,{"$f":"DT70/$HM$70","v":0},null,0,{"$f":"DW70/$HM$70","v":0},null,0,{"$f":"DZ70/$HM$70","v":0},null,0,{"$f":"EC70/$HM$70","v":0},null,0,{"$f":"EF70/$HM$70","v":0},null,0,{"$f":"EI70/$HM$70","v":0},null,0,{"$f":"EL70/$HM$70","v":0},null,0,{"$f":"EO70/$HM$70","v":0},null,0,{"$f":"ER70/$HM$70","v":0},null,0,{"$f":"EU70/$HM$70","v":0},null,0,{"$f":"EX70/$HM$70","v":0},null,0,{"$f":"FA70/$HM$70","v":0},null,0,{"$f":"FD70/$HM$70","v":0},null,0,{"$f":"FG70/$HM$70","v":0},null,0,{"$f":"FJ70/$HM$70","v":0},null,0,{"$f":"FM70/$HM$70","v":0},null,0,{"$f":"FP70/$HM$70","v":0},null,0,{"$f":"FS70/$HM$70","v":0},null,0,{"$f":"FV70/$HM$70","v":0},null,0,{"$f":"FY70/$HM$70","v":0},null,0,{"$f":"GB70/$HM$70","v":0},null,0,{"$f":"GE70/$HM$70","v":0},null,0,{"$f":"GH70/$HM$70","v":0},null,0,{"$f":"GK70/$HM$70","v":0},null,0,{"$f":"GN70/$HM$70","v":0},null,0,{"$f":"GQ70/$HM$70","v":0},null,0,{"$f":"GT70/$HM$70","v":0},null,0,{"$f":"GW70/$HM$70","v":0},null,0,{"$f":"GZ70/$HM$70","v":0},null,0,{"$f":"HC70/$HM$70","v":0},null,0,{"$f":"HF70/$HM$70","v":0},null,0,{"$f":"HI70/$HM$70","v":0},null,4.3200000000000002E-2]
["3.8.7",null,"G","Krovna štafla                                5/8  cm","Roof battens 5/8  cm","m3",{"$f":"CENA!G62","v":0},0.48,0,null,{"$f":"$G71*J71","v":0},{"$f":"J71/$HM$71","v":0},null,0,{"$f":"M71/$HM$71","v":0},0.48,0,{"$f":"P71/$HM$71","v":20},null,0,{"$f":"S71/$HM$71","v":0},null,0,{"$f":"V71/$HM$71","v":0},null,0,{"$f":"Y71/$HM$71","v":0},null,0,{"$f":"AB71/$HM$71","v":0},null,0,{"$f":"AE71/$HM$71","v":0},null,0,{"$f":"AH71/$HM$71","v":0},null,0,{"$f":"AK71/$HM$71","v":0},null,0,{"$f":"AN71/$HM$71","v":0},null,0,{"$f":"AQ71/$HM$71","v":0},null,0,{"$f":"AT71/$HM$71","v":0},null,0,{"$f":"AW71/$HM$71","v":0},null,0,{"$f":"AZ71/$HM$71","v":0},null,0,{"$f":"BC71/$HM$71","v":0},null,0,{"$f":"BF71/$HM$71","v":0},null,0,{"$f":"BI71/$HM$71","v":0},null,0,{"$f":"BL71/$HM$71","v":0},null,0,{"$f":"BO71/$HM$71","v":0},null,0,{"$f":"BR71/$HM$71","v":0},null,0,{"$f":"BU71/$HM$71","v":0},null,0,{"$f":"BX71/$HM$71","v":0},null,0,{"$f":"CA71/$HM$71","v":0},null,0,{"$f":"CD71/$HM$71","v":0},null,0,{"$f":"CG71/$HM$71","v":0},null,0,{"$f":"CJ71/$HM$71","v":0},null,0,{"$f":"CM71/$HM$71","v":0},null,0,{"$f":"CP71/$HM$71","v":0},null,0,{"$f":"CS71/$HM$71","v":0},null,0,{"$f":"CV71/$HM$71","v":0},null,0,{"$f":"CY71/$HM$71","v":0},null,0,{"$f":"DB71/$HM$71","v":0},null,0,{"$f":"DE71/$HM$71","v":0},null,0,{"$f":"DH71/$HM$71","v":0},null,0,{"$f":"DK71/$HM$71","v":0},null,0,{"$f":"DN71/$HM$71","v":0},null,0,{"$f":"DQ71/$HM$71","v":0},null,0,{"$f":"DT71/$HM$71","v":0},null,0,{"$f":"DW71/$HM$71","v":0},null,0,{"$f":"DZ71/$HM$71","v":0},null,0,{"$f":"EC71/$HM$71","v":0},null,0,{"$f":"EF71/$HM$71","v":0},null,0,{"$f":"EI71/$HM$71","v":0},null,0,{"$f":"EL71/$HM$71","v":0},null,0,{"$f":"EO71/$HM$71","v":0},null,0,{"$f":"ER71/$HM$71","v":0},null,0,{"$f":"EU71/$HM$71","v":0},null,0,{"$f":"EX71/$HM$71","v":0},null,0,{"$f":"FA71/$HM$71","v":0},null,0,{"$f":"FD71/$HM$71","v":0},null,0,{"$f":"FG71/$HM$71","v":0},null,0,{"$f":"FJ71/$HM$71","v":0},null,0,{"$f":"FM71/$HM$71","v":0},null,0,{"$f":"FP71/$HM$71","v":0},null,0,{"$f":"FS71/$HM$71","v":0},null,0,{"$f":"FV71/$HM$71","v":0},null,0,{"$f":"FY71/$HM$71","v":0},null,0,{"$f":"GB71/$HM$71","v":0},null,0,{"$f":"GE71/$HM$71","v":0},null,0,{"$f":"GH71/$HM$71","v":0},null,0,{"$f":"GK71/$HM$71","v":0},null,0,{"$f":"GN71/$HM$71","v":0},null,0,{"$f":"GQ71/$HM$71","v":0},null,0,{"$f":"GT71/$HM$71","v":0},null,0,{"$f":"GW71/$HM$71","v":0},null,0,{"$f":"GZ71/$HM$71","v":0},null,0,{"$f":"HC71/$HM$71","v":0},null,0,{"$f":"HF71/$HM$71","v":0},null,0,{"$f":"HI71/$HM$71","v":0},null,2.4E-2]
["3.8.8",null,"H","Tavanjače                                   18/26 cm","attic beams 18/26 cm","m3",{"$f":"CENA!G63","v":0},0,0,null,{"$f":"$G72*J72","v":0},{"$f":"J72/$HM$72","v":0},null,0,{"$f":"M72/$HM$72","v":0},null,0,{"$f":"P72/$HM$72","v":0},null,0,{"$f":"S72/$HM$72","v":0},null,0,{"$f":"V72/$HM$72","v":0},null,0,{"$f":"Y72/$HM$72","v":0},null,0,{"$f":"AB72/$HM$72","v":0},null,0,{"$f":"AE72/$HM$72","v":0},null,0,{"$f":"AH72/$HM$72","v":0},null,0,{"$f":"AK72/$HM$72","v":0},null,0,{"$f":"AN72/$HM$72","v":0},null,0,{"$f":"AQ72/$HM$72","v":0},null,0,{"$f":"AT72/$HM$72","v":0},null,0,{"$f":"AW72/$HM$72","v":0},null,0,{"$f":"AZ72/$HM$72","v":0},null,0,{"$f":"BC72/$HM$72","v":0},null,0,{"$f":"BF72/$HM$72","v":0},null,0,{"$f":"BI72/$HM$72","v":0},null,0,{"$f":"BL72/$HM$72","v":0},null,0,{"$f":"BO72/$HM$72","v":0},null,0,{"$f":"BR72/$HM$72","v":0},null,0,{"$f":"BU72/$HM$72","v":0},null,0,{"$f":"BX72/$HM$72","v":0},null,0,{"$f":"CA72/$HM$72","v":0},null,0,{"$f":"CD72/$HM$72","v":0},null,0,{"$f":"CG72/$HM$72","v":0},null,0,{"$f":"CJ72/$HM$72","v":0},null,0,{"$f":"CM72/$HM$72","v":0},null,0,{"$f":"CP72/$HM$72","v":0},null,0,{"$f":"CS72/$HM$72","v":0},null,0,{"$f":"CV72/$HM$72","v":0},null,0,{"$f":"CY72/$HM$72","v":0},null,0,{"$f":"DB72/$HM$72","v":0},null,0,{"$f":"DE72/$HM$72","v":0},null,0,{"$f":"DH72/$HM$72","v":0},null,0,{"$f":"DK72/$HM$72","v":0},null,0,{"$f":"DN72/$HM$72","v":0},null,0,{"$f":"DQ72/$HM$72","v":0},null,0,{"$f":"DT72/$HM$72","v":0},null,0,{"$f":"DW72/$HM$72","v":0},null,0,{"$f":"DZ72/$HM$72","v":0},null,0,{"$f":"EC72/$HM$72","v":0},null,0,{"$f":"EF72/$HM$72","v":0},null,0,{"$f":"EI72/$HM$72","v":0},null,0,{"$f":"EL72/$HM$72","v":0},null,0,{"$f":"EO72/$HM$72","v":0},null,0,{"$f":"ER72/$HM$72","v":0},null,0,{"$f":"EU72/$HM$72","v":0},null,0,{"$f":"EX72/$HM$72","v":0},null,0,{"$f":"FA72/$HM$72","v":0},null,0,{"$f":"FD72/$HM$72","v":0},null,0,{"$f":"FG72/$HM$72","v":0},null,0,{"$f":"FJ72/$HM$72","v":0},null,0,{"$f":"FM72/$HM$72","v":0},null,0,{"$f":"FP72/$HM$72","v":0},null,0,{"$f":"FS72/$HM$72","v":0},null,0,{"$f":"FV72/$HM$72","v":0},null,0,{"$f":"FY72/$HM$72","v":0},null,0,{"$f":"GB72/$HM$72","v":0},null,0,{"$f":"GE72/$HM$72","v":0},null,0,{"$f":"GH72/$HM$72","v":0},null,0,{"$f":"GK72/$HM$72","v":0},null,0,{"$f":"GN72/$HM$72","v":0},null,0,{"$f":"GQ72/$HM$72","v":0},null,0,{"$f":"GT72/$HM$72","v":0},null,0,{"$f":"GW72/$HM$72","v":0},null,0,{"$f":"GZ72/$HM$72","v":0},null,0,{"$f":"HC72/$HM$72","v":0},null,0,{"$f":"HF72/$HM$72","v":0},null,0,{"$f":"HI72/$HM$72","v":0},null,0.28079999999999999]
["3.9","K",9,"Građevinska daska - fosna\n4,8/25/400 cm","Fir board\n4,8/25/400 cm","m3",{"$f":"CENA!G64","v":0},0,0,null,{"$f":"$G73*J73","v":0},{"$f":"J73/$HM$73","v":0},null,0,{"$f":"M73/$HM$73","v":0},null,0,{"$f":"P73/$HM$73","v":0},null,0,{"$f":"S73/$HM$73","v":0},null,0,{"$f":"V73/$HM$73","v":0},null,0,{"$f":"Y73/$HM$73","v":0},null,0,{"$f":"AB73/$HM$73","v":0},null,0,{"$f":"AE73/$HM$73","v":0},null,0,{"$f":"AH73/$HM$73","v":0},null,0,{"$f":"AK73/$HM$73","v":0},null,0,{"$f":"AN73/$HM$73","v":0},null,0,{"$f":"AQ73/$HM$73","v":0},null,0,{"$f":"AT73/$HM$73","v":0},null,0,{"$f":"AW73/$HM$73","v":0},null,0,{"$f":"AZ73/$HM$73","v":0},null,0,{"$f":"BC73/$HM$73","v":0},null,0,{"$f":"BF73/$HM$73","v":0},null,0,{"$f":"BI73/$HM$73","v":0},null,0,{"$f":"BL73/$HM$73","v":0},null,0,{"$f":"BO73/$HM$73","v":0},null,0,{"$f":"BR73/$HM$73","v":0},null,0,{"$f":"BU73/$HM$73","v":0},null,0,{"$f":"BX73/$HM$73","v":0},null,0,{"$f":"CA73/$HM$73","v":0},null,0,{"$f":"CD73/$HM$73","v":0},null,0,{"$f":"CG73/$HM$73","v":0},null,0,{"$f":"CJ73/$HM$73","v":0},null,0,{"$f":"CM73/$HM$73","v":0},null,0,{"$f":"CP73/$HM$73","v":0},null,0,{"$f":"CS73/$HM$73","v":0},null,0,{"$f":"CV73/$HM$73","v":0},null,0,{"$f":"CY73/$HM$73","v":0},null,0,{"$f":"DB73/$HM$73","v":0},null,0,{"$f":"DE73/$HM$73","v":0},null,0,{"$f":"DH73/$HM$73","v":0},null,0,{"$f":"DK73/$HM$73","v":0},null,0,{"$f":"DN73/$HM$73","v":0},null,0,{"$f":"DQ73/$HM$73","v":0},null,0,{"$f":"DT73/$HM$73","v":0},null,0,{"$f":"DW73/$HM$73","v":0},null,0,{"$f":"DZ73/$HM$73","v":0},null,0,{"$f":"EC73/$HM$73","v":0},null,0,{"$f":"EF73/$HM$73","v":0},null,0,{"$f":"EI73/$HM$73","v":0},null,0,{"$f":"EL73/$HM$73","v":0},null,0,{"$f":"EO73/$HM$73","v":0},null,0,{"$f":"ER73/$HM$73","v":0},null,0,{"$f":"EU73/$HM$73","v":0},null,0,{"$f":"EX73/$HM$73","v":0},null,0,{"$f":"FA73/$HM$73","v":0},null,0,{"$f":"FD73/$HM$73","v":0},null,0,{"$f":"FG73/$HM$73","v":0},null,0,{"$f":"FJ73/$HM$73","v":0},null,0,{"$f":"FM73/$HM$73","v":0},null,0,{"$f":"FP73/$HM$73","v":0},null,0,{"$f":"FS73/$HM$73","v":0},null,0,{"$f":"FV73/$HM$73","v":0},null,0,{"$f":"FY73/$HM$73","v":0},null,0,{"$f":"GB73/$HM$73","v":0},null,0,{"$f":"GE73/$HM$73","v":0},null,0,{"$f":"GH73/$HM$73","v":0},null,0,{"$f":"GK73/$HM$73","v":0},null,0,{"$f":"GN73/$HM$73","v":0},null,0,{"$f":"GQ73/$HM$73","v":0},null,0,{"$f":"GT73/$HM$73","v":0},null,0,{"$f":"GW73/$HM$73","v":0},null,0,{"$f":"GZ73/$HM$73","v":0},null,0,{"$f":"HC73/$HM$73","v":0},null,0,{"$f":"HF73/$HM$73","v":0},null,0,{"$f":"HI73/$HM$73","v":0},null,4.8000000000000001E-2]
["3.10","K",10,"Krovna daska od čamove rezane građe \n2,4-2,5/15 cm, isporučuje se dužine l=3,0 metra","Roof fir board\n2,4-2,5/15 cm, lenght l=3,0 m","m3",{"$f":"CENA!G65","v":0},4,0,null,{"$f":"$G74*J74","v":0},null,null,0,null,null,0,null,null,0,null,1,0,null,3,0,null,null,0,null,null,0,null,null,0,null,null,0,null,null,0,null,null,0,null,null,0,null,null,0,null,null,0,null,null,0,null,null,0,null,null,0,null,null,0,null,null,0,null,null,0,null,null,0,null,null,0,null,null,0,null,null,0,null,null,0,null,null,0,null,null,0,null,null,0,null,null,0,null,null,0,null,null,0,null,null,0,null,null,0,null,null,0,null,null,0,null,null,0,null,null,0,null,null,0,null,null,0,null,null,0,null,null,0,null,null,0,null,null,0,null,null,0,null,null,0,null,null,0,null,null,0,null,null,0,null,null,0,null,null,0,null,null,0,null,null,0,null,null,0,null,null,0,null,null,0,null,null,0,null,null,0,null,null,0,null,null,0,null,null,0,null,null,0,null,null,0,null,null,0,null,null,0,null,null,0,null,null,0,null,null,0,null,null,0,null,null,0]
["3.11","K",11,"Krovna letva od čamove rezane građe \n 3 / 5 cm , isporučuje se dužine l=3,0 metra","Fir batten\n 3 / 5 cm , lenght l=3,0 m","m1",{"$f":"CENA!G66","v":0},684,0,null,{"$f":"$G75*J75","v":0},{"$f":"J75/$HM$75","v":0},414,0,{"$f":"M75/$HM$75","v":138},111,0,{"$f":"P75/$HM$75","v":37},null,0,{"$f":"S75/$HM$75","v":0},60,0,{"$f":"V75/$HM$75","v":20},99,0,{"$f":"Y75/$HM$75","v":33},null,0,402,null,0,{"$f":"AE75/$HM$75","v":0},null,0,{"$f":"AH75/$HM$75","v":0},null,0,{"$f":"AK75/$HM$75","v":0},null,0,{"$f":"AN75/$HM$75","v":0},null,0,{"$f":"AQ75/$HM$75","v":0},null,0,{"$f":"AT75/$HM$75","v":0},null,0,{"$f":"AW75/$HM$75","v":0},null,0,{"$f":"AZ75/$HM$75","v":0},null,0,{"$f":"BC75/$HM$75","v":0},null,0,{"$f":"BF75/$HM$75","v":0},null,0,{"$f":"BI75/$HM$75","v":0},null,0,{"$f":"BL75/$HM$75","v":0},null,0,{"$f":"BO75/$HM$75","v":0},null,0,{"$f":"BR75/$HM$75","v":0},null,0,{"$f":"BU75/$HM$75","v":0},null,0,402,null,0,{"$f":"CA75/$HM$75","v":0},null,0,{"$f":"CD75/$HM$75","v":0},null,0,{"$f":"CG75/$HM$75","v":0},null,0,{"$f":"CJ75/$HM$75","v":0},null,0,{"$f":"CM75/$HM$75","v":0},null,0,{"$f":"CP75/$HM$75","v":0},null,0,{"$f":"CS75/$HM$75","v":0},null,0,{"$f":"CV75/$HM$75","v":0},null,0,{"$f":"CY75/$HM$75","v":0},null,0,{"$f":"DB75/$HM$75","v":0},null,0,{"$f":"DE75/$HM$75","v":0},null,0,{"$f":"DH75/$HM$75","v":0},null,0,{"$f":"DK75/$HM$75","v":0},null,0,{"$f":"DN75/$HM$75","v":0},null,0,{"$f":"DQ75/$HM$75","v":0},null,0,402,null,0,{"$f":"DW75/$HM$75","v":0},null,0,{"$f":"DZ75/$HM$75","v":0},null,0,{"$f":"EC75/$HM$75","v":0},null,0,{"$f":"EF75/$HM$75","v":0},null,0,{"$f":"EI75/$HM$75","v":0},null,0,{"$f":"EL75/$HM$75","v":0},null,0,{"$f":"EO75/$HM$75","v":0},null,0,{"$f":"ER75/$HM$75","v":0},null,0,{"$f":"EU75/$HM$75","v":0},null,0,{"$f":"EX75/$HM$75","v":0},null,0,{"$f":"FA75/$HM$75","v":0},null,0,{"$f":"FD75/$HM$75","v":0},null,0,{"$f":"FG75/$HM$75","v":0},null,0,{"$f":"FJ75/$HM$75","v":0},null,0,{"$f":"FM75/$HM$75","v":0},null,0,402,null,0,{"$f":"FS75/$HM$75","v":0},null,0,{"$f":"FV75/$HM$75","v":0},null,0,{"$f":"FY75/$HM$75","v":0},null,0,{"$f":"GB75/$HM$75","v":0},null,0,{"$f":"GE75/$HM$75","v":0},null,0,{"$f":"GH75/$HM$75","v":0},null,0,{"$f":"GK75/$HM$75","v":0},null,0,{"$f":"GN75/$HM$75","v":0},null,0,{"$f":"GQ75/$HM$75","v":0},null,0,{"$f":"GT75/$HM$75","v":0},null,0,{"$f":"GW75/$HM$75","v":0},null,0,{"$f":"GZ75/$HM$75","v":0},null,0,{"$f":"HC75/$HM$75","v":0},null,0,{"$f":"HF75/$HM$75","v":0},null,0,{"$f":"HI75/$HM$75","v":0},null,3]
["3.12","K",12,"OSB3  vlagootporne konstruktivne ploče\nd=18 mm / dim. 2440 x 1220","OSB3  moisture resistant structural panels\nd=18 mm / dim. 2440 x 1220","kom/pcs",{"$f":"CENA!G67","v":0},0,0,null,{"$f":"$G76*J76","v":0},null,null,0,null,null,0,null,null,0,null,null,0,null,null,0,null,null,0,null,null,0,null,null,0,null,null,0,null,null,0,null,null,0,null,null,0,null,null,0,null,null,0,null,null,0,null,null,0,null,null,0,null,null,0,null,null,0,null,null,0,null,null,0,null,null,0,null,null,0,null,null,0,null,null,0,null,null,0,null,null,0,null,null,0,null,null,0,null,null,0,null,null,0,null,null,0,null,null,0,null,null,0,null,null,0,null,null,0,null,null,0,null,null,0,null,null,0,null,null,0,null,null,0,null,null,0,null,null,0,null,null,0,null,null,0,null,null,0,null,null,0,null,null,0,null,null,0,null,null,0,null,null,0,null,null,0,null,null,0,null,null,0,null,null,0,null,null,0,null,null,0,null,null,0,null,null,0,null,null,0,null,null,0,null,null,0,null,null,0,null,null,0,null,null,0,null,null,0,null,null,0,null,null,0,null,null,0]
["3.13","K",13,"Standardne gips kartonske ploče - Tip A\ndimenzije: 1200-1250 x 2000 mm","Standard plasterboard table - Type A\ndim: 1200-1250 x 2000 mm","kom/pcs",{"$f":"CENA!G68","v":0},0,0,null,{"$f":"$G77*J77","v":0},null,null,0,null,null,0,null,null,0,null,null,0,null,null,0,null,null,0,null,null,0,null,null,0,null,null,0,null,null,0,null,null,0,null,null,0,null,null,0,null,null,0,null,null,0,null,null,0,null,null,0,null,null,0,null,null,0,null,null,0,null,null,0,null,null,0,null,null,0,null,null,0,null,null,0,null,null,0,null,null,0,null,null,0,null,null,0,null,null,0,null,null,0,null,null,0,null,null,0,null,null,0,null,null,0,null,null,0,null,null,0,null,null,0,null,null,0,null,null,0,null,null,0,null,null,0,null,null,0,null,null,0,null,null,0,null,null,0,null,null,0,null,null,0,null,null,0,null,null,0,null,null,0,null,null,0,null,null,0,null,null,0,null,null,0,null,null,0,null,null,0,null,null,0,null,null,0,null,null,0,null,null,0,null,null,0,null,null,0,null,null,0,null,null,0,null,null,0,null,null,0,null,null,0,null,null,0]
["3.14","K",14,"Vlagootporne gips kartonske ploče - Tip H2\ndimenzije: 1200-1250 x 2000 mm","Moisture resistant Plasterboard - Type H2\ndim: 1200-1250 x 2000 mm","kom/pcs",{"$f":"CENA!G69","v":0},17,0,null,{"$f":"$G78*J78","v":0},null,null,0,null,17,0,null,null,0,null,null,0,null,null,0,null,null,0,null,null,0,null,null,0,null,null,0,null,null,0,null,null,0,null,null,0,null,null,0,null,null,0,null,null,0,null,null,0,null,null,0,null,null,0,null,null,0,null,null,0,null,null,0,null,null,0,null,null,0,null,null,0,null,null,0,null,null,0,null,null,0,null,null,0,null,null,0,null,null,0,null,null,0,null,null,0,null,null,0,null,null,0,null,null,0,null,null,0,null,null,0,null,null,0,null,null,0,null,null,0,null,null,0,null,null,0,null,null,0,null,null,0,null,null,0,null,null,0,null,null,0,null,null,0,null,null,0,null,null,0,null,null,0,null,null,0,null,null,0,null,null,0,null,null,0,null,null,0,null,null,0,null,null,0,null,null,0,null,null,0,null,null,0,null,null,0,null,null,0,null,null,0,null,null,0,null,null,0,null,null,0,null,null,0,null,null,0]
["3.15","K",15,"Čelični pocinkovani i farbani olučni elementi prečnika: Ø 100 mm dužine 600 cm","Galvanized steel and painted gutter elements diameter: Ø 100 mm length 600 cm","/","/","/","/","/","/",null,"/","/",null,"/","/",null,"/","/",null,"/","/",null,"/","/",null,"/","/",null,"/","/",null,"/","/",null,"/","/",null,"/","/",null,"/","/",null,"/","/",null,"/","/",null,"/","/",null,"/","/",null,"/","/",null,"/","/",null,"/","/",null,"/","/",null,"/","/",null,"/","/",null,"/","/",null,"/","/",null,"/","/",null,"/","/",null,"/","/",null,"/","/",null,"/","/",null,"/","/",null,"/","/",null,"/","/",null,"/","/",null,"/","/",null,"/","/",null,"/","/",null,"/","/",null,"/","/",null,"/","/",null,"/","/",null,"/","/",null,"/","/",null,"/","/",null,"/","/",null,"/","/",null,"/","/",null,"/","/",null,"/","/",null,"/","/",null,"/","/",null,"/","/",null,"/","/",null,"/","/",null,"/","/",null,"/","/",null,"/","/",null,"/","/",null,"/","/",null,"/","/",null,"/","/",null,"/","/",null,"/","/",null,"/","/",null,"/","/",null,"/","/",null,"/","/",null,"/","/",null,"/","/",null,"/","/",null,"/","/"]
["3.15.1",null,"A","Horizontalni polukružni","horizontal semicircular gutter","kom/pcs",{"$f":"CENA!G71","v":0},{"$f":"J80+M80+P80+S80+V80+Y80+AB80+AE80+AH80+AK80+AN80+AQ80+AZ80+AW80+AT80+BC80+BF80+BI80+BL80+BO80+BR80+BU80+BX80+CA80+CD80+CG80+CJ80+CM80+CP80+CS80+CV80+CY80+DB80+DE80+DH80+DK80+DN80+DQ80+DT80+DW80+DZ80+EC80+EF80+EI80+EL80+EO80+ER80+EU80+EX80+FA80+FD80+FG80+FJ80+FM80+FP80+FS80+FV80+FY80+GB80+GE80+GH80+GK80+GN80+GQ80+GT80+GW80+GZ80+HC80+HF80+HI80","v":0},{"$f":"G80*H80","v":0},null,{"$f":"$G80*J80","v":0},null,null,{"$f":"$G80*M80","v":0},null,null,{"$f":"$G80*P80","v":0},null,null,{"$f":"$G80*S80","v":0},null,null,{"$f":"$G80*V80","v":0},null,null,{"$f":"$G80*Y80","v":0},null,null,{"$f":"$G80*AB80","v":0},null,null,{"$f":"$G80*AE80","v":0},null,null,{"$f":"$G80*AH80","v":0},null,null,{"$f":"$G80*AK80","v":0},null,null,{"$f":"$G80*AN80","v":0},null,null,{"$f":"$G80*AQ80","v":0},null,null,{"$f":"$G80*AT80","v":0},null,null,{"$f":"$G80*AW80","v":0},null,null,{"$f":"$G80*AZ80","v":0},null,null,{"$f":"$G80*BC80","v":0},null,null,{"$f":"$G80*BF80","v":0},null,null,{"$f":"$G80*BI80","v":0},null,null,{"$f":"$G80*BL80","v":0},null,null,{"$f":"$G80*BO80","v":0},null,null,{"$f":"$G80*BR80","v":0},null,null,{"$f":"$G80*BU80","v":0},null,null,{"$f":"$G80*BX80","v":0},null,null,{"$f":"$G80*CA80","v":0},null,null,{"$f":"$G80*CD80","v":0},null,null,{"$f":"$G80*CG80","v":0},null,null,{"$f":"$G80*CJ80","v":0},null,null,{"$f":"$G80*CM80","v":0},null,null,{"$f":"$G80*CP80","v":0},null,null,{"$f":"$G80*CS80","v":0},null,null,{"$f":"$G80*CV80","v":0},null,null,{"$f":"$G80*CY80","v":0},null,null,{"$f":"$G80*DB80","v":0},null,null,{"$f":"$G80*DE80","v":0},null,null,{"$f":"$G80*DH80","v":0},null,null,{"$f":"$G80*DK80","v":0},null,null,{"$f":"$G80*DN80","v":0},null,null,{"$f":"$G80*DQ80","v":0},null,null,{"$f":"$G80*DT80","v":0},null,null,{"$f":"$G80*DW80","v":0},null,null,{"$f":"$G80*DZ80","v":0},null,null,{"$f":"$G80*EC80","v":0},null,null,{"$f":"$G80*EF80","v":0},null,null,{"$f":"$G80*EI80","v":0},null,null,{"$f":"$G80*EL80","v":0},null,null,{"$f":"$G80*EO80","v":0},null,null,{"$f":"$G80*ER80","v":0},null,null,{"$f":"$G80*EU80","v":0},null,null,{"$f":"$G80*EX80","v":0},null,null,{"$f":"$G80*FA80","v":0},null,null,{"$f":"$G80*FD80","v":0},null,null,{"$f":"$G80*FG80","v":0},null,null,{"$f":"$G80*FJ80","v":0},null,null,{"$f":"$G80*FM80","v":0},null,null,{"$f":"$G80*FP80","v":0},null,null,{"$f":"$G80*FS80","v":0},null,null,{"$f":"$G80*FV80","v":0},null,null,{"$f":"$G80*FY80","v":0},null,null,{"$f":"$G80*GB80","v":0},null,null,{"$f":"$G80*GE80","v":0},null,null,{"$f":"$G80*GH80","v":0},null,null,{"$f":"$G80*GK80","v":0},null,null,{"$f":"$G80*GN80","v":0},null,null,{"$f":"$G80*GQ80","v":0},null,null,{"$f":"$G80*GT80","v":0},null,null,{"$f":"$G80*GW80","v":0},null,null,{"$f":"$G80*GZ80","v":0},null,null,{"$f":"$G80*HC80","v":0},null,null,{"$f":"$G80*HF80","v":0},null,null,{"$f":"$G80*HI80","v":0}]
["3.15.2",null,"B","Vertikalni kružni oluk","Vertical circular gutter","kom/pcs",{"$f":"CENA!G72","v":0},{"$f":"J81+M81+P81+S81+V81+Y81+AB81+AE81+AH81+AK81+AN81+AQ81+AZ81+AW81+AT81+BC81+BF81+BI81+BL81+BO81+BR81+BU81+BX81+CA81+CD81+CG81+CJ81+CM81+CP81+CS81+CV81+CY81+DB81+DE81+DH81+DK81+DN81+DQ81+DT81+DW81+DZ81+EC81+EF81+EI81+EL81+EO81+ER81+EU81+EX81+FA81+FD81+FG81+FJ81+FM81+FP81+FS81+FV81+FY81+GB81+GE81+GH81+GK81+GN81+GQ81+GT81+GW81+GZ81+HC81+HF81+HI81","v":0},0,null,{"$f":"$G81*J81","v":0},null,null,0,null,null,{"$f":"$G81*P81","v":0},null,null,{"$f":"$G81*S81","v":0},null,null,{"$f":"$G81*V81","v":0},null,null,{"$f":"$G81*Y81","v":0},null,null,{"$f":"$G81*AB81","v":0},null,null,{"$f":"$G81*AE81","v":0},null,null,{"$f":"$G81*AH81","v":0},null,null,{"$f":"$G81*AK81","v":0},null,null,{"$f":"$G81*AN81","v":0},null,null,{"$f":"$G81*AQ81","v":0},null,null,{"$f":"$G81*AT81","v":0},null,null,{"$f":"$G81*AW81","v":0},null,null,{"$f":"$G81*AZ81","v":0},null,null,{"$f":"$G81*BC81","v":0},null,null,0,null,null,0,null,null,{"$f":"$G81*BL81","v":0},null,null,{"$f":"$G81*BO81","v":0},null,null,{"$f":"$G81*BR81","v":0},null,null,{"$f":"$G81*BU81","v":0},null,null,{"$f":"$G81*BX81","v":0},null,null,{"$f":"$G81*CA81","v":0},null,null,{"$f":"$G81*CD81","v":0},null,null,{"$f":"$G81*CG81","v":0},null,null,{"$f":"$G81*CJ81","v":0},null,null,{"$f":"$G81*CM81","v":0},null,null,{"$f":"$G81*CP81","v":0},null,null,{"$f":"$G81*CS81","v":0},null,null,{"$f":"$G81*CV81","v":0},null,null,{"$f":"$G81*CY81","v":0},null,null,0,null,null,0,null,null,{"$f":"$G81*DH81","v":0},null,null,{"$f":"$G81*DK81","v":0},null,null,{"$f":"$G81*DN81","v":0},null,null,{"$f":"$G81*DQ81","v":0},null,null,{"$f":"$G81*DT81","v":0},null,null,{"$f":"$G81*DW81","v":0},null,null,{"$f":"$G81*DZ81","v":0},null,null,{"$f":"$G81*EC81","v":0},null,null,{"$f":"$G81*EF81","v":0},null,null,{"$f":"$G81*EI81","v":0},null,null,{"$f":"$G81*EL81","v":0},null,null,{"$f":"$G81*EO81","v":0},null,null,{"$f":"$G81*ER81","v":0},null,null,{"$f":"$G81*EU81","v":0},null,null,0,null,null,0,null,null,{"$f":"$G81*FD81","v":0},null,null,{"$f":"$G81*FG81","v":0},null,null,{"$f":"$G81*FJ81","v":0},null,null,{"$f":"$G81*FM81","v":0},null,null,{"$f":"$G81*FP81","v":0},null,null,{"$f":"$G81*FS81","v":0},null,null,{"$f":"$G81*FV81","v":0},null,null,{"$f":"$G81*FY81","v":0},null,null,{"$f":"$G81*GB81","v":0},null,null,{"$f":"$G81*GE81","v":0},null,null,{"$f":"$G81*GH81","v":0},null,null,{"$f":"$G81*GK81","v":0},null,null,{"$f":"$G81*GN81","v":0},null,null,{"$f":"$G81*GQ81","v":0},null,null,{"$f":"$G81*GT81","v":0},null,null,{"$f":"$G81*GW81","v":0},null,null,{"$f":"$G81*GZ81","v":0},null,null,{"$f":"$G81*HC81","v":0},null,null,{"$f":"$G81*HF81","v":0},null,null,{"$f":"$G81*HI81","v":0}]
[]
["4","P",null,"MATERIJAL ZA PODOVE, LAMINAT, PLOČICE I XPS","FLOORING, LAMINATE, TILES AND XPS"]
["4.1","P",1,"Unutrašnje podne keramičke pločice\nMin. dimenzije pločica: 200x300 mm","Floor tiles for inside\nMin. tile size: 200x300 mm","m2",{"$f":"CENA!G75","v":0},{"$f":"J84+M84+P84+S84+V84+Y84+AB84+AE84+AH84+AK84+AN84+AQ84+AZ84+AW84+AT84+BC84+BF84+BI84+BL84+BO84+BR84+BU84+BX84+CA84+CD84+CG84+CJ84+CM84+CP84+CS84+CV84+CY84+DB84+DE84+DH84+DK84+DN84+DQ84+DT84+DW84+DZ84+EC84+EF84+EI84+EL84+EO84+ER84+EU84+EX84+FA84+FD84+FG84+FJ84+FM84+FP84+FS84+FV84+FY84+GB84+GE84+GH84+GK84+GN84+GQ84+GT84+GW84+GZ84+HC84+HF84+HI84","v":0},{"$f":"G84*H84","v":0},null,{"$f":"$G84*J84","v":0},null,null,{"$f":"$G84*M84","v":0},null,null,{"$f":"$G84*P84","v":0},null,null,{"$f":"$G84*S84","v":0},null,null,{"$f":"$G84*V84","v":0},null,null,{"$f":"$G84*Y84","v":0},null,null,{"$f":"$G84*AB84","v":0},null,null,{"$f":"$G84*AE84","v":0},null,null,{"$f":"$G84*AH84","v":0},null,null,{"$f":"$G84*AK84","v":0},null,null,{"$f":"$G84*AN84","v":0},null,null,{"$f":"$G84*AQ84","v":0},null,null,{"$f":"$G84*AT84","v":0},null,null,{"$f":"$G84*AW84","v":0},null,null,{"$f":"$G84*AZ84","v":0},null,null,{"$f":"$G84*BC84","v":0},null,null,{"$f":"$G84*BF84","v":0},null,null,{"$f":"$G84*BI84","v":0},null,null,{"$f":"$G84*BL84","v":0},null,null,{"$f":"$G84*BO84","v":0},null,null,{"$f":"$G84*BR84","v":0},null,null,{"$f":"$G84*BU84","v":0},null,null,{"$f":"$G84*BX84","v":0},null,null,{"$f":"$G84*CA84","v":0},null,null,{"$f":"$G84*CD84","v":0},null,null,{"$f":"$G84*CG84","v":0},null,null,{"$f":"$G84*CJ84","v":0},null,null,{"$f":"$G84*CM84","v":0},null,null,{"$f":"$G84*CP84","v":0},null,null,{"$f":"$G84*CS84","v":0},null,null,{"$f":"$G84*CV84","v":0},null,null,{"$f":"$G84*CY84","v":0},null,null,{"$f":"$G84*DB84","v":0},null,null,{"$f":"$G84*DE84","v":0},null,null,{"$f":"$G84*DH84","v":0},null,null,{"$f":"$G84*DK84","v":0},null,null,{"$f":"$G84*DN84","v":0},null,null,{"$f":"$G84*DQ84","v":0},null,null,{"$f":"$G84*DT84","v":0},null,null,{"$f":"$G84*DW84","v":0},null,null,{"$f":"$G84*DZ84","v":0},null,null,{"$f":"$G84*EC84","v":0},null,null,{"$f":"$G84*EF84","v":0},null,null,{"$f":"$G84*EI84","v":0},null,null,{"$f":"$G84*EL84","v":0},null,null,{"$f":"$G84*EO84","v":0},null,null,{"$f":"$G84*ER84","v":0},null,null,{"$f":"$G84*EU84","v":0},null,null,{"$f":"$G84*EX84","v":0},null,null,{"$f":"$G84*FA84","v":0},null,null,{"$f":"$G84*FD84","v":0},null,null,{"$f":"$G84*FG84","v":0},null,null,{"$f":"$G84*FJ84","v":0},null,null,{"$f":"$G84*FM84","v":0},null,null,{"$f":"$G84*FP84","v":0},null,null,{"$f":"$G84*FS84","v":0},null,null,{"$f":"$G84*FV84","v":0},null,null,{"$f":"$G84*FY84","v":0},null,null,{"$f":"$G84*GB84","v":0},null,null,{"$f":"$G84*GE84","v":0},null,null,{"$f":"$G84*GH84","v":0},null,null,{"$f":"$G84*GK84","v":0},null,null,{"$f":"$G84*GN84","v":0},null,null,{"$f":"$G84*GQ84","v":0},null,null,{"$f":"$G84*GT84","v":0},null,null,{"$f":"$G84*GW84","v":0},null,null,{"$f":"$G84*GZ84","v":0},null,null,{"$f":"$G84*HC84","v":0},null,null,{"$f":"$G84*HF84","v":0},null,null,{"$f":"$G84*HI84","v":0}]
["4.2","P",2,"Unutrašnje zidne keramičke pločice \nMin. dimenzije pločica: 200x300 mm","Wall tiles for inside\nMin. tile size: 200x300 mm","m2",{"$f":"CENA!G76","v":0},0,0,null,{"$f":"$G85*J85","v":0},null,null,0,null,null,0,null,null,0,null,null,0,null,null,0,null,null,0,null,null,0,null,null,0,null,null,0,null,null,0,null,null,0,null,null,0,null,null,0,null,null,0,null,null,0,null,null,0,null,null,0,null,null,0,null,null,0,null,null,0,null,null,0,null,null,0,null,null,0,null,null,0,null,null,0,null,null,0,null,null,0,null,null,0,null,null,0,null,null,0,null,null,0,null,null,0,null,null,0,null,null,0,null,null,0,null,null,0,null,null,0,null,null,0,null,null,0,null,null,0,null,null,0,null,null,0,null,null,0,null,null,0,null,null,0,null,null,0,null,null,0,null,null,0,null,null,0,null,null,0,null,null,0,null,null,0,null,null,0,null,null,0,null,null,0,null,null,0,null,null,0,null,null,0,null,null,0,null,null,0,null,null,0,null,null,0,null,null,0,null,null,0,null,null,0,null,null,0,null,null,0,null,null,0,null,null,0]
["4.3","P",3,"Lepak za keramičke pločice\nFleksibilni, polimer-cementni lepak","Glue for ceramic tiles\nFlexible, polymer-cement glue","kg",{"$f":"CENA!G77","v":0},0,0,null,{"$f":"$G86*J86","v":0},null,null,0,null,null,0,null,null,0,null,null,0,null,null,0,null,null,0,null,null,0,null,null,0,null,null,0,null,null,0,null,null,0,null,null,0,null,null,0,null,null,0,null,null,0,null,null,0,null,null,0,null,null,0,null,null,0,null,null,0,null,null,0,null,null,0,null,null,0,null,null,0,null,null,0,null,null,0,null,null,0,null,null,0,null,null,0,null,null,0,null,null,0,null,null,0,null,null,0,null,null,0,null,null,0,null,null,0,null,null,0,null,null,0,null,null,0,null,null,0,null,null,0,null,null,0,null,null,0,null,null,0,null,null,0,null,null,0,null,null,0,null,null,0,null,null,0,null,null,0,null,null,0,null,null,0,null,null,0,null,null,0,null,null,0,null,null,0,null,null,0,null,null,0,null,null,0,null,null,0,null,null,0,null,null,0,null,null,0,null,null,0,null,null,0,null,null,0,null,null,0,null,null,0,null,null,0]
["4.4","P",4,"Fleksibilna masa za fugovanje\nVodoodbojna fug masa na bazi cementa","Flexible mass for grouting\nWaterproof grout cement based","kg",{"$f":"CENA!G78","v":0},0,0,null,{"$f":"$G87*J87","v":0},null,null,0,null,null,0,null,null,0,null,null,0,null,null,0,null,null,0,null,null,0,null,null,0,null,null,0,null,null,0,null,null,0,null,null,0,null,null,0,null,null,0,null,null,0,null,null,0,null,null,0,null,null,0,null,null,0,null,null,0,null,null,0,null,null,0,null,null,0,null,null,0,null,null,0,null,null,0,null,null,0,null,null,0,null,null,0,null,null,0,null,null,0,null,null,0,null,null,0,null,null,0,null,null,0,null,null,0,null,null,0,null,null,0,null,null,0,null,null,0,null,null,0,null,null,0,null,null,0,null,null,0,null,null,0,null,null,0,null,null,0,null,null,0,null,null,0,null,null,0,null,null,0,null,null,0,null,null,0,null,null,0,null,null,0,null,null,0,null,null,0,null,null,0,null,null,0,null,null,0,null,null,0,null,null,0,null,null,0,null,null,0,null,null,0,null,null,0,null,null,0,null,null,0,null,null,0]
["4.5","P",5,"Laminat - jakopresovani (HLP)\nsa klik sistemom, dezen: hrast natur (prirodni)","Laminate (HLP)\nwith click system, design: oak natural (natural)","m2",{"$f":"CENA!G79","v":0},12,0,null,{"$f":"$G88*J88","v":0},null,null,0,null,null,0,null,null,0,null,12,0,null,null,0,null,null,0,null,null,0,null,null,0,null,null,0,null,null,0,null,null,0,null,null,0,null,null,0,null,null,0,null,null,0,null,null,0,null,null,0,null,null,0,null,null,0,null,null,0,null,null,0,null,null,0,null,null,0,null,null,0,null,null,0,null,null,0,null,null,0,null,null,0,null,null,0,null,null,0,null,null,0,null,null,0,null,null,0,null,null,0,null,null,0,null,null,0,null,null,0,null,null,0,null,null,0,null,null,0,null,null,0,null,null,0,null,null,0,null,null,0,null,null,0,null,null,0,null,null,0,null,null,0,null,null,0,null,null,0,null,null,0,null,null,0,null,null,0,null,null,0,null,null,0,null,null,0,null,null,0,null,null,0,null,null,0,null,null,0,null,null,0,null,null,0,null,null,0,null,null,0,null,null,0,null,null,0,null,null,0,null,null,0,null,null,0]
["4.6","P",6,"Lajsne za laminat od medijapana \nmaterijal: medijapan / MDF","Moldings for laminate MDF\nMaterial: MDF / MDF","m1",{"$f":"CENA!G80","v":0},0,0,null,{"$f":"$G89*J89","v":0},{"$f":"J89/2.6","v":0},null,0,{"$f":"M89/2.6","v":0},null,0,{"$f":"P89/2.6","v":0},null,0,{"$f":"S89/2.6","v":0},null,0,{"$f":"V89/2.6","v":0},null,0,{"$f":"Y89/2.6","v":0},null,0,{"$f":"AB89/2.6","v":0},null,0,{"$f":"AE89/2.6","v":0},null,0,{"$f":"AH89/2.6","v":0},null,0,{"$f":"AK89/2.6","v":0},null,0,{"$f":"AN89/2.6","v":0},null,0,{"$f":"AQ89/2.6","v":0},null,0,{"$f":"AT89/2.6","v":0},null,0,{"$f":"AW89/2.6","v":0},null,0,{"$f":"AZ89/2.6","v":0},null,0,{"$f":"BC89/2.6","v":0},null,0,{"$f":"BF89/2.6","v":0},null,0,{"$f":"BI89/2.6","v":0},null,0,{"$f":"BL89/2.6","v":0},null,0,{"$f":"BO89/2.6","v":0},null,0,{"$f":"BR89/2.6","v":0},null,0,{"$f":"BU89/2.6","v":0},null,0,{"$f":"BX89/2.6","v":0},null,0,{"$f":"CA89/2.6","v":0},null,0,{"$f":"CD89/2.6","v":0},null,0,{"$f":"CG89/2.6","v":0},null,0,{"$f":"CJ89/2.6","v":0},null,0,{"$f":"CM89/2.6","v":0},null,0,{"$f":"CP89/2.6","v":0},null,0,{"$f":"CS89/2.6","v":0},null,0,{"$f":"CV89/2.6","v":0},null,0,{"$f":"CY89/2.6","v":0},null,0,{"$f":"DB89/2.6","v":0},null,0,{"$f":"DE89/2.6","v":0},null,0,{"$f":"DH89/2.6","v":0},null,0,{"$f":"DK89/2.6","v":0},null,0,{"$f":"DN89/2.6","v":0},null,0,{"$f":"DQ89/2.6","v":0},null,0,{"$f":"DT89/2.6","v":0},null,0,{"$f":"DW89/2.6","v":0},null,0,{"$f":"DZ89/2.6","v":0},null,0,{"$f":"EC89/2.6","v":0},null,0,{"$f":"EF89/2.6","v":0},null,0,{"$f":"EI89/2.6","v":0},null,0,{"$f":"EL89/2.6","v":0},null,0,{"$f":"EO89/2.6","v":0},null,0,{"$f":"ER89/2.6","v":0},null,0,{"$f":"EU89/2.6","v":0},null,0,{"$f":"EX89/2.6","v":0},null,0,{"$f":"FA89/2.6","v":0},null,0,{"$f":"FD89/2.6","v":0},null,0,{"$f":"FG89/2.6","v":0},null,0,{"$f":"FJ89/2.6","v":0},null,0,{"$f":"FM89/2.6","v":0},null,0,{"$f":"FP89/2.6","v":0},null,0,{"$f":"FS89/2.6","v":0},null,0,{"$f":"FV89/2.6","v":0},null,0,{"$f":"FY89/2.6","v":0},null,0,{"$f":"GB89/2.6","v":0},null,0,{"$f":"GE89/2.6","v":0},null,0,{"$f":"GH89/2.6","v":0},null,0,{"$f":"GK89/2.6","v":0},null,0,{"$f":"GN89/2.6","v":0},null,0,{"$f":"GQ89/2.6","v":0},null,0,{"$f":"GT89/2.6","v":0},null,0,{"$f":"GW89/2.6","v":0},null,0,{"$f":"GZ89/2.6","v":0},null,0,{"$f":"HC89/2.6","v":0},null,0,{"$f":"HF89/2.6","v":0},null,0,{"$f":"HI89/2.6","v":0}]
["4.7","P",7,"Podloga za laminat od polietilenske pene\nSunđerasta podloga za laminat","The base for laminate of polyethylene foam\nFoam base for laminate","m2",{"$f":"CENA!G81","v":0},0,0,null,{"$f":"$G90*J90","v":0},null,null,0,null,null,0,null,null,0,null,null,0,null,null,0,null,null,0,null,null,0,null,null,0,null,null,0,null,null,0,null,null,0,null,null,0,null,null,0,null,null,0,null,null,0,null,null,0,null,null,0,null,null,0,null,null,0,null,null,0,null,null,0,null,null,0,null,null,0,null,null,0,null,null,0,null,null,0,null,null,0,null,null,0,null,null,0,null,null,0,null,null,0,null,null,0,null,null,0,null,null,0,null,null,0,null,null,0,null,null,0,null,null,0,null,null,0,null,null,0,null,null,0,null,null,0,null,null,0,null,null,0,null,null,0,null,null,0,null,null,0,null,null,0,null,null,0,null,null,0,null,null,0,null,null,0,null,null,0,null,null,0,null,null,0,null,null,0,null,null,0,null,null,0,null,null,0,null,null,0,null,null,0,null,null,0,null,null,0,null,null,0,null,null,0,null,null,0,null,null,0,null,null,0,null,null,0]
["4.8","P",8,"Cementni suvi estrih (cementna košuljica).\nPripremljeno cementno praškasto vezivo","Cement dry screed (cement screed)\nPrepared cement powder binder","kg",{"$f":"CENA!G82","v":0},0,0,null,{"$f":"$G91*J91","v":0},null,null,0,null,null,0,null,null,0,null,null,0,null,null,0,null,null,0,null,null,0,null,null,0,null,null,0,null,null,0,null,null,0,null,null,0,null,null,0,null,null,0,null,null,0,null,null,0,null,null,0,null,null,0,null,null,0,null,null,0,null,null,0,null,null,0,null,null,0,null,null,0,null,null,0,null,null,0,null,null,0,null,null,0,null,null,0,null,null,0,null,null,0,null,null,0,null,null,0,null,null,0,null,null,0,null,null,0,null,null,0,null,null,0,null,null,0,null,null,0,null,null,0,null,null,0,null,null,0,null,null,0,null,null,0,null,null,0,null,null,0,null,null,0,null,null,0,null,null,0,null,null,0,null,null,0,null,null,0,null,null,0,null,null,0,null,null,0,null,null,0,null,null,0,null,null,0,null,null,0,null,null,0,null,null,0,null,null,0,null,null,0,null,null,0,null,null,0,null,null,0,null,null,0,null,null,0]
["4.9","P",9,"Građevinska PVC folija Za razdvajanje cementne košuljice od termo izolacije.","PVC foil for construction. To separate the cement screed of thermal insulation.","m2",{"$f":"CENA!G83","v":0},0,0,null,{"$f":"$G92*J92","v":0},null,null,0,null,null,0,null,null,0,null,null,0,null,null,0,null,null,0,null,null,0,null,null,0,null,null,0,null,null,0,null,null,0,null,null,0,null,null,0,null,null,0,null,null,0,null,null,0,null,null,0,null,null,0,null,null,0,null,null,0,null,null,0,null,null,0,null,null,0,null,null,0,null,null,0,null,null,0,null,null,0,null,null,0,null,null,0,null,null,0,null,null,0,null,null,0,null,null,0,null,null,0,null,null,0,null,null,0,null,null,0,null,null,0,null,null,0,null,null,0,null,null,0,null,null,0,null,null,0,null,null,0,null,null,0,null,null,0,null,null,0,null,null,0,null,null,0,null,null,0,null,null,0,null,null,0,null,null,0,null,null,0,null,null,0,null,null,0,null,null,0,null,null,0,null,null,0,null,null,0,null,null,0,null,null,0,null,null,0,null,null,0,null,null,0,null,null,0,null,null,0,null,null,0,null,null,0]
["4.10","P",10,"Stirodur (XPS za izolaciju na podovima)\nploča od ekstrudirane polistirenske pene","Stirodur (XPS insulation for floors)\npanel of extruded polystyrene foam","/","/","/","/","/","/",null,"/","/",null,"/","/",null,"/","/",null,"/","/",null,"/","/",null,"/","/",null,"/","/",null,"/","/",null,"/","/",null,"/","/",null,"/","/",null,"/","/",null,"/","/",null,"/","/",null,"/","/",null,"/","/",null,"/","/",null,"/","/",null,"/","/",null,"/","/",null,"/","/",null,"/","/",null,"/","/",null,"/","/",null,"/","/",null,"/","/",null,"/","/",null,"/","/",null,"/","/",null,"/","/",null,"/","/",null,"/","/",null,"/","/",null,"/","/",null,"/","/",null,"/","/",null,"/","/",null,"/","/",null,"/","/",null,"/","/",null,"/","/",null,"/","/",null,"/","/",null,"/","/",null,"/","/",null,"/","/",null,"/","/",null,"/","/",null,"/","/",null,"/","/",null,"/","/",null,"/","/",null,"/","/",null,"/","/",null,"/","/",null,"/","/",null,"/","/",null,"/","/",null,"/","/",null,"/","/",null,"/","/",null,"/","/",null,"/","/",null,"/","/",null,"/","/",null,"/","/",null,"/","/",null,"/","/",null,"/","/"]
["4.10.1",null,"A","debljine d=2 cm","d=2 cm","m2",{"$f":"CENA!G85","v":0},{"$f":"J94+M94+P94+S94+V94+Y94+AB94+AE94+AH94+AK94+AN94+AQ94+AZ94+AW94+AT94+BC94+BF94+BI94+BL94+BO94+BR94+BU94+BX94+CA94+CD94+CG94+CJ94+CM94+CP94+CS94+CV94+CY94+DB94+DE94+DH94+DK94+DN94+DQ94+DT94+DW94+DZ94+EC94+EF94+EI94+EL94+EO94+ER94+EU94+EX94+FA94+FD94+FG94+FJ94+FM94+FP94+FS94+FV94+FY94+GB94+GE94+GH94+GK94+GN94+GQ94+GT94+GW94+GZ94+HC94+HF94+HI94","v":0},{"$f":"G94*H94","v":0},null,{"$f":"$G94*J94","v":0},null,null,{"$f":"$G94*M94","v":0},null,null,{"$f":"$G94*P94","v":0},null,null,{"$f":"$G94*S94","v":0},null,null,{"$f":"$G94*V94","v":0},null,null,{"$f":"$G94*Y94","v":0},null,null,{"$f":"$G94*AB94","v":0},null,null,{"$f":"$G94*AE94","v":0},null,null,{"$f":"$G94*AH94","v":0},null,null,{"$f":"$G94*AK94","v":0},null,null,{"$f":"$G94*AN94","v":0},null,null,{"$f":"$G94*AQ94","v":0},null,null,{"$f":"$G94*AT94","v":0},null,null,{"$f":"$G94*AW94","v":0},null,null,{"$f":"$G94*AZ94","v":0},null,null,{"$f":"$G94*BC94","v":0},null,null,{"$f":"$G94*BF94","v":0},null,null,{"$f":"$G94*BI94","v":0},null,null,{"$f":"$G94*BL94","v":0},null,null,{"$f":"$G94*BO94","v":0},null,null,{"$f":"$G94*BR94","v":0},null,null,{"$f":"$G94*BU94","v":0},null,null,{"$f":"$G94*BX94","v":0},null,null,{"$f":"$G94*CA94","v":0},null,null,{"$f":"$G94*CD94","v":0},null,null,{"$f":"$G94*CG94","v":0},null,null,{"$f":"$G94*CJ94","v":0},null,null,{"$f":"$G94*CM94","v":0},null,null,{"$f":"$G94*CP94","v":0},null,null,{"$f":"$G94*CS94","v":0},null,null,{"$f":"$G94*CV94","v":0},null,null,{"$f":"$G94*CY94","v":0},null,null,{"$f":"$G94*DB94","v":0},null,null,{"$f":"$G94*DE94","v":0},null,null,{"$f":"$G94*DH94","v":0},null,null,{"$f":"$G94*DK94","v":0},null,null,{"$f":"$G94*DN94","v":0},null,null,{"$f":"$G94*DQ94","v":0},null,null,{"$f":"$G94*DT94","v":0},null,null,{"$f":"$G94*DW94","v":0},null,null,{"$f":"$G94*DZ94","v":0},null,null,{"$f":"$G94*EC94","v":0},null,null,{"$f":"$G94*EF94","v":0},null,null,{"$f":"$G94*EI94","v":0},null,null,{"$f":"$G94*EL94","v":0},null,null,{"$f":"$G94*EO94","v":0},null,null,{"$f":"$G94*ER94","v":0},null,null,{"$f":"$G94*EU94","v":0},null,null,{"$f":"$G94*EX94","v":0},null,null,{"$f":"$G94*FA94","v":0},null,null,{"$f":"$G94*FD94","v":0},null,null,{"$f":"$G94*FG94","v":0},null,null,{"$f":"$G94*FJ94","v":0},null,null,{"$f":"$G94*FM94","v":0},null,null,{"$f":"$G94*FP94","v":0},null,null,{"$f":"$G94*FS94","v":0},null,null,{"$f":"$G94*FV94","v":0},null,null,{"$f":"$G94*FY94","v":0},null,null,{"$f":"$G94*GB94","v":0},null,null,{"$f":"$G94*GE94","v":0},null,null,{"$f":"$G94*GH94","v":0},null,null,{"$f":"$G94*GK94","v":0},null,null,{"$f":"$G94*GN94","v":0},null,null,{"$f":"$G94*GQ94","v":0},null,null,{"$f":"$G94*GT94","v":0},null,null,{"$f":"$G94*GW94","v":0},null,null,{"$f":"$G94*GZ94","v":0},null,null,{"$f":"$G94*HC94","v":0},null,null,{"$f":"$G94*HF94","v":0},null,null,{"$f":"$G94*HI94","v":0}]
["4.10.2",null,"B","debljine d=5 cm","d=5 cm","m2",{"$f":"CENA!G86","v":0},0,0,null,{"$f":"$G95*J95","v":0},null,null,0,null,null,{"$f":"$G95*P95","v":0},null,null,{"$f":"$G95*S95","v":0},null,null,{"$f":"$G95*V95","v":0},null,null,{"$f":"$G95*Y95","v":0},null,null,{"$f":"$G95*AB95","v":0},null,null,{"$f":"$G95*AE95","v":0},null,null,{"$f":"$G95*AH95","v":0},null,null,{"$f":"$G95*AK95","v":0},null,null,{"$f":"$G95*AN95","v":0},null,null,{"$f":"$G95*AQ95","v":0},null,null,{"$f":"$G95*AT95","v":0},null,null,{"$f":"$G95*AW95","v":0},null,null,{"$f":"$G95*AZ95","v":0},null,null,{"$f":"$G95*BC95","v":0},null,null,0,null,null,0,null,null,{"$f":"$G95*BL95","v":0},null,null,{"$f":"$G95*BO95","v":0},null,null,{"$f":"$G95*BR95","v":0},null,null,{"$f":"$G95*BU95","v":0},null,null,{"$f":"$G95*BX95","v":0},null,null,{"$f":"$G95*CA95","v":0},null,null,{"$f":"$G95*CD95","v":0},null,null,{"$f":"$G95*CG95","v":0},null,null,{"$f":"$G95*CJ95","v":0},null,null,{"$f":"$G95*CM95","v":0},null,null,{"$f":"$G95*CP95","v":0},null,null,{"$f":"$G95*CS95","v":0},null,null,{"$f":"$G95*CV95","v":0},null,null,{"$f":"$G95*CY95","v":0},null,null,0,null,null,0,null,null,{"$f":"$G95*DH95","v":0},null,null,{"$f":"$G95*DK95","v":0},null,null,{"$f":"$G95*DN95","v":0},null,null,{"$f":"$G95*DQ95","v":0},null,null,{"$f":"$G95*DT95","v":0},null,null,{"$f":"$G95*DW95","v":0},null,null,{"$f":"$G95*DZ95","v":0},null,null,{"$f":"$G95*EC95","v":0},null,null,{"$f":"$G95*EF95","v":0},null,null,{"$f":"$G95*EI95","v":0},null,null,{"$f":"$G95*EL95","v":0},null,null,{"$f":"$G95*EO95","v":0},null,null,{"$f":"$G95*ER95","v":0},null,null,{"$f":"$G95*EU95","v":0},null,null,0,null,null,0,null,null,{"$f":"$G95*FD95","v":0},null,null,{"$f":"$G95*FG95","v":0},null,null,{"$f":"$G95*FJ95","v":0},null,null,{"$f":"$G95*FM95","v":0},null,null,{"$f":"$G95*FP95","v":0},null,null,{"$f":"$G95*FS95","v":0},null,null,{"$f":"$G95*FV95","v":0},null,null,{"$f":"$G95*FY95","v":0},null,null,{"$f":"$G95*GB95","v":0},null,null,{"$f":"$G95*GE95","v":0},null,null,{"$f":"$G95*GH95","v":0},null,null,{"$f":"$G95*GK95","v":0},null,null,{"$f":"$G95*GN95","v":0},null,null,{"$f":"$G95*GQ95","v":0},null,null,{"$f":"$G95*GT95","v":0},null,null,{"$f":"$G95*GW95","v":0},null,null,{"$f":"$G95*GZ95","v":0},null,null,{"$f":"$G95*HC95","v":0},null,null,{"$f":"$G95*HF95","v":0},null,null,{"$f":"$G95*HI95","v":0}]
[]
["5","F",null,"MATERIJAL ZA IZRADU FASADE","FACADE MATERIAL"]
["5.1","F",1,"EPS za termoizolaciju fasadnih zidova\nploča od ekspandiranog polistirena ","Thermal insulation for facade walls (EPS)\nplates made of expanded polystyrene","/","/","/","/","/","/",null,"/","/",null,"/","/",null,"/","/",null,"/","/",null,"/","/",null,"/","/",null,"/","/",null,"/","/",null,"/","/",null,"/","/",null,"/","/",null,"/","/",null,"/","/",null,"/","/",null,"/","/",null,"/","/",null,"/","/",null,"/","/",null,"/","/",null,"/","/",null,"/","/",null,"/","/",null,"/","/",null,"/","/",null,"/","/",null,"/","/",null,"/","/",null,"/","/",null,"/","/",null,"/","/",null,"/","/",null,"/","/",null,"/","/",null,"/","/",null,"/","/",null,"/","/",null,"/","/",null,"/","/",null,"/","/",null,"/","/",null,"/","/",null,"/","/",null,"/","/",null,"/","/",null,"/","/",null,"/","/",null,"/","/",null,"/","/",null,"/","/",null,"/","/",null,"/","/",null,"/","/",null,"/","/",null,"/","/",null,"/","/",null,"/","/",null,"/","/",null,"/","/",null,"/","/",null,"/","/",null,"/","/",null,"/","/",null,"/","/",null,"/","/",null,"/","/",null,"/","/",null,"/","/",null,"/","/",null,"/","/"]
["5.1.1",null,"A","debljina d=8 cm","d=8 cm","m2",{"$f":"CENA!G90","v":0},{"$f":"J99+M99+P99+S99+V99+Y99+AB99+AE99+AH99+AK99+AN99+AQ99+AZ99+AW99+AT99+BC99+BF99+BI99+BL99+BO99+BR99+BU99+BX99+CA99+CD99+CG99+CJ99+CM99+CP99+CS99+CV99+CY99+DB99+DE99+DH99+DK99+DN99+DQ99+DT99+DW99+DZ99+EC99+EF99+EI99+EL99+EO99+ER99+EU99+EX99+FA99+FD99+FG99+FJ99+FM99+FP99+FS99+FV99+FY99+GB99+GE99+GH99+GK99+GN99+GQ99+GT99+GW99+GZ99+HC99+HF99+HI99","v":180},{"$f":"G99*H99","v":0},null,{"$f":"$G99*J99","v":0},null,null,{"$f":"$G99*M99","v":0},null,null,{"$f":"$G99*P99","v":0},null,180,{"$f":"$G99*S99","v":0},null,null,{"$f":"$G99*V99","v":0},null,null,{"$f":"$G99*Y99","v":0},null,null,{"$f":"$G99*AB99","v":0},null,null,{"$f":"$G99*AE99","v":0},null,null,{"$f":"$G99*AH99","v":0},null,null,{"$f":"$G99*AK99","v":0},null,null,{"$f":"$G99*AN99","v":0},null,null,{"$f":"$G99*AQ99","v":0},null,null,{"$f":"$G99*AT99","v":0},null,null,{"$f":"$G99*AW99","v":0},null,null,{"$f":"$G99*AZ99","v":0},null,null,{"$f":"$G99*BC99","v":0},null,null,{"$f":"$G99*BF99","v":0},null,null,{"$f":"$G99*BI99","v":0},null,null,{"$f":"$G99*BL99","v":0},null,null,{"$f":"$G99*BO99","v":0},null,null,{"$f":"$G99*BR99","v":0},null,null,{"$f":"$G99*BU99","v":0},null,null,{"$f":"$G99*BX99","v":0},null,null,{"$f":"$G99*CA99","v":0},null,null,{"$f":"$G99*CD99","v":0},null,null,{"$f":"$G99*CG99","v":0},null,null,{"$f":"$G99*CJ99","v":0},null,null,{"$f":"$G99*CM99","v":0},null,null,{"$f":"$G99*CP99","v":0},null,null,{"$f":"$G99*CS99","v":0},null,null,{"$f":"$G99*CV99","v":0},null,null,{"$f":"$G99*CY99","v":0},null,null,{"$f":"$G99*DB99","v":0},null,null,{"$f":"$G99*DE99","v":0},null,null,{"$f":"$G99*DH99","v":0},null,null,{"$f":"$G99*DK99","v":0},null,null,{"$f":"$G99*DN99","v":0},null,null,{"$f":"$G99*DQ99","v":0},null,null,{"$f":"$G99*DT99","v":0},null,null,{"$f":"$G99*DW99","v":0},null,null,{"$f":"$G99*DZ99","v":0},null,null,{"$f":"$G99*EC99","v":0},null,null,{"$f":"$G99*EF99","v":0},null,null,{"$f":"$G99*EI99","v":0},null,null,{"$f":"$G99*EL99","v":0},null,null,{"$f":"$G99*EO99","v":0},null,null,{"$f":"$G99*ER99","v":0},null,null,{"$f":"$G99*EU99","v":0},null,null,{"$f":"$G99*EX99","v":0},null,null,{"$f":"$G99*FA99","v":0},null,null,{"$f":"$G99*FD99","v":0},null,null,{"$f":"$G99*FG99","v":0},null,null,{"$f":"$G99*FJ99","v":0},null,null,{"$f":"$G99*FM99","v":0},null,null,{"$f":"$G99*FP99","v":0},null,null,{"$f":"$G99*FS99","v":0},null,null,{"$f":"$G99*FV99","v":0},null,null,{"$f":"$G99*FY99","v":0},null,null,{"$f":"$G99*GB99","v":0},null,null,{"$f":"$G99*GE99","v":0},null,null,{"$f":"$G99*GH99","v":0},null,null,{"$f":"$G99*GK99","v":0},null,null,{"$f":"$G99*GN99","v":0},null,null,{"$f":"$G99*GQ99","v":0},null,null,{"$f":"$G99*GT99","v":0},null,null,{"$f":"$G99*GW99","v":0},null,null,{"$f":"$G99*GZ99","v":0},null,null,{"$f":"$G99*HC99","v":0},null,null,{"$f":"$G99*HF99","v":0},null,null,{"$f":"$G99*HI99","v":0}]
["5.1.2",null,"B","debljina d=10 cm","d=10 cm","m2",{"$f":"CENA!G91","v":0},160,0,null,{"$f":"$G100*J100","v":0},null,160,0,null,null,0,null,null,0,null,null,0,null,null,0,null,null,0,null,null,0,null,null,0,null,null,0,null,null,0,null,null,0,null,null,0,null,null,0,null,null,0,null,null,0,null,null,0,null,null,0,null,null,0,null,null,0,null,null,0,null,null,0,null,null,0,null,null,0,null,null,0,null,null,0,null,null,0,null,null,0,null,null,0,null,null,0,null,null,0,null,null,0,null,null,0,null,null,0,null,null,0,null,null,0,null,null,0,null,null,0,null,null,0,null,null,0,null,null,0,null,null,0,null,null,0,null,null,0,null,null,0,null,null,0,null,null,0,null,null,0,null,null,0,null,null,0,null,null,0,null,null,0,null,null,0,null,null,0,null,null,0,null,null,0,null,null,0,null,null,0,null,null,0,null,null,0,null,null,0,null,null,0,null,null,0,null,null,0,null,null,0,null,null,0,null,null,0,null,null,0,null,null,0,null,null,0]
["5.1.3",null,"C","debljina d=12 cm","d=12 cm","m2",{"$f":"CENA!G92","v":0},0,0,null,{"$f":"$G101*J101","v":0},null,null,0,null,null,0,null,null,0,null,null,0,null,null,0,null,null,0,null,null,0,null,null,0,null,null,0,null,null,0,null,null,0,null,null,0,null,null,0,null,null,0,null,null,0,null,null,0,null,null,0,null,null,0,null,null,0,null,null,0,null,null,0,null,null,0,null,null,0,null,null,0,null,null,0,null,null,0,null,null,0,null,null,0,null,null,0,null,null,0,null,null,0,null,null,0,null,null,0,null,null,0,null,null,0,null,null,0,null,null,0,null,null,0,null,null,0,null,null,0,null,null,0,null,null,0,null,null,0,null,null,0,null,null,0,null,null,0,null,null,0,null,null,0,null,null,0,null,null,0,null,null,0,null,null,0,null,null,0,null,null,0,null,null,0,null,null,0,null,null,0,null,null,0,null,null,0,null,null,0,null,null,0,null,null,0,null,null,0,null,null,0,null,null,0,null,null,0,null,null,0,null,null,0,null,null,0]
["5.1.4",null,"D","debljina d=14 cm","d=14 cm","m2",{"$f":"CENA!G93","v":0},0,0,null,{"$f":"$G102*J102","v":0},null,null,0,null,null,0,null,null,0,null,null,0,null,null,0,null,null,0,null,null,0,null,null,0,null,null,0,null,null,0,null,null,0,null,null,0,null,null,0,null,null,0,null,null,0,null,null,0,null,null,0,null,null,0,null,null,0,null,null,0,null,null,0,null,null,0,null,null,0,null,null,0,null,null,0,null,null,0,null,null,0,null,null,0,null,null,0,null,null,0,null,null,0,null,null,0,null,null,0,null,null,0,null,null,0,null,null,0,null,null,0,null,null,0,null,null,0,null,null,0,null,null,0,null,null,0,null,null,0,null,null,0,null,null,0,null,null,0,null,null,0,null,null,0,null,null,0,null,null,0,null,null,0,null,null,0,null,null,0,null,null,0,null,null,0,null,null,0,null,null,0,null,null,0,null,null,0,null,null,0,null,null,0,null,null,0,null,null,0,null,null,0,null,null,0,null,null,0,null,null,0,null,null,0,null,null,0]
["5.2","F",2,"GrađevinskI lepak za EPS ploče \ncementni lepak namenjen za lepljenje ploča od ekspandiranog polistirena (EPS) i armiranje armaturne (rabic) mrežice ","Construction glue for EPS plates\ncement adhesive for gluing plates made of expanded polystyrene (EPS) and reinforcing wire (rabic) net","kg",{"$f":"CENA!G94","v":0},2100,0,null,{"$f":"$G103*J103","v":0},null,1500,0,null,null,0,null,600,0,null,null,0,null,null,0,null,null,0,null,null,0,null,null,0,null,null,0,null,null,0,null,null,0,null,null,0,null,null,0,null,null,0,null,null,0,null,null,0,null,null,0,null,null,0,null,null,0,null,null,0,null,null,0,null,null,0,null,null,0,null,null,0,null,null,0,null,null,0,null,null,0,null,null,0,null,null,0,null,null,0,null,null,0,null,null,0,null,null,0,null,null,0,null,null,0,null,null,0,null,null,0,null,null,0,null,null,0,null,null,0,null,null,0,null,null,0,null,null,0,null,null,0,null,null,0,null,null,0,null,null,0,null,null,0,null,null,0,null,null,0,null,null,0,null,null,0,null,null,0,null,null,0,null,null,0,null,null,0,null,null,0,null,null,0,null,null,0,null,null,0,null,null,0,null,null,0,null,null,0,null,null,0,null,null,0,null,null,0,null,null,0,null,null,0,null,null,0]
["5.3","F",3,"Armaturna (rabic) staklena mrežica.\nVisokokvalitetna alkalno postojana staklena mrežica","Reinforcing (rabic) fiberglass mesh\nHigh quality alkali resistant fiberglass mesh","m2",{"$f":"CENA!G95","v":0},400,0,null,{"$f":"$G104*J104","v":0},null,150,0,null,null,0,null,250,0,null,null,0,null,null,0,null,null,0,null,null,0,null,null,0,null,null,0,null,null,0,null,null,0,null,null,0,null,null,0,null,null,0,null,null,0,null,null,0,null,null,0,null,null,0,null,null,0,null,null,0,null,null,0,null,null,0,null,null,0,null,null,0,null,null,0,null,null,0,null,null,0,null,null,0,null,null,0,null,null,0,null,null,0,null,null,0,null,null,0,null,null,0,null,null,0,null,null,0,null,null,0,null,null,0,null,null,0,null,null,0,null,null,0,null,null,0,null,null,0,null,null,0,null,null,0,null,null,0,null,null,0,null,null,0,null,null,0,null,null,0,null,null,0,null,null,0,null,null,0,null,null,0,null,null,0,null,null,0,null,null,0,null,null,0,null,null,0,null,null,0,null,null,0,null,null,0,null,null,0,null,null,0,null,null,0,null,null,0,null,null,0,null,null,0,null,null,0]
["5.4","F",4,"Aktivni predpremaz pre nanošenja tankoslojnog fasadnog maltera.\npredpremaz za izjednačavanje upijanja - podloga","Active primer before applying the thin-layer plaster primer for the equalization of absorption surface","kg",{"$f":"CENA!G96","v":0},0,0,null,{"$f":"$G105*J105","v":0},null,null,0,null,null,0,null,null,0,null,null,0,null,null,0,null,null,0,null,null,0,null,null,0,null,null,0,null,null,0,null,null,0,null,null,0,null,null,0,null,null,0,null,null,0,null,null,0,null,null,0,null,null,0,null,null,0,null,null,0,null,null,0,null,null,0,null,null,0,null,null,0,null,null,0,null,null,0,null,null,0,null,null,0,null,null,0,null,null,0,null,null,0,null,null,0,null,null,0,null,null,0,null,null,0,null,null,0,null,null,0,null,null,0,null,null,0,null,null,0,null,null,0,null,null,0,null,null,0,null,null,0,null,null,0,null,null,0,null,null,0,null,null,0,null,null,0,null,null,0,null,null,0,null,null,0,null,null,0,null,null,0,null,null,0,null,null,0,null,null,0,null,null,0,null,null,0,null,null,0,null,null,0,null,null,0,null,null,0,null,null,0,null,null,0,null,null,0,null,null,0,null,null,0,null,null,0]
["5.5","F",5,"Fasadni tankoslojni akrilni malter\nZavršni malter u pastoznom stanju, namenjen za zaštitu fasadnih zidnih površina","Facade thin-layer acrylic plaster\nFinishing plaster in paste-like state, intended for the protection of facade wall surfaces","/","/","/","/","/","/",null,"/","/",null,"/","/",null,"/","/",null,"/","/",null,"/","/",null,"/","/",null,"/","/",null,"/","/",null,"/","/",null,"/","/",null,"/","/",null,"/","/",null,"/","/",null,"/","/",null,"/","/",null,"/","/",null,"/","/",null,"/","/",null,"/","/",null,"/","/",null,"/","/",null,"/","/",null,"/","/",null,"/","/",null,"/","/",null,"/","/",null,"/","/",null,"/","/",null,"/","/",null,"/","/",null,"/","/",null,"/","/",null,"/","/",null,"/","/",null,"/","/",null,"/","/",null,"/","/",null,"/","/",null,"/","/",null,"/","/",null,"/","/",null,"/","/",null,"/","/",null,"/","/",null,"/","/",null,"/","/",null,"/","/",null,"/","/",null,"/","/",null,"/","/",null,"/","/",null,"/","/",null,"/","/",null,"/","/",null,"/","/",null,"/","/",null,"/","/",null,"/","/",null,"/","/",null,"/","/",null,"/","/",null,"/","/",null,"/","/",null,"/","/",null,"/","/",null,"/","/",null,"/","/",null,"/","/",null,"/","/"]
["5.5.1",null,"A","boja približna RAL 1034 -kajsija ","color similar to RAL 1034-apricot","kg",{"$f":"CENA!G98","v":0},{"$f":"J107+M107+P107+S107+V107+Y107+AB107+AE107+AH107+AK107+AN107+AQ107+AZ107+AW107+AT107+BC107+BF107+BI107+BL107+BO107+BR107+BU107+BX107+CA107+CD107+CG107+CJ107+CM107+CP107+CS107+CV107+CY107+DB107+DE107+DH107+DK107+DN107+DQ107+DT107+DW107+DZ107+EC107+EF107+EI107+EL107+EO107+ER107+EU107+EX107+FA107+FD107+FG107+FJ107+FM107+FP107+FS107+FV107+FY107+GB107+GE107+GH107+GK107+GN107+GQ107+GT107+GW107+GZ107+HC107+HF107+HI107","v":0},{"$f":"G107*H107","v":0},null,{"$f":"$G107*J107","v":0},null,null,{"$f":"$G107*M107","v":0},null,null,{"$f":"$G107*P107","v":0},null,null,{"$f":"$G107*S107","v":0},null,null,{"$f":"$G107*V107","v":0},null,null,{"$f":"$G107*Y107","v":0},null,null,{"$f":"$G107*AB107","v":0},null,null,{"$f":"$G107*AE107","v":0},null,null,{"$f":"$G107*AH107","v":0},null,null,{"$f":"$G107*AK107","v":0},null,null,{"$f":"$G107*AN107","v":0},null,null,{"$f":"$G107*AQ107","v":0},null,null,{"$f":"$G107*AT107","v":0},null,null,{"$f":"$G107*AW107","v":0},null,null,{"$f":"$G107*AZ107","v":0},null,null,{"$f":"$G107*BC107","v":0},null,null,{"$f":"$G107*BF107","v":0},null,null,{"$f":"$G107*BI107","v":0},null,null,{"$f":"$G107*BL107","v":0},null,null,{"$f":"$G107*BO107","v":0},null,null,{"$f":"$G107*BR107","v":0},null,null,{"$f":"$G107*BU107","v":0},null,null,{"$f":"$G107*BX107","v":0},null,null,{"$f":"$G107*CA107","v":0},null,null,{"$f":"$G107*CD107","v":0},null,null,{"$f":"$G107*CG107","v":0},null,null,{"$f":"$G107*CJ107","v":0},null,null,{"$f":"$G107*CM107","v":0},null,null,{"$f":"$G107*CP107","v":0},null,null,{"$f":"$G107*CS107","v":0},null,null,{"$f":"$G107*CV107","v":0},null,null,{"$f":"$G107*CY107","v":0},null,null,{"$f":"$G107*DB107","v":0},null,null,{"$f":"$G107*DE107","v":0},null,null,{"$f":"$G107*DH107","v":0},null,null,{"$f":"$G107*DK107","v":0},null,null,{"$f":"$G107*DN107","v":0},null,null,{"$f":"$G107*DQ107","v":0},null,null,{"$f":"$G107*DT107","v":0},null,null,{"$f":"$G107*DW107","v":0},null,null,{"$f":"$G107*DZ107","v":0},null,null,{"$f":"$G107*EC107","v":0},null,null,{"$f":"$G107*EF107","v":0},null,null,{"$f":"$G107*EI107","v":0},null,null,{"$f":"$G107*EL107","v":0},null,null,{"$f":"$G107*EO107","v":0},null,null,{"$f":"$G107*ER107","v":0},null,null,{"$f":"$G107*EU107","v":0},null,null,{"$f":"$G107*EX107","v":0},null,null,{"$f":"$G107*FA107","v":0},null,null,{"$f":"$G107*FD107","v":0},null,null,{"$f":"$G107*FG107","v":0},null,null,{"$f":"$G107*FJ107","v":0},null,null,{"$f":"$G107*FM107","v":0},null,null,{"$f":"$G107*FP107","v":0},null,null,{"$f":"$G107*FS107","v":0},null,null,{"$f":"$G107*FV107","v":0},null,null,{"$f":"$G107*FY107","v":0},null,null,{"$f":"$G107*GB107","v":0},null,null,{"$f":"$G107*GE107","v":0},null,null,{"$f":"$G107*GH107","v":0},null,null,{"$f":"$G107*GK107","v":0},null,null,{"$f":"$G107*GN107","v":0},null,null,{"$f":"$G107*GQ107","v":0},null,null,{"$f":"$G107*GT107","v":0},null,null,{"$f":"$G107*GW107","v":0},null,null,{"$f":"$G107*GZ107","v":0},null,null,{"$f":"$G107*HC107","v":0},null,null,{"$f":"$G107*HF107","v":0},null,null,{"$f":"$G107*HI107","v":0}]
["5.5.2",null,"B","boja približna RAL 6005 -pastelno zelena","color similar to RAL 6005 pastel-green","kg",{"$f":"CENA!G99","v":0},0,0,null,{"$f":"$G108*J108","v":0},null,null,0,null,null,{"$f":"$G108*P108","v":0},null,null,0,null,null,{"$f":"$G108*V108","v":0},null,null,{"$f":"$G108*Y108","v":0},null,null,{"$f":"$G108*AB108","v":0},null,null,{"$f":"$G108*AE108","v":0},null,null,{"$f":"$G108*AH108","v":0},null,null,{"$f":"$G108*AK108","v":0},null,null,{"$f":"$G108*AN108","v":0},null,null,{"$f":"$G108*AQ108","v":0},null,null,{"$f":"$G108*AT108","v":0},null,null,{"$f":"$G108*AW108","v":0},null,null,{"$f":"$G108*AZ108","v":0},null,null,{"$f":"$G108*BC108","v":0},null,null,0,null,null,0,null,null,{"$f":"$G108*BL108","v":0},null,null,0,null,null,{"$f":"$G108*BR108","v":0},null,null,{"$f":"$G108*BU108","v":0},null,null,{"$f":"$G108*BX108","v":0},null,null,{"$f":"$G108*CA108","v":0},null,null,{"$f":"$G108*CD108","v":0},null,null,{"$f":"$G108*CG108","v":0},null,null,{"$f":"$G108*CJ108","v":0},null,null,{"$f":"$G108*CM108","v":0},null,null,{"$f":"$G108*CP108","v":0},null,null,{"$f":"$G108*CS108","v":0},null,null,{"$f":"$G108*CV108","v":0},null,null,{"$f":"$G108*CY108","v":0},null,null,0,null,null,0,null,null,{"$f":"$G108*DH108","v":0},null,null,0,null,null,{"$f":"$G108*DN108","v":0},null,null,{"$f":"$G108*DQ108","v":0},null,null,{"$f":"$G108*DT108","v":0},null,null,{"$f":"$G108*DW108","v":0},null,null,{"$f":"$G108*DZ108","v":0},null,null,{"$f":"$G108*EC108","v":0},null,null,{"$f":"$G108*EF108","v":0},null,null,{"$f":"$G108*EI108","v":0},null,null,{"$f":"$G108*EL108","v":0},null,null,{"$f":"$G108*EO108","v":0},null,null,{"$f":"$G108*ER108","v":0},null,null,{"$f":"$G108*EU108","v":0},null,null,0,null,null,0,null,null,{"$f":"$G108*FD108","v":0},null,null,0,null,null,{"$f":"$G108*FJ108","v":0},null,null,{"$f":"$G108*FM108","v":0},null,null,{"$f":"$G108*FP108","v":0},null,null,{"$f":"$G108*FS108","v":0},null,null,{"$f":"$G108*FV108","v":0},null,null,{"$f":"$G108*FY108","v":0},null,null,{"$f":"$G108*GB108","v":0},null,null,{"$f":"$G108*GE108","v":0},null,null,{"$f":"$G108*GH108","v":0},null,null,{"$f":"$G108*GK108","v":0},null,null,{"$f":"$G108*GN108","v":0},null,null,{"$f":"$G108*GQ108","v":0},null,null,{"$f":"$G108*GT108","v":0},null,null,{"$f":"$G108*GW108","v":0},null,null,{"$f":"$G108*GZ108","v":0},null,null,{"$f":"$G108*HC108","v":0},null,null,{"$f":"$G108*HF108","v":0},null,null,{"$f":"$G108*HI108","v":0}]
["5.5.3",null,"C","boja približna RAL 5023 -pastelno plava","color similar to RAL 5023 pastel-blue","kg",{"$f":"CENA!G100","v":0},0,0,null,{"$f":"$G109*J109","v":0},null,null,0,null,null,{"$f":"$G109*P109","v":0},null,null,0,null,null,{"$f":"$G109*V109","v":0},null,null,{"$f":"$G109*Y109","v":0},null,null,{"$f":"$G109*AB109","v":0},null,null,{"$f":"$G109*AE109","v":0},null,null,{"$f":"$G109*AH109","v":0},null,null,{"$f":"$G109*AK109","v":0},null,null,{"$f":"$G109*AN109","v":0},null,null,{"$f":"$G109*AQ109","v":0},null,null,{"$f":"$G109*AT109","v":0},null,null,{"$f":"$G109*AW109","v":0},null,null,{"$f":"$G109*AZ109","v":0},null,null,{"$f":"$G109*BC109","v":0},null,null,0,null,null,0,null,null,{"$f":"$G109*BL109","v":0},null,null,0,null,null,{"$f":"$G109*BR109","v":0},null,null,{"$f":"$G109*BU109","v":0},null,null,{"$f":"$G109*BX109","v":0},null,null,{"$f":"$G109*CA109","v":0},null,null,{"$f":"$G109*CD109","v":0},null,null,{"$f":"$G109*CG109","v":0},null,null,{"$f":"$G109*CJ109","v":0},null,null,{"$f":"$G109*CM109","v":0},null,null,{"$f":"$G109*CP109","v":0},null,null,{"$f":"$G109*CS109","v":0},null,null,{"$f":"$G109*CV109","v":0},null,null,{"$f":"$G109*CY109","v":0},null,null,0,null,null,0,null,null,{"$f":"$G109*DH109","v":0},null,null,0,null,null,{"$f":"$G109*DN109","v":0},null,null,{"$f":"$G109*DQ109","v":0},null,null,{"$f":"$G109*DT109","v":0},null,null,{"$f":"$G109*DW109","v":0},null,null,{"$f":"$G109*DZ109","v":0},null,null,{"$f":"$G109*EC109","v":0},null,null,{"$f":"$G109*EF109","v":0},null,null,{"$f":"$G109*EI109","v":0},null,null,{"$f":"$G109*EL109","v":0},null,null,{"$f":"$G109*EO109","v":0},null,null,{"$f":"$G109*ER109","v":0},null,null,{"$f":"$G109*EU109","v":0},null,null,0,null,null,0,null,null,{"$f":"$G109*FD109","v":0},null,null,0,null,null,{"$f":"$G109*FJ109","v":0},null,null,{"$f":"$G109*FM109","v":0},null,null,{"$f":"$G109*FP109","v":0},null,null,{"$f":"$G109*FS109","v":0},null,null,{"$f":"$G109*FV109","v":0},null,null,{"$f":"$G109*FY109","v":0},null,null,{"$f":"$G109*GB109","v":0},null,null,{"$f":"$G109*GE109","v":0},null,null,{"$f":"$G109*GH109","v":0},null,null,{"$f":"$G109*GK109","v":0},null,null,{"$f":"$G109*GN109","v":0},null,null,{"$f":"$G109*GQ109","v":0},null,null,{"$f":"$G109*GT109","v":0},null,null,{"$f":"$G109*GW109","v":0},null,null,{"$f":"$G109*GZ109","v":0},null,null,{"$f":"$G109*HC109","v":0},null,null,{"$f":"$G109*HF109","v":0},null,null,{"$f":"$G109*HI109","v":0}]
["5.5.4",null,"D","boja približna RAL 3011 -pastelno crvena","color similar to RAL 3011 pastel-red","kg",{"$f":"CENA!G101","v":0},500,0,null,{"$f":"$G110*J110","v":0},null,null,0,null,null,{"$f":"$G110*P110","v":0},null,500,0,null,null,{"$f":"$G110*V110","v":0},null,null,{"$f":"$G110*Y110","v":0},null,null,{"$f":"$G110*AB110","v":0},null,null,{"$f":"$G110*AE110","v":0},null,null,{"$f":"$G110*AH110","v":0},null,null,{"$f":"$G110*AK110","v":0},null,null,{"$f":"$G110*AN110","v":0},null,null,{"$f":"$G110*AQ110","v":0},null,null,{"$f":"$G110*AT110","v":0},null,null,{"$f":"$G110*AW110","v":0},null,null,{"$f":"$G110*AZ110","v":0},null,null,{"$f":"$G110*BC110","v":0},null,null,0,null,null,0,null,null,{"$f":"$G110*BL110","v":0},null,null,0,null,null,{"$f":"$G110*BR110","v":0},null,null,{"$f":"$G110*BU110","v":0},null,null,{"$f":"$G110*BX110","v":0},null,null,{"$f":"$G110*CA110","v":0},null,null,{"$f":"$G110*CD110","v":0},null,null,{"$f":"$G110*CG110","v":0},null,null,{"$f":"$G110*CJ110","v":0},null,null,{"$f":"$G110*CM110","v":0},null,null,{"$f":"$G110*CP110","v":0},null,null,{"$f":"$G110*CS110","v":0},null,null,{"$f":"$G110*CV110","v":0},null,null,{"$f":"$G110*CY110","v":0},null,null,0,null,null,0,null,null,{"$f":"$G110*DH110","v":0},null,null,0,null,null,{"$f":"$G110*DN110","v":0},null,null,{"$f":"$G110*DQ110","v":0},null,null,{"$f":"$G110*DT110","v":0},null,null,{"$f":"$G110*DW110","v":0},null,null,{"$f":"$G110*DZ110","v":0},null,null,{"$f":"$G110*EC110","v":0},null,null,{"$f":"$G110*EF110","v":0},null,null,{"$f":"$G110*EI110","v":0},null,null,{"$f":"$G110*EL110","v":0},null,null,{"$f":"$G110*EO110","v":0},null,null,{"$f":"$G110*ER110","v":0},null,null,{"$f":"$G110*EU110","v":0},null,null,0,null,null,0,null,null,{"$f":"$G110*FD110","v":0},null,null,0,null,null,{"$f":"$G110*FJ110","v":0},null,null,{"$f":"$G110*FM110","v":0},null,null,{"$f":"$G110*FP110","v":0},null,null,{"$f":"$G110*FS110","v":0},null,null,{"$f":"$G110*FV110","v":0},null,null,{"$f":"$G110*FY110","v":0},null,null,{"$f":"$G110*GB110","v":0},null,null,{"$f":"$G110*GE110","v":0},null,null,{"$f":"$G110*GH110","v":0},null,null,{"$f":"$G110*GK110","v":0},null,null,{"$f":"$G110*GN110","v":0},null,null,{"$f":"$G110*GQ110","v":0},null,null,{"$f":"$G110*GT110","v":0},null,null,{"$f":"$G110*GW110","v":0},null,null,{"$f":"$G110*GZ110","v":0},null,null,{"$f":"$G110*HC110","v":0},null,null,{"$f":"$G110*HF110","v":0},null,null,{"$f":"$G110*HI110","v":0}]
["5.5.5",null,"E","boja približna RAL 8002 -braon","color similar to RAL 8002 brown","kg",{"$f":"CENA!G102","v":0},0,0,null,{"$f":"$G111*J111","v":0},null,null,0,null,null,{"$f":"$G111*P111","v":0},null,null,0,null,null,{"$f":"$G111*V111","v":0},null,null,{"$f":"$G111*Y111","v":0},null,null,{"$f":"$G111*AB111","v":0},null,null,{"$f":"$G111*AE111","v":0},null,null,{"$f":"$G111*AH111","v":0},null,null,{"$f":"$G111*AK111","v":0},null,null,{"$f":"$G111*AN111","v":0},null,null,{"$f":"$G111*AQ111","v":0},null,null,{"$f":"$G111*AT111","v":0},null,null,{"$f":"$G111*AW111","v":0},null,null,{"$f":"$G111*AZ111","v":0},null,null,{"$f":"$G111*BC111","v":0},null,null,0,null,null,0,null,null,{"$f":"$G111*BL111","v":0},null,null,0,null,null,{"$f":"$G111*BR111","v":0},null,null,{"$f":"$G111*BU111","v":0},null,null,{"$f":"$G111*BX111","v":0},null,null,{"$f":"$G111*CA111","v":0},null,null,{"$f":"$G111*CD111","v":0},null,null,{"$f":"$G111*CG111","v":0},null,null,{"$f":"$G111*CJ111","v":0},null,null,{"$f":"$G111*CM111","v":0},null,null,{"$f":"$G111*CP111","v":0},null,null,{"$f":"$G111*CS111","v":0},null,null,{"$f":"$G111*CV111","v":0},null,null,{"$f":"$G111*CY111","v":0},null,null,0,null,null,0,null,null,{"$f":"$G111*DH111","v":0},null,null,0,null,null,{"$f":"$G111*DN111","v":0},null,null,{"$f":"$G111*DQ111","v":0},null,null,{"$f":"$G111*DT111","v":0},null,null,{"$f":"$G111*DW111","v":0},null,null,{"$f":"$G111*DZ111","v":0},null,null,{"$f":"$G111*EC111","v":0},null,null,{"$f":"$G111*EF111","v":0},null,null,{"$f":"$G111*EI111","v":0},null,null,{"$f":"$G111*EL111","v":0},null,null,{"$f":"$G111*EO111","v":0},null,null,{"$f":"$G111*ER111","v":0},null,null,{"$f":"$G111*EU111","v":0},null,null,0,null,null,0,null,null,{"$f":"$G111*FD111","v":0},null,null,0,null,null,{"$f":"$G111*FJ111","v":0},null,null,{"$f":"$G111*FM111","v":0},null,null,{"$f":"$G111*FP111","v":0},null,null,{"$f":"$G111*FS111","v":0},null,null,{"$f":"$G111*FV111","v":0},null,null,{"$f":"$G111*FY111","v":0},null,null,{"$f":"$G111*GB111","v":0},null,null,{"$f":"$G111*GE111","v":0},null,null,{"$f":"$G111*GH111","v":0},null,null,{"$f":"$G111*GK111","v":0},null,null,{"$f":"$G111*GN111","v":0},null,null,{"$f":"$G111*GQ111","v":0},null,null,{"$f":"$G111*GT111","v":0},null,null,{"$f":"$G111*GW111","v":0},null,null,{"$f":"$G111*GZ111","v":0},null,null,{"$f":"$G111*HC111","v":0},null,null,{"$f":"$G111*HF111","v":0},null,null,{"$f":"$G111*HI111","v":0}]
[]
["6","H",null,"MATERIJAL ZA HIDRO IZOLACIJE","WATERPROOFING MATERIAL"]
["6.1","H",1,"Bitulit (prethodni premaz za hidroizolaciju)\nUpotrebljava se u isporučenom stanju (hladan  postupak ) bez zagrevanja","Bitulit (previous coating for waterproofing)\nIt is used as delivered (cold process) without heating","kg",{"$f":"CENA!G105","v":0},{"$f":"J114+M114+P114+S114+V114+Y114+AB114+AE114+AH114+AK114+AN114+AQ114+AZ114+AW114+AT114+BC114+BF114+BI114+BL114+BO114+BR114+BU114+BX114+CA114+CD114+CG114+CJ114+CM114+CP114+CS114+CV114+CY114+DB114+DE114+DH114+DK114+DN114+DQ114+DT114+DW114+DZ114+EC114+EF114+EI114+EL114+EO114+ER114+EU114+EX114+FA114+FD114+FG114+FJ114+FM114+FP114+FS114+FV114+FY114+GB114+GE114+GH114+GK114+GN114+GQ114+GT114+GW114+GZ114+HC114+HF114+HI114","v":0},{"$f":"G114*H114","v":0},null,{"$f":"$G114*J114","v":0},null,null,{"$f":"$G114*M114","v":0},null,null,{"$f":"$G114*P114","v":0},null,null,{"$f":"$G114*S114","v":0},null,null,{"$f":"$G114*V114","v":0},null,null,{"$f":"$G114*Y114","v":0},null,null,{"$f":"$G114*AB114","v":0},null,null,{"$f":"$G114*AE114","v":0},null,null,{"$f":"$G114*AH114","v":0},null,null,{"$f":"$G114*AK114","v":0},null,null,{"$f":"$G114*AN114","v":0},null,null,{"$f":"$G114*AQ114","v":0},null,null,{"$f":"$G114*AT114","v":0},null,null,{"$f":"$G114*AW114","v":0},null,null,{"$f":"$G114*AZ114","v":0},null,null,{"$f":"$G114*BC114","v":0},null,null,{"$f":"$G114*BF114","v":0},null,null,{"$f":"$G114*BI114","v":0},null,null,{"$f":"$G114*BL114","v":0},null,null,{"$f":"$G114*BO114","v":0},null,null,{"$f":"$G114*BR114","v":0},null,null,{"$f":"$G114*BU114","v":0},null,null,{"$f":"$G114*BX114","v":0},null,null,{"$f":"$G114*CA114","v":0},null,null,{"$f":"$G114*CD114","v":0},null,null,{"$f":"$G114*CG114","v":0},null,null,{"$f":"$G114*CJ114","v":0},null,null,{"$f":"$G114*CM114","v":0},null,null,{"$f":"$G114*CP114","v":0},null,null,{"$f":"$G114*CS114","v":0},null,null,{"$f":"$G114*CV114","v":0},null,null,{"$f":"$G114*CY114","v":0},null,null,{"$f":"$G114*DB114","v":0},null,null,{"$f":"$G114*DE114","v":0},null,null,{"$f":"$G114*DH114","v":0},null,null,{"$f":"$G114*DK114","v":0},null,null,{"$f":"$G114*DN114","v":0},null,null,{"$f":"$G114*DQ114","v":0},null,null,{"$f":"$G114*DT114","v":0},null,null,{"$f":"$G114*DW114","v":0},null,null,{"$f":"$G114*DZ114","v":0},null,null,{"$f":"$G114*EC114","v":0},null,null,{"$f":"$G114*EF114","v":0},null,null,{"$f":"$G114*EI114","v":0},null,null,{"$f":"$G114*EL114","v":0},null,null,{"$f":"$G114*EO114","v":0},null,null,{"$f":"$G114*ER114","v":0},null,null,{"$f":"$G114*EU114","v":0},null,null,{"$f":"$G114*EX114","v":0},null,null,{"$f":"$G114*FA114","v":0},null,null,{"$f":"$G114*FD114","v":0},null,null,{"$f":"$G114*FG114","v":0},null,null,{"$f":"$G114*FJ114","v":0},null,null,{"$f":"$G114*FM114","v":0},null,null,{"$f":"$G114*FP114","v":0},null,null,{"$f":"$G114*FS114","v":0},null,null,{"$f":"$G114*FV114","v":0},null,null,{"$f":"$G114*FY114","v":0},null,null,{"$f":"$G114*GB114","v":0},null,null,{"$f":"$G114*GE114","v":0},null,null,{"$f":"$G114*GH114","v":0},null,null,{"$f":"$G114*GK114","v":0},null,null,{"$f":"$G114*GN114","v":0},null,null,{"$f":"$G114*GQ114","v":0},null,null,{"$f":"$G114*GT114","v":0},null,null,{"$f":"$G114*GW114","v":0},null,null,{"$f":"$G114*GZ114","v":0},null,null,{"$f":"$G114*HC114","v":0},null,null,{"$f":"$G114*HF114","v":0},null,null,{"$f":"$G114*HI114","v":0}]
["6.2","H",2,"Poliazbitol (hladni premaz za hidroizolaciju) Upotrebljava se u isporučenom stanju (hladan postupak) bez zagrevanja","POLYASBITOL (cold coating for waterproofing)\nIt is used as delivered (cold process) without heating","kg",{"$f":"CENA!G106","v":0},0,0,null,{"$f":"$G115*J115","v":0},null,null,0,null,null,{"$f":"$G115*P115","v":0},null,null,{"$f":"$G115*S115","v":0},null,null,{"$f":"$G115*V115","v":0},null,null,{"$f":"$G115*Y115","v":0},null,null,{"$f":"$G115*AB115","v":0},null,null,{"$f":"$G115*AE115","v":0},null,null,{"$f":"$G115*AH115","v":0},null,null,{"$f":"$G115*AK115","v":0},null,null,{"$f":"$G115*AN115","v":0},null,null,{"$f":"$G115*AQ115","v":0},null,null,{"$f":"$G115*AT115","v":0},null,null,{"$f":"$G115*AW115","v":0},null,null,{"$f":"$G115*AZ115","v":0},null,null,{"$f":"$G115*BC115","v":0},null,null,0,null,null,0,null,null,{"$f":"$G115*BL115","v":0},null,null,{"$f":"$G115*BO115","v":0},null,null,{"$f":"$G115*BR115","v":0},null,null,{"$f":"$G115*BU115","v":0},null,null,{"$f":"$G115*BX115","v":0},null,null,{"$f":"$G115*CA115","v":0},null,null,{"$f":"$G115*CD115","v":0},null,null,{"$f":"$G115*CG115","v":0},null,null,{"$f":"$G115*CJ115","v":0},null,null,{"$f":"$G115*CM115","v":0},null,null,{"$f":"$G115*CP115","v":0},null,null,{"$f":"$G115*CS115","v":0},null,null,{"$f":"$G115*CV115","v":0},null,null,{"$f":"$G115*CY115","v":0},null,null,0,null,null,0,null,null,{"$f":"$G115*DH115","v":0},null,null,{"$f":"$G115*DK115","v":0},null,null,{"$f":"$G115*DN115","v":0},null,null,{"$f":"$G115*DQ115","v":0},null,null,{"$f":"$G115*DT115","v":0},null,null,{"$f":"$G115*DW115","v":0},null,null,{"$f":"$G115*DZ115","v":0},null,null,{"$f":"$G115*EC115","v":0},null,null,{"$f":"$G115*EF115","v":0},null,null,{"$f":"$G115*EI115","v":0},null,null,{"$f":"$G115*EL115","v":0},null,null,{"$f":"$G115*EO115","v":0},null,null,{"$f":"$G115*ER115","v":0},null,null,{"$f":"$G115*EU115","v":0},null,null,0,null,null,0,null,null,{"$f":"$G115*FD115","v":0},null,null,{"$f":"$G115*FG115","v":0},null,null,{"$f":"$G115*FJ115","v":0},null,null,{"$f":"$G115*FM115","v":0},null,null,{"$f":"$G115*FP115","v":0},null,null,{"$f":"$G115*FS115","v":0},null,null,{"$f":"$G115*FV115","v":0},null,null,{"$f":"$G115*FY115","v":0},null,null,{"$f":"$G115*GB115","v":0},null,null,{"$f":"$G115*GE115","v":0},null,null,{"$f":"$G115*GH115","v":0},null,null,{"$f":"$G115*GK115","v":0},null,null,{"$f":"$G115*GN115","v":0},null,null,{"$f":"$G115*GQ115","v":0},null,null,{"$f":"$G115*GT115","v":0},null,null,{"$f":"$G115*GW115","v":0},null,null,{"$f":"$G115*GZ115","v":0},null,null,{"$f":"$G115*HC115","v":0},null,null,{"$f":"$G115*HF115","v":0},null,null,{"$f":"$G115*HI115","v":0}]
["6.3","H",3,"Ter papir Bitumenska hidroizolaciona traka.","Ter paper Bituminous waterproofing tape.","m2",{"$f":"CENA!G107","v":0},0,0,null,{"$f":"$G116*J116","v":0},null,null,0,null,null,{"$f":"$G116*P116","v":0},null,null,{"$f":"$G116*S116","v":0},null,null,{"$f":"$G116*V116","v":0},null,null,{"$f":"$G116*Y116","v":0},null,null,{"$f":"$G116*AB116","v":0},null,null,{"$f":"$G116*AE116","v":0},null,null,{"$f":"$G116*AH116","v":0},null,null,{"$f":"$G116*AK116","v":0},null,null,{"$f":"$G116*AN116","v":0},null,null,{"$f":"$G116*AQ116","v":0},null,null,{"$f":"$G116*AT116","v":0},null,null,{"$f":"$G116*AW116","v":0},null,null,{"$f":"$G116*AZ116","v":0},null,null,{"$f":"$G116*BC116","v":0},null,null,0,null,null,0,null,null,{"$f":"$G116*BL116","v":0},null,null,{"$f":"$G116*BO116","v":0},null,null,{"$f":"$G116*BR116","v":0},null,null,{"$f":"$G116*BU116","v":0},null,null,{"$f":"$G116*BX116","v":0},null,null,{"$f":"$G116*CA116","v":0},null,null,{"$f":"$G116*CD116","v":0},null,null,{"$f":"$G116*CG116","v":0},null,null,{"$f":"$G116*CJ116","v":0},null,null,{"$f":"$G116*CM116","v":0},null,null,{"$f":"$G116*CP116","v":0},null,null,{"$f":"$G116*CS116","v":0},null,null,{"$f":"$G116*CV116","v":0},null,null,{"$f":"$G116*CY116","v":0},null,null,0,null,null,0,null,null,{"$f":"$G116*DH116","v":0},null,null,{"$f":"$G116*DK116","v":0},null,null,{"$f":"$G116*DN116","v":0},null,null,{"$f":"$G116*DQ116","v":0},null,null,{"$f":"$G116*DT116","v":0},null,null,{"$f":"$G116*DW116","v":0},null,null,{"$f":"$G116*DZ116","v":0},null,null,{"$f":"$G116*EC116","v":0},null,null,{"$f":"$G116*EF116","v":0},null,null,{"$f":"$G116*EI116","v":0},null,null,{"$f":"$G116*EL116","v":0},null,null,{"$f":"$G116*EO116","v":0},null,null,{"$f":"$G116*ER116","v":0},null,null,{"$f":"$G116*EU116","v":0},null,null,0,null,null,0,null,null,{"$f":"$G116*FD116","v":0},null,null,{"$f":"$G116*FG116","v":0},null,null,{"$f":"$G116*FJ116","v":0},null,null,{"$f":"$G116*FM116","v":0},null,null,{"$f":"$G116*FP116","v":0},null,null,{"$f":"$G116*FS116","v":0},null,null,{"$f":"$G116*FV116","v":0},null,null,{"$f":"$G116*FY116","v":0},null,null,{"$f":"$G116*GB116","v":0},null,null,{"$f":"$G116*GE116","v":0},null,null,{"$f":"$G116*GH116","v":0},null,null,{"$f":"$G116*GK116","v":0},null,null,{"$f":"$G116*GN116","v":0},null,null,{"$f":"$G116*GQ116","v":0},null,null,{"$f":"$G116*GT116","v":0},null,null,{"$f":"$G116*GW116","v":0},null,null,{"$f":"$G116*GZ116","v":0},null,null,{"$f":"$G116*HC116","v":0},null,null,{"$f":"$G116*HF116","v":0},null,null,{"$f":"$G116*HI116","v":0}]
["6.4","H",4,"Kondor V-3 (hidroizolaciona traka)\nPlastomer-bitumenska traka, \nuložak stakleni voal, debljina:  ≥ 3 mm","Condor V-3 (waterproof tape)\nPlastomer-bituminous tape,\nglass mat, thickness: ≥ 3 mm","m2",{"$f":"CENA!G108","v":0},0,0,null,{"$f":"$G117*J117","v":0},null,null,0,null,null,{"$f":"$G117*P117","v":0},null,null,{"$f":"$G117*S117","v":0},null,null,{"$f":"$G117*V117","v":0},null,null,{"$f":"$G117*Y117","v":0},null,null,{"$f":"$G117*AB117","v":0},null,null,{"$f":"$G117*AE117","v":0},null,null,{"$f":"$G117*AH117","v":0},null,null,{"$f":"$G117*AK117","v":0},null,null,{"$f":"$G117*AN117","v":0},null,null,{"$f":"$G117*AQ117","v":0},null,null,{"$f":"$G117*AT117","v":0},null,null,{"$f":"$G117*AW117","v":0},null,null,{"$f":"$G117*AZ117","v":0},null,null,{"$f":"$G117*BC117","v":0},null,null,0,null,null,0,null,null,{"$f":"$G117*BL117","v":0},null,null,{"$f":"$G117*BO117","v":0},null,null,{"$f":"$G117*BR117","v":0},null,null,{"$f":"$G117*BU117","v":0},null,null,{"$f":"$G117*BX117","v":0},null,null,{"$f":"$G117*CA117","v":0},null,null,{"$f":"$G117*CD117","v":0},null,null,{"$f":"$G117*CG117","v":0},null,null,{"$f":"$G117*CJ117","v":0},null,null,{"$f":"$G117*CM117","v":0},null,null,{"$f":"$G117*CP117","v":0},null,null,{"$f":"$G117*CS117","v":0},null,null,{"$f":"$G117*CV117","v":0},null,null,{"$f":"$G117*CY117","v":0},null,null,0,null,null,0,null,null,{"$f":"$G117*DH117","v":0},null,null,{"$f":"$G117*DK117","v":0},null,null,{"$f":"$G117*DN117","v":0},null,null,{"$f":"$G117*DQ117","v":0},null,null,{"$f":"$G117*DT117","v":0},null,null,{"$f":"$G117*DW117","v":0},null,null,{"$f":"$G117*DZ117","v":0},null,null,{"$f":"$G117*EC117","v":0},null,null,{"$f":"$G117*EF117","v":0},null,null,{"$f":"$G117*EI117","v":0},null,null,{"$f":"$G117*EL117","v":0},null,null,{"$f":"$G117*EO117","v":0},null,null,{"$f":"$G117*ER117","v":0},null,null,{"$f":"$G117*EU117","v":0},null,null,0,null,null,0,null,null,{"$f":"$G117*FD117","v":0},null,null,{"$f":"$G117*FG117","v":0},null,null,{"$f":"$G117*FJ117","v":0},null,null,{"$f":"$G117*FM117","v":0},null,null,{"$f":"$G117*FP117","v":0},null,null,{"$f":"$G117*FS117","v":0},null,null,{"$f":"$G117*FV117","v":0},null,null,{"$f":"$G117*FY117","v":0},null,null,{"$f":"$G117*GB117","v":0},null,null,{"$f":"$G117*GE117","v":0},null,null,{"$f":"$G117*GH117","v":0},null,null,{"$f":"$G117*GK117","v":0},null,null,{"$f":"$G117*GN117","v":0},null,null,{"$f":"$G117*GQ117","v":0},null,null,{"$f":"$G117*GT117","v":0},null,null,{"$f":"$G117*GW117","v":0},null,null,{"$f":"$G117*GZ117","v":0},null,null,{"$f":"$G117*HC117","v":0},null,null,{"$f":"$G117*HF117","v":0},null,null,{"$f":"$G117*HI117","v":0}]
[]
["7","S",null,"STOLARIJA","DOORS AND WINDOWS"]
["7.1","S",1,"Ulazna vrata od PVC-a (komplet pozicija). \nboja profila: bela RAL 9003\nbroj komora: ≥  5 komora\nširina x visina (zidarske mere)","Entrance door of PVC (set position)\nProfile color: white RAL 9003 \nNumber of chambers: ≥ 5 chambers \nwidth x height (masonry measures)","/","/","/","/","/","/",null,"/","/",null,"/","/",null,"/","/",null,"/","/",null,"/","/",null,"/","/",null,"/","/",null,"/","/",null,"/","/",null,"/","/",null,"/","/",null,"/","/",null,"/","/",null,"/","/",null,"/","/",null,"/","/",null,"/","/",null,"/","/",null,"/","/",null,"/","/",null,"/","/",null,"/","/",null,"/","/",null,"/","/",null,"/","/",null,"/","/",null,"/","/",null,"/","/",null,"/","/",null,"/","/",null,"/","/",null,"/","/",null,"/","/",null,"/","/",null,"/","/",null,"/","/",null,"/","/",null,"/","/",null,"/","/",null,"/","/",null,"/","/",null,"/","/",null,"/","/",null,"/","/",null,"/","/",null,"/","/",null,"/","/",null,"/","/",null,"/","/",null,"/","/",null,"/","/",null,"/","/",null,"/","/",null,"/","/",null,"/","/",null,"/","/",null,"/","/",null,"/","/",null,"/","/",null,"/","/",null,"/","/",null,"/","/",null,"/","/",null,"/","/",null,"/","/",null,"/","/",null,"/","/",null,"/","/",null,"/","/"]
["7.1.1",null,"A","JK    90x210 cm - Leva       90 cm ","one wing  90x210 cm - Left      90 cm ","kom/pcs",{"$f":"CENA!G112","v":0},{"$f":"J121+M121+P121+S121+V121+Y121+AB121+AE121+AH121+AK121+AN121+AQ121+AZ121+AW121+AT121+BC121+BF121+BI121+BL121+BO121+BR121+BU121+BX121+CA121+CD121+CG121+CJ121+CM121+CP121+CS121+CV121+CY121+DB121+DE121+DH121+DK121+DN121+DQ121+DT121+DW121+DZ121+EC121+EF121+EI121+EL121+EO121+ER121+EU121+EX121+FA121+FD121+FG121+FJ121+FM121+FP121+FS121+FV121+FY121+GB121+GE121+GH121+GK121+GN121+GQ121+GT121+GW121+GZ121+HC121+HF121+HI121","v":0},{"$f":"G121*H121","v":0},null,{"$f":"$G121*J121","v":0},null,null,{"$f":"$G121*M121","v":0},null,null,{"$f":"$G121*P121","v":0},null,null,{"$f":"$G121*S121","v":0},null,null,{"$f":"$G121*V121","v":0},null,null,{"$f":"$G121*Y121","v":0},null,null,{"$f":"$G121*AB121","v":0},null,null,{"$f":"$G121*AE121","v":0},null,null,{"$f":"$G121*AH121","v":0},null,null,{"$f":"$G121*AK121","v":0},null,null,{"$f":"$G121*AN121","v":0},null,null,{"$f":"$G121*AQ121","v":0},null,null,{"$f":"$G121*AT121","v":0},null,null,{"$f":"$G121*AW121","v":0},null,null,{"$f":"$G121*AZ121","v":0},null,null,{"$f":"$G121*BC121","v":0},null,null,{"$f":"$G121*BF121","v":0},null,null,{"$f":"$G121*BI121","v":0},null,null,{"$f":"$G121*BL121","v":0},null,null,{"$f":"$G121*BO121","v":0},null,null,{"$f":"$G121*BR121","v":0},null,null,{"$f":"$G121*BU121","v":0},null,null,{"$f":"$G121*BX121","v":0},null,null,{"$f":"$G121*CA121","v":0},null,null,{"$f":"$G121*CD121","v":0},null,null,{"$f":"$G121*CG121","v":0},null,null,{"$f":"$G121*CJ121","v":0},null,null,{"$f":"$G121*CM121","v":0},null,null,{"$f":"$G121*CP121","v":0},null,null,{"$f":"$G121*CS121","v":0},null,null,{"$f":"$G121*CV121","v":0},null,null,{"$f":"$G121*CY121","v":0},null,null,{"$f":"$G121*DB121","v":0},null,null,{"$f":"$G121*DE121","v":0},null,null,{"$f":"$G121*DH121","v":0},null,null,{"$f":"$G121*DK121","v":0},null,null,{"$f":"$G121*DN121","v":0},null,null,{"$f":"$G121*DQ121","v":0},null,null,{"$f":"$G121*DT121","v":0},null,null,{"$f":"$G121*DW121","v":0},null,null,{"$f":"$G121*DZ121","v":0},null,null,{"$f":"$G121*EC121","v":0},null,null,{"$f":"$G121*EF121","v":0},null,null,{"$f":"$G121*EI121","v":0},null,null,{"$f":"$G121*EL121","v":0},null,null,{"$f":"$G121*EO121","v":0},null,null,{"$f":"$G121*ER121","v":0},null,null,{"$f":"$G121*EU121","v":0},null,null,{"$f":"$G121*EX121","v":0},null,null,{"$f":"$G121*FA121","v":0},null,null,{"$f":"$G121*FD121","v":0},null,null,{"$f":"$G121*FG121","v":0},null,null,{"$f":"$G121*FJ121","v":0},null,null,{"$f":"$G121*FM121","v":0},null,null,{"$f":"$G121*FP121","v":0},null,null,{"$f":"$G121*FS121","v":0},null,null,{"$f":"$G121*FV121","v":0},null,null,{"$f":"$G121*FY121","v":0},null,null,{"$f":"$G121*GB121","v":0},null,null,{"$f":"$G121*GE121","v":0},null,null,{"$f":"$G121*GH121","v":0},null,null,{"$f":"$G121*GK121","v":0},null,null,{"$f":"$G121*GN121","v":0},null,null,{"$f":"$G121*GQ121","v":0},null,null,{"$f":"$G121*GT121","v":0},null,null,{"$f":"$G121*GW121","v":0},null,null,{"$f":"$G121*GZ121","v":0},null,null,{"$f":"$G121*HC121","v":0},null,null,{"$f":"$G121*HF121","v":0},null,null,{"$f":"$G121*HI121","v":0}]
["7.1.2",null,"B","JK    90x210 cm - Desna    90 cm","one wing  90x210 cm - Right    90 cm","kom/pcs",{"$f":"CENA!G113","v":0},1,0,null,{"$f":"$G122*J122","v":0},null,null,0,null,null,{"$f":"$G122*P122","v":0},null,1,0,null,null,{"$f":"$G122*V122","v":0},null,null,{"$f":"$G122*Y122","v":0},null,null,{"$f":"$G122*AB122","v":0},null,null,{"$f":"$G122*AE122","v":0},null,null,{"$f":"$G122*AH122","v":0},null,null,{"$f":"$G122*AK122","v":0},null,null,{"$f":"$G122*AN122","v":0},null,null,{"$f":"$G122*AQ122","v":0},null,null,{"$f":"$G122*AT122","v":0},null,null,{"$f":"$G122*AW122","v":0},null,null,{"$f":"$G122*AZ122","v":0},null,null,{"$f":"$G122*BC122","v":0},null,null,0,null,null,0,null,null,{"$f":"$G122*BL122","v":0},null,null,0,null,null,{"$f":"$G122*BR122","v":0},null,null,{"$f":"$G122*BU122","v":0},null,null,{"$f":"$G122*BX122","v":0},null,null,{"$f":"$G122*CA122","v":0},null,null,{"$f":"$G122*CD122","v":0},null,null,{"$f":"$G122*CG122","v":0},null,null,{"$f":"$G122*CJ122","v":0},null,null,{"$f":"$G122*CM122","v":0},null,null,{"$f":"$G122*CP122","v":0},null,null,{"$f":"$G122*CS122","v":0},null,null,{"$f":"$G122*CV122","v":0},null,null,{"$f":"$G122*CY122","v":0},null,null,0,null,null,0,null,null,{"$f":"$G122*DH122","v":0},null,null,0,null,null,{"$f":"$G122*DN122","v":0},null,null,{"$f":"$G122*DQ122","v":0},null,null,{"$f":"$G122*DT122","v":0},null,null,{"$f":"$G122*DW122","v":0},null,null,{"$f":"$G122*DZ122","v":0},null,null,{"$f":"$G122*EC122","v":0},null,null,{"$f":"$G122*EF122","v":0},null,null,{"$f":"$G122*EI122","v":0},null,null,{"$f":"$G122*EL122","v":0},null,null,{"$f":"$G122*EO122","v":0},null,null,{"$f":"$G122*ER122","v":0},null,null,{"$f":"$G122*EU122","v":0},null,null,0,null,null,0,null,null,{"$f":"$G122*FD122","v":0},null,null,0,null,null,{"$f":"$G122*FJ122","v":0},null,null,{"$f":"$G122*FM122","v":0},null,null,{"$f":"$G122*FP122","v":0},null,null,{"$f":"$G122*FS122","v":0},null,null,{"$f":"$G122*FV122","v":0},null,null,{"$f":"$G122*FY122","v":0},null,null,{"$f":"$G122*GB122","v":0},null,null,{"$f":"$G122*GE122","v":0},null,null,{"$f":"$G122*GH122","v":0},null,null,{"$f":"$G122*GK122","v":0},null,null,{"$f":"$G122*GN122","v":0},null,null,{"$f":"$G122*GQ122","v":0},null,null,{"$f":"$G122*GT122","v":0},null,null,{"$f":"$G122*GW122","v":0},null,null,{"$f":"$G122*GZ122","v":0},null,null,{"$f":"$G122*HC122","v":0},null,null,{"$f":"$G122*HF122","v":0},null,null,{"$f":"$G122*HI122","v":0}]
["7.1.3",null,"C","DK 120x210 cm - Leva       90+30 cm","two wings 120x210 cm - Left        90+30 cm","kom/pcs",{"$f":"CENA!G114","v":0},0,0,null,{"$f":"$G123*J123","v":0},null,null,0,null,null,{"$f":"$G123*P123","v":0},null,null,0,null,null,{"$f":"$G123*V123","v":0},null,null,{"$f":"$G123*Y123","v":0},null,null,{"$f":"$G123*AB123","v":0},null,null,{"$f":"$G123*AE123","v":0},null,null,{"$f":"$G123*AH123","v":0},null,null,{"$f":"$G123*AK123","v":0},null,null,{"$f":"$G123*AN123","v":0},null,null,{"$f":"$G123*AQ123","v":0},null,null,{"$f":"$G123*AT123","v":0},null,null,{"$f":"$G123*AW123","v":0},null,null,{"$f":"$G123*AZ123","v":0},null,null,{"$f":"$G123*BC123","v":0},null,null,0,null,null,0,null,null,{"$f":"$G123*BL123","v":0},null,null,0,null,null,{"$f":"$G123*BR123","v":0},null,null,{"$f":"$G123*BU123","v":0},null,null,{"$f":"$G123*BX123","v":0},null,null,{"$f":"$G123*CA123","v":0},null,null,{"$f":"$G123*CD123","v":0},null,null,{"$f":"$G123*CG123","v":0},null,null,{"$f":"$G123*CJ123","v":0},null,null,{"$f":"$G123*CM123","v":0},null,null,{"$f":"$G123*CP123","v":0},null,null,{"$f":"$G123*CS123","v":0},null,null,{"$f":"$G123*CV123","v":0},null,null,{"$f":"$G123*CY123","v":0},null,null,0,null,null,0,null,null,{"$f":"$G123*DH123","v":0},null,null,0,null,null,{"$f":"$G123*DN123","v":0},null,null,{"$f":"$G123*DQ123","v":0},null,null,{"$f":"$G123*DT123","v":0},null,null,{"$f":"$G123*DW123","v":0},null,null,{"$f":"$G123*DZ123","v":0},null,null,{"$f":"$G123*EC123","v":0},null,null,{"$f":"$G123*EF123","v":0},null,null,{"$f":"$G123*EI123","v":0},null,null,{"$f":"$G123*EL123","v":0},null,null,{"$f":"$G123*EO123","v":0},null,null,{"$f":"$G123*ER123","v":0},null,null,{"$f":"$G123*EU123","v":0},null,null,0,null,null,0,null,null,{"$f":"$G123*FD123","v":0},null,null,0,null,null,{"$f":"$G123*FJ123","v":0},null,null,{"$f":"$G123*FM123","v":0},null,null,{"$f":"$G123*FP123","v":0},null,null,{"$f":"$G123*FS123","v":0},null,null,{"$f":"$G123*FV123","v":0},null,null,{"$f":"$G123*FY123","v":0},null,null,{"$f":"$G123*GB123","v":0},null,null,{"$f":"$G123*GE123","v":0},null,null,{"$f":"$G123*GH123","v":0},null,null,{"$f":"$G123*GK123","v":0},null,null,{"$f":"$G123*GN123","v":0},null,null,{"$f":"$G123*GQ123","v":0},null,null,{"$f":"$G123*GT123","v":0},null,null,{"$f":"$G123*GW123","v":0},null,null,{"$f":"$G123*GZ123","v":0},null,null,{"$f":"$G123*HC123","v":0},null,null,{"$f":"$G123*HF123","v":0},null,null,{"$f":"$G123*HI123","v":0}]
["7.1.4",null,"D","DK 120x210 cm - Desna    90+30 cm","two wings 120x210 cm - Right    90+30 cm","kom/pcs",{"$f":"CENA!G115","v":0},0,0,null,{"$f":"$G124*J124","v":0},null,null,0,null,null,{"$f":"$G124*P124","v":0},null,null,0,null,null,{"$f":"$G124*V124","v":0},null,null,{"$f":"$G124*Y124","v":0},null,null,{"$f":"$G124*AB124","v":0},null,null,{"$f":"$G124*AE124","v":0},null,null,{"$f":"$G124*AH124","v":0},null,null,{"$f":"$G124*AK124","v":0},null,null,{"$f":"$G124*AN124","v":0},null,null,{"$f":"$G124*AQ124","v":0},null,null,{"$f":"$G124*AT124","v":0},null,null,{"$f":"$G124*AW124","v":0},null,null,{"$f":"$G124*AZ124","v":0},null,null,{"$f":"$G124*BC124","v":0},null,null,0,null,null,0,null,null,{"$f":"$G124*BL124","v":0},null,null,0,null,null,{"$f":"$G124*BR124","v":0},null,null,{"$f":"$G124*BU124","v":0},null,null,{"$f":"$G124*BX124","v":0},null,null,{"$f":"$G124*CA124","v":0},null,null,{"$f":"$G124*CD124","v":0},null,null,{"$f":"$G124*CG124","v":0},null,null,{"$f":"$G124*CJ124","v":0},null,null,{"$f":"$G124*CM124","v":0},null,null,{"$f":"$G124*CP124","v":0},null,null,{"$f":"$G124*CS124","v":0},null,null,{"$f":"$G124*CV124","v":0},null,null,{"$f":"$G124*CY124","v":0},null,null,0,null,null,0,null,null,{"$f":"$G124*DH124","v":0},null,null,0,null,null,{"$f":"$G124*DN124","v":0},null,null,{"$f":"$G124*DQ124","v":0},null,null,{"$f":"$G124*DT124","v":0},null,null,{"$f":"$G124*DW124","v":0},null,null,{"$f":"$G124*DZ124","v":0},null,null,{"$f":"$G124*EC124","v":0},null,null,{"$f":"$G124*EF124","v":0},null,null,{"$f":"$G124*EI124","v":0},null,null,{"$f":"$G124*EL124","v":0},null,null,{"$f":"$G124*EO124","v":0},null,null,{"$f":"$G124*ER124","v":0},null,null,{"$f":"$G124*EU124","v":0},null,null,0,null,null,0,null,null,{"$f":"$G124*FD124","v":0},null,null,0,null,null,{"$f":"$G124*FJ124","v":0},null,null,{"$f":"$G124*FM124","v":0},null,null,{"$f":"$G124*FP124","v":0},null,null,{"$f":"$G124*FS124","v":0},null,null,{"$f":"$G124*FV124","v":0},null,null,{"$f":"$G124*FY124","v":0},null,null,{"$f":"$G124*GB124","v":0},null,null,{"$f":"$G124*GE124","v":0},null,null,{"$f":"$G124*GH124","v":0},null,null,{"$f":"$G124*GK124","v":0},null,null,{"$f":"$G124*GN124","v":0},null,null,{"$f":"$G124*GQ124","v":0},null,null,{"$f":"$G124*GT124","v":0},null,null,{"$f":"$G124*GW124","v":0},null,null,{"$f":"$G124*GZ124","v":0},null,null,{"$f":"$G124*HC124","v":0},null,null,{"$f":"$G124*HF124","v":0},null,null,{"$f":"$G124*HI124","v":0}]
["7.2","S",2,"Prozori od PVC-a (komplet pozicija).\nVertikalno i horizontalno otvaranje, boja profila: bela RAL 9003, broj komora: ≥  5 komora\nširina x visina (zidarske mere)","Windows made of PVC (set position)\nVertical and horizontal opening, color profile: white RAL 9003, the number of chambers: ≥ 5 chambers \nwidth x height (masonry measures)","/","/","/","/","/","/",null,"/","/",null,"/","/",null,"/","/",null,"/","/",null,"/","/",null,"/","/",null,"/","/",null,"/","/",null,"/","/",null,"/","/",null,"/","/",null,"/","/",null,"/","/",null,"/","/",null,"/","/",null,"/","/",null,"/","/",null,"/","/",null,"/","/",null,"/","/",null,"/","/",null,"/","/",null,"/","/",null,"/","/",null,"/","/",null,"/","/",null,"/","/",null,"/","/",null,"/","/",null,"/","/",null,"/","/",null,"/","/",null,"/","/",null,"/","/",null,"/","/",null,"/","/",null,"/","/",null,"/","/",null,"/","/",null,"/","/",null,"/","/",null,"/","/",null,"/","/",null,"/","/",null,"/","/",null,"/","/",null,"/","/",null,"/","/",null,"/","/",null,"/","/",null,"/","/",null,"/","/",null,"/","/",null,"/","/",null,"/","/",null,"/","/",null,"/","/",null,"/","/",null,"/","/",null,"/","/",null,"/","/",null,"/","/",null,"/","/",null,"/","/",null,"/","/",null,"/","/",null,"/","/",null,"/","/",null,"/","/"]
["7.2.1",null,"A","JK     60x60 cm ","one wing 60x60 cm ","kom/pcs",{"$f":"CENA!G117","v":0},{"$f":"J126+M126+P126+S126+V126+Y126+AB126+AE126+AH126+AK126+AN126+AQ126+AZ126+AW126+AT126+BC126+BF126+BI126+BL126+BO126+BR126+BU126+BX126+CA126+CD126+CG126+CJ126+CM126+CP126+CS126+CV126+CY126+DB126+DE126+DH126+DK126+DN126+DQ126+DT126+DW126+DZ126+EC126+EF126+EI126+EL126+EO126+ER126+EU126+EX126+FA126+FD126+FG126+FJ126+FM126+FP126+FS126+FV126+FY126+GB126+GE126+GH126+GK126+GN126+GQ126+GT126+GW126+GZ126+HC126+HF126+HI126","v":0},{"$f":"G126*H126","v":0},null,{"$f":"$G126*J126","v":0},null,null,{"$f":"$G126*M126","v":0},null,null,{"$f":"$G126*P126","v":0},null,null,{"$f":"$G126*S126","v":0},null,null,{"$f":"$G126*V126","v":0},null,null,{"$f":"$G126*Y126","v":0},null,null,{"$f":"$G126*AB126","v":0},null,null,{"$f":"$G126*AE126","v":0},null,null,{"$f":"$G126*AH126","v":0},null,null,{"$f":"$G126*AK126","v":0},null,null,{"$f":"$G126*AN126","v":0},null,null,{"$f":"$G126*AQ126","v":0},null,null,{"$f":"$G126*AT126","v":0},null,null,{"$f":"$G126*AW126","v":0},null,null,{"$f":"$G126*AZ126","v":0},null,null,{"$f":"$G126*BC126","v":0},null,null,{"$f":"$G126*BF126","v":0},null,null,{"$f":"$G126*BI126","v":0},null,null,{"$f":"$G126*BL126","v":0},null,null,{"$f":"$G126*BO126","v":0},null,null,{"$f":"$G126*BR126","v":0},null,null,{"$f":"$G126*BU126","v":0},null,null,{"$f":"$G126*BX126","v":0},null,null,{"$f":"$G126*CA126","v":0},null,null,{"$f":"$G126*CD126","v":0},null,null,{"$f":"$G126*CG126","v":0},null,null,{"$f":"$G126*CJ126","v":0},null,null,{"$f":"$G126*CM126","v":0},null,null,{"$f":"$G126*CP126","v":0},null,null,{"$f":"$G126*CS126","v":0},null,null,{"$f":"$G126*CV126","v":0},null,null,{"$f":"$G126*CY126","v":0},null,null,{"$f":"$G126*DB126","v":0},null,null,{"$f":"$G126*DE126","v":0},null,null,{"$f":"$G126*DH126","v":0},null,null,{"$f":"$G126*DK126","v":0},null,null,{"$f":"$G126*DN126","v":0},null,null,{"$f":"$G126*DQ126","v":0},null,null,{"$f":"$G126*DT126","v":0},null,null,{"$f":"$G126*DW126","v":0},null,null,{"$f":"$G126*DZ126","v":0},null,null,{"$f":"$G126*EC126","v":0},null,null,{"$f":"$G126*EF126","v":0},null,null,{"$f":"$G126*EI126","v":0},null,null,{"$f":"$G126*EL126","v":0},null,null,{"$f":"$G126*EO126","v":0},null,null,{"$f":"$G126*ER126","v":0},null,null,{"$f":"$G126*EU126","v":0},null,null,{"$f":"$G126*EX126","v":0},null,null,{"$f":"$G126*FA126","v":0},null,null,{"$f":"$G126*FD126","v":0},null,null,{"$f":"$G126*FG126","v":0},null,null,{"$f":"$G126*FJ126","v":0},null,null,{"$f":"$G126*FM126","v":0},null,null,{"$f":"$G126*FP126","v":0},null,null,{"$f":"$G126*FS126","v":0},null,null,{"$f":"$G126*FV126","v":0},null,null,{"$f":"$G126*FY126","v":0},null,null,{"$f":"$G126*GB126","v":0},null,null,{"$f":"$G126*GE126","v":0},null,null,{"$f":"$G126*GH126","v":0},null,null,{"$f":"$G126*GK126","v":0},null,null,{"$f":"$G126*GN126","v":0},null,null,{"$f":"$G126*GQ126","v":0},null,null,{"$f":"$G126*GT126","v":0},null,null,{"$f":"$G126*GW126","v":0},null,null,{"$f":"$G126*GZ126","v":0},null,null,{"$f":"$G126*HC126","v":0},null,null,{"$f":"$G126*HF126","v":0},null,null,{"$f":"$G126*HI126","v":0}]
["7.2.2",null,"B","JK     80x80 cm","one wing 80x80 cm","kom/pcs",{"$f":"CENA!G118","v":0},0,0,null,{"$f":"$G127*J127","v":0},null,null,0,null,null,0,null,null,0,null,null,0,null,null,0,null,null,0,null,null,0,null,null,0,null,null,0,null,null,0,null,null,0,null,null,0,null,null,0,null,null,0,null,null,0,null,null,0,null,null,0,null,null,0,null,null,0,null,null,0,null,null,0,null,null,0,null,null,0,null,null,0,null,null,0,null,null,0,null,null,0,null,null,0,null,null,0,null,null,0,null,null,0,null,null,0,null,null,0,null,null,0,null,null,0,null,null,0,null,null,0,null,null,0,null,null,0,null,null,0,null,null,0,null,null,0,null,null,0,null,null,0,null,null,0,null,null,0,null,null,0,null,null,0,null,null,0,null,null,0,null,null,0,null,null,0,null,null,0,null,null,0,null,null,0,null,null,0,null,null,0,null,null,0,null,null,0,null,null,0,null,null,0,null,null,0,null,null,0,null,null,0,null,null,0,null,null,0,null,null,0,null,null,0,null,null,0]
["7.2.3",null,"C","JK    80x120 cm    ","one wing 80x120 cm    ","kom/pcs",{"$f":"CENA!G119","v":0},0,0,null,{"$f":"$G128*J128","v":0},null,null,0,null,null,0,null,null,0,null,null,0,null,null,0,null,null,0,null,null,0,null,null,0,null,null,0,null,null,0,null,null,0,null,null,0,null,null,0,null,null,0,null,null,0,null,null,0,null,null,0,null,null,0,null,null,0,null,null,0,null,null,0,null,null,0,null,null,0,null,null,0,null,null,0,null,null,0,null,null,0,null,null,0,null,null,0,null,null,0,null,null,0,null,null,0,null,null,0,null,null,0,null,null,0,null,null,0,null,null,0,null,null,0,null,null,0,null,null,0,null,null,0,null,null,0,null,null,0,null,null,0,null,null,0,null,null,0,null,null,0,null,null,0,null,null,0,null,null,0,null,null,0,null,null,0,null,null,0,null,null,0,null,null,0,null,null,0,null,null,0,null,null,0,null,null,0,null,null,0,null,null,0,null,null,0,null,null,0,null,null,0,null,null,0,null,null,0,null,null,0,null,null,0,null,null,0]
["7.2.4",null,"D","JK    80x140 cm    ","one wing 80x140 cm ","kom/pcs",{"$f":"CENA!G120","v":0},0,0,null,{"$f":"$G129*J129","v":0},null,null,0,null,null,0,null,null,0,null,null,0,null,null,0,null,null,0,null,null,0,null,null,0,null,null,0,null,null,0,null,null,0,null,null,0,null,null,0,null,null,0,null,null,0,null,null,0,null,null,0,null,null,0,null,null,0,null,null,0,null,null,0,null,null,0,null,null,0,null,null,0,null,null,0,null,null,0,null,null,0,null,null,0,null,null,0,null,null,0,null,null,0,null,null,0,null,null,0,null,null,0,null,null,0,null,null,0,null,null,0,null,null,0,null,null,0,null,null,0,null,null,0,null,null,0,null,null,0,null,null,0,null,null,0,null,null,0,null,null,0,null,null,0,null,null,0,null,null,0,null,null,0,null,null,0,null,null,0,null,null,0,null,null,0,null,null,0,null,null,0,null,null,0,null,null,0,null,null,0,null,null,0,null,null,0,null,null,0,null,null,0,null,null,0,null,null,0,null,null,0,null,null,0,null,null,0]
["7.2.5",null,"E","JK  100x120 cm","one wing 100x120 cm","kom/pcs",{"$f":"CENA!G121","v":0},0,0,null,{"$f":"$G130*J130","v":0},null,null,0,null,null,0,null,null,0,null,null,0,null,null,0,null,null,0,null,null,0,null,null,0,null,null,0,null,null,0,null,null,0,null,null,0,null,null,0,null,null,0,null,null,0,null,null,0,null,null,0,null,null,0,null,null,0,null,null,0,null,null,0,null,null,0,null,null,0,null,null,0,null,null,0,null,null,0,null,null,0,null,null,0,null,null,0,null,null,0,null,null,0,null,null,0,null,null,0,null,null,0,null,null,0,null,null,0,null,null,0,null,null,0,null,null,0,null,null,0,null,null,0,null,null,0,null,null,0,null,null,0,null,null,0,null,null,0,null,null,0,null,null,0,null,null,0,null,null,0,null,null,0,null,null,0,null,null,0,null,null,0,null,null,0,null,null,0,null,null,0,null,null,0,null,null,0,null,null,0,null,null,0,null,null,0,null,null,0,null,null,0,null,null,0,null,null,0,null,null,0,null,null,0,null,null,0]
["7.2.6",null,"F","JK  100x140 cm","one wing 100x140 cm","kom/pcs",{"$f":"CENA!G122","v":0},0,0,null,{"$f":"$G131*J131","v":0},null,null,0,null,null,0,null,null,0,null,null,0,null,null,0,null,null,0,null,null,0,null,null,0,null,null,0,null,null,0,null,null,0,null,null,0,null,null,0,null,null,0,null,null,0,null,null,0,null,null,0,null,null,0,null,null,0,null,null,0,null,null,0,null,null,0,null,null,0,null,null,0,null,null,0,null,null,0,null,null,0,null,null,0,null,null,0,null,null,0,null,null,0,null,null,0,null,null,0,null,null,0,null,null,0,null,null,0,null,null,0,null,null,0,null,null,0,null,null,0,null,null,0,null,null,0,null,null,0,null,null,0,null,null,0,null,null,0,null,null,0,null,null,0,null,null,0,null,null,0,null,null,0,null,null,0,null,null,0,null,null,0,null,null,0,null,null,0,null,null,0,null,null,0,null,null,0,null,null,0,null,null,0,null,null,0,null,null,0,null,null,0,null,null,0,null,null,0,null,null,0,null,null,0,null,null,0]
["7.2.7",null,"G","DK  120x120 cm","two wings 120x120 cm","kom/pcs",{"$f":"CENA!G123","v":0},0,0,null,{"$f":"$G132*J132","v":0},null,null,0,null,null,0,null,null,0,null,null,0,null,null,0,null,null,0,null,null,0,null,null,0,null,null,0,null,null,0,null,null,0,null,null,0,null,null,0,null,null,0,null,null,0,null,null,0,null,null,0,null,null,0,null,null,0,null,null,0,null,null,0,null,null,0,null,null,0,null,null,0,null,null,0,null,null,0,null,null,0,null,null,0,null,null,0,null,null,0,null,null,0,null,null,0,null,null,0,null,null,0,null,null,0,null,null,0,null,null,0,null,null,0,null,null,0,null,null,0,null,null,0,null,null,0,null,null,0,null,null,0,null,null,0,null,null,0,null,null,0,null,null,0,null,null,0,null,null,0,null,null,0,null,null,0,null,null,0,null,null,0,null,null,0,null,null,0,null,null,0,null,null,0,null,null,0,null,null,0,null,null,0,null,null,0,null,null,0,null,null,0,null,null,0,null,null,0,null,null,0,null,null,0,null,null,0]
["7.2.8",null,"H","DK  120x140 cm","two wings 120x140 cm","kom/pcs",{"$f":"CENA!G124","v":0},0,0,null,{"$f":"$G133*J133","v":0},null,null,0,null,null,0,null,null,0,null,null,0,null,null,0,null,null,0,null,null,0,null,null,0,null,null,0,null,null,0,null,null,0,null,null,0,null,null,0,null,null,0,null,null,0,null,null,0,null,null,0,null,null,0,null,null,0,null,null,0,null,null,0,null,null,0,null,null,0,null,null,0,null,null,0,null,null,0,null,null,0,null,null,0,null,null,0,null,null,0,null,null,0,null,null,0,null,null,0,null,null,0,null,null,0,null,null,0,null,null,0,null,null,0,null,null,0,null,null,0,null,null,0,null,null,0,null,null,0,null,null,0,null,null,0,null,null,0,null,null,0,null,null,0,null,null,0,null,null,0,null,null,0,null,null,0,null,null,0,null,null,0,null,null,0,null,null,0,null,null,0,null,null,0,null,null,0,null,null,0,null,null,0,null,null,0,null,null,0,null,null,0,null,null,0,null,null,0,null,null,0,null,null,0,null,null,0]
["7.2.9",null,"I","DK  140x120 cm ","two wings 140x120 cm ","kom/pcs",{"$f":"CENA!G125","v":0},0,0,null,{"$f":"$G134*J134","v":0},null,null,0,null,null,0,null,null,0,null,null,0,null,null,0,null,null,0,null,null,0,null,null,0,null,null,0,null,null,0,null,null,0,null,null,0,null,null,0,null,null,0,null,null,0,null,null,0,null,null,0,null,null,0,null,null,0,null,null,0,null,null,0,null,null,0,null,null,0,null,null,0,null,null,0,null,null,0,null,null,0,null,null,0,null,null,0,null,null,0,null,null,0,null,null,0,null,null,0,null,null,0,null,null,0,null,null,0,null,null,0,null,null,0,null,null,0,null,null,0,null,null,0,null,null,0,null,null,0,null,null,0,null,null,0,null,null,0,null,null,0,null,null,0,null,null,0,null,null,0,null,null,0,null,null,0,null,null,0,null,null,0,null,null,0,null,null,0,null,null,0,null,null,0,null,null,0,null,null,0,null,null,0,null,null,0,null,null,0,null,null,0,null,null,0,null,null,0,null,null,0,null,null,0,null,null,0]
["7.2.10",null,"J","DK  140x140 cm ","two wings 140x140 cm ","kom/pcs",{"$f":"CENA!G126","v":0},0,0,null,{"$f":"$G135*J135","v":0},null,null,0,null,null,0,null,null,0,null,null,0,null,null,0,null,null,0,null,null,0,null,null,0,null,null,0,null,null,0,null,null,0,null,null,0,null,null,0,null,null,0,null,null,0,null,null,0,null,null,0,null,null,0,null,null,0,null,null,0,null,null,0,null,null,0,null,null,0,null,null,0,null,null,0,null,null,0,null,null,0,null,null,0,null,null,0,null,null,0,null,null,0,null,null,0,null,null,0,null,null,0,null,null,0,null,null,0,null,null,0,null,null,0,null,null,0,null,null,0,null,null,0,null,null,0,null,null,0,null,null,0,null,null,0,null,null,0,null,null,0,null,null,0,null,null,0,null,null,0,null,null,0,null,null,0,null,null,0,null,null,0,null,null,0,null,null,0,null,null,0,null,null,0,null,null,0,null,null,0,null,null,0,null,null,0,null,null,0,null,null,0,null,null,0,null,null,0,null,null,0,null,null,0,null,null,0]
["7.2.11",null,"K","DK  160x120 cm","two wings 160x120 cm","kom/pcs",{"$f":"CENA!G127","v":0},0,0,null,{"$f":"$G136*J136","v":0},null,null,0,null,null,0,null,null,0,null,null,0,null,null,0,null,null,0,null,null,0,null,null,0,null,null,0,null,null,0,null,null,0,null,null,0,null,null,0,null,null,0,null,null,0,null,null,0,null,null,0,null,null,0,null,null,0,null,null,0,null,null,0,null,null,0,null,null,0,null,null,0,null,null,0,null,null,0,null,null,0,null,null,0,null,null,0,null,null,0,null,null,0,null,null,0,null,null,0,null,null,0,null,null,0,null,null,0,null,null,0,null,null,0,null,null,0,null,null,0,null,null,0,null,null,0,null,null,0,null,null,0,null,null,0,null,null,0,null,null,0,null,null,0,null,null,0,null,null,0,null,null,0,null,null,0,null,null,0,null,null,0,null,null,0,null,null,0,null,null,0,null,null,0,null,null,0,null,null,0,null,null,0,null,null,0,null,null,0,null,null,0,null,null,0,null,null,0,null,null,0,null,null,0,null,null,0]
["7.2.12",null,"L","DK  160x140 cm","two wings 160x140 cm","kom/pcs",{"$f":"CENA!G128","v":0},3,0,null,{"$f":"$G137*J137","v":0},null,null,0,null,3,0,null,null,0,null,null,0,null,null,0,null,null,0,null,null,0,null,null,0,null,null,0,null,null,0,null,null,0,null,null,0,null,null,0,null,null,0,null,null,0,null,null,0,null,null,0,null,null,0,null,null,0,null,null,0,null,null,0,null,null,0,null,null,0,null,null,0,null,null,0,null,null,0,null,null,0,null,null,0,null,null,0,null,null,0,null,null,0,null,null,0,null,null,0,null,null,0,null,null,0,null,null,0,null,null,0,null,null,0,null,null,0,null,null,0,null,null,0,null,null,0,null,null,0,null,null,0,null,null,0,null,null,0,null,null,0,null,null,0,null,null,0,null,null,0,null,null,0,null,null,0,null,null,0,null,null,0,null,null,0,null,null,0,null,null,0,null,null,0,null,null,0,null,null,0,null,null,0,null,null,0,null,null,0,null,null,0,null,null,0,null,null,0,null,null,0,null,null,0,null,null,0]
["7.3","S",3,"Krovni prozor sa  aluminijumskom opšivkom od laminirane i impregnirane čamove građe","Roof window with aluminum flashings of laminated and impregnated fir timber","/","/","/","/","/","/",null,"/","/",null,"/","/",null,"/","/",null,"/","/",null,"/","/",null,"/","/",null,"/","/",null,"/","/",null,"/","/",null,"/","/",null,"/","/",null,"/","/",null,"/","/",null,"/","/",null,"/","/",null,"/","/",null,"/","/",null,"/","/",null,"/","/",null,"/","/",null,"/","/",null,"/","/",null,"/","/",null,"/","/",null,"/","/",null,"/","/",null,"/","/",null,"/","/",null,"/","/",null,"/","/",null,"/","/",null,"/","/",null,"/","/",null,"/","/",null,"/","/",null,"/","/",null,"/","/",null,"/","/",null,"/","/",null,"/","/",null,"/","/",null,"/","/",null,"/","/",null,"/","/",null,"/","/",null,"/","/",null,"/","/",null,"/","/",null,"/","/",null,"/","/",null,"/","/",null,"/","/",null,"/","/",null,"/","/",null,"/","/",null,"/","/",null,"/","/",null,"/","/",null,"/","/",null,"/","/",null,"/","/",null,"/","/",null,"/","/",null,"/","/",null,"/","/",null,"/","/",null,"/","/",null,"/","/",null,"/","/"]
["7.3.1",null,"A","dimenzije 66 x 118   (širinaxvisina)","66 x 118 (width x height)","kom/pcs",{"$f":"CENA!G130","v":0},{"$f":"J139+M139+P139+S139+V139+Y139+AB139+AE139+AH139+AK139+AN139+AQ139+AZ139+AW139+AT139+BC139+BF139+BI139+BL139+BO139+BR139+BU139+BX139+CA139+CD139+CG139+CJ139+CM139+CP139+CS139+CV139+CY139+DB139+DE139+DH139+DK139+DN139+DQ139+DT139+DW139+DZ139+EC139+EF139+EI139+EL139+EO139+ER139+EU139+EX139+FA139+FD139+FG139+FJ139+FM139+FP139+FS139+FV139+FY139+GB139+GE139+GH139+GK139+GN139+GQ139+GT139+GW139+GZ139+HC139+HF139+HI139","v":0},{"$f":"G139*H139","v":0},null,{"$f":"$G139*J139","v":0},null,null,{"$f":"$G139*M139","v":0},null,null,{"$f":"$G139*P139","v":0},null,null,{"$f":"$G139*S139","v":0},null,null,{"$f":"$G139*V139","v":0},null,null,{"$f":"$G139*Y139","v":0},null,null,{"$f":"$G139*AB139","v":0},null,null,{"$f":"$G139*AE139","v":0},null,null,{"$f":"$G139*AH139","v":0},null,null,{"$f":"$G139*AK139","v":0},null,null,{"$f":"$G139*AN139","v":0},null,null,{"$f":"$G139*AQ139","v":0},null,null,{"$f":"$G139*AT139","v":0},null,null,{"$f":"$G139*AW139","v":0},null,null,{"$f":"$G139*AZ139","v":0},null,null,{"$f":"$G139*BC139","v":0},null,null,{"$f":"$G139*BF139","v":0},null,null,{"$f":"$G139*BI139","v":0},null,null,{"$f":"$G139*BL139","v":0},null,null,{"$f":"$G139*BO139","v":0},null,null,{"$f":"$G139*BR139","v":0},null,null,{"$f":"$G139*BU139","v":0},null,null,{"$f":"$G139*BX139","v":0},null,null,{"$f":"$G139*CA139","v":0},null,null,{"$f":"$G139*CD139","v":0},null,null,{"$f":"$G139*CG139","v":0},null,null,{"$f":"$G139*CJ139","v":0},null,null,{"$f":"$G139*CM139","v":0},null,null,{"$f":"$G139*CP139","v":0},null,null,{"$f":"$G139*CS139","v":0},null,null,{"$f":"$G139*CV139","v":0},null,null,{"$f":"$G139*CY139","v":0},null,null,{"$f":"$G139*DB139","v":0},null,null,{"$f":"$G139*DE139","v":0},null,null,{"$f":"$G139*DH139","v":0},null,null,{"$f":"$G139*DK139","v":0},null,null,{"$f":"$G139*DN139","v":0},null,null,{"$f":"$G139*DQ139","v":0},null,null,{"$f":"$G139*DT139","v":0},null,null,{"$f":"$G139*DW139","v":0},null,null,{"$f":"$G139*DZ139","v":0},null,null,{"$f":"$G139*EC139","v":0},null,null,{"$f":"$G139*EF139","v":0},null,null,{"$f":"$G139*EI139","v":0},null,null,{"$f":"$G139*EL139","v":0},null,null,{"$f":"$G139*EO139","v":0},null,null,{"$f":"$G139*ER139","v":0},null,null,{"$f":"$G139*EU139","v":0},null,null,{"$f":"$G139*EX139","v":0},null,null,{"$f":"$G139*FA139","v":0},null,null,{"$f":"$G139*FD139","v":0},null,null,{"$f":"$G139*FG139","v":0},null,null,{"$f":"$G139*FJ139","v":0},null,null,{"$f":"$G139*FM139","v":0},null,null,{"$f":"$G139*FP139","v":0},null,null,{"$f":"$G139*FS139","v":0},null,null,{"$f":"$G139*FV139","v":0},null,null,{"$f":"$G139*FY139","v":0},null,null,{"$f":"$G139*GB139","v":0},null,null,{"$f":"$G139*GE139","v":0},null,null,{"$f":"$G139*GH139","v":0},null,null,{"$f":"$G139*GK139","v":0},null,null,{"$f":"$G139*GN139","v":0},null,null,{"$f":"$G139*GQ139","v":0},null,null,{"$f":"$G139*GT139","v":0},null,null,{"$f":"$G139*GW139","v":0},null,null,{"$f":"$G139*GZ139","v":0},null,null,{"$f":"$G139*HC139","v":0},null,null,{"$f":"$G139*HF139","v":0},null,null,{"$f":"$G139*HI139","v":0}]
["7.3.2",null,"B","dimenzije 78 x 98     (širinaxvisina)","78 x 98   (width x height)","kom/pcs",{"$f":"CENA!G131","v":0},0,0,null,{"$f":"$G140*J140","v":0},null,null,0,null,null,{"$f":"$G140*P140","v":0},null,null,0,null,null,{"$f":"$G140*V140","v":0},null,null,{"$f":"$G140*Y140","v":0},null,null,{"$f":"$G140*AB140","v":0},null,null,{"$f":"$G140*AE140","v":0},null,null,{"$f":"$G140*AH140","v":0},null,null,{"$f":"$G140*AK140","v":0},null,null,{"$f":"$G140*AN140","v":0},null,null,{"$f":"$G140*AQ140","v":0},null,null,{"$f":"$G140*AT140","v":0},null,null,{"$f":"$G140*AW140","v":0},null,null,{"$f":"$G140*AZ140","v":0},null,null,{"$f":"$G140*BC140","v":0},null,null,0,null,null,0,null,null,{"$f":"$G140*BL140","v":0},null,null,0,null,null,{"$f":"$G140*BR140","v":0},null,null,{"$f":"$G140*BU140","v":0},null,null,{"$f":"$G140*BX140","v":0},null,null,{"$f":"$G140*CA140","v":0},null,null,{"$f":"$G140*CD140","v":0},null,null,{"$f":"$G140*CG140","v":0},null,null,{"$f":"$G140*CJ140","v":0},null,null,{"$f":"$G140*CM140","v":0},null,null,{"$f":"$G140*CP140","v":0},null,null,{"$f":"$G140*CS140","v":0},null,null,{"$f":"$G140*CV140","v":0},null,null,{"$f":"$G140*CY140","v":0},null,null,0,null,null,0,null,null,{"$f":"$G140*DH140","v":0},null,null,0,null,null,{"$f":"$G140*DN140","v":0},null,null,{"$f":"$G140*DQ140","v":0},null,null,{"$f":"$G140*DT140","v":0},null,null,{"$f":"$G140*DW140","v":0},null,null,{"$f":"$G140*DZ140","v":0},null,null,{"$f":"$G140*EC140","v":0},null,null,{"$f":"$G140*EF140","v":0},null,null,{"$f":"$G140*EI140","v":0},null,null,{"$f":"$G140*EL140","v":0},null,null,{"$f":"$G140*EO140","v":0},null,null,{"$f":"$G140*ER140","v":0},null,null,{"$f":"$G140*EU140","v":0},null,null,0,null,null,0,null,null,{"$f":"$G140*FD140","v":0},null,null,0,null,null,{"$f":"$G140*FJ140","v":0},null,null,{"$f":"$G140*FM140","v":0},null,null,{"$f":"$G140*FP140","v":0},null,null,{"$f":"$G140*FS140","v":0},null,null,{"$f":"$G140*FV140","v":0},null,null,{"$f":"$G140*FY140","v":0},null,null,{"$f":"$G140*GB140","v":0},null,null,{"$f":"$G140*GE140","v":0},null,null,{"$f":"$G140*GH140","v":0},null,null,{"$f":"$G140*GK140","v":0},null,null,{"$f":"$G140*GN140","v":0},null,null,{"$f":"$G140*GQ140","v":0},null,null,{"$f":"$G140*GT140","v":0},null,null,{"$f":"$G140*GW140","v":0},null,null,{"$f":"$G140*GZ140","v":0},null,null,{"$f":"$G140*HC140","v":0},null,null,{"$f":"$G140*HF140","v":0},null,null,{"$f":"$G140*HI140","v":0}]
["7.3.3",null,"C","dimenzije 78 x 118   (širinaxvisina)","78 x 118 (width x height)","kom/pcs",{"$f":"CENA!G132","v":0},0,0,null,{"$f":"$G141*J141","v":0},null,null,0,null,null,{"$f":"$G141*P141","v":0},null,null,0,null,null,{"$f":"$G141*V141","v":0},null,null,{"$f":"$G141*Y141","v":0},null,null,{"$f":"$G141*AB141","v":0},null,null,{"$f":"$G141*AE141","v":0},null,null,{"$f":"$G141*AH141","v":0},null,null,{"$f":"$G141*AK141","v":0},null,null,{"$f":"$G141*AN141","v":0},null,null,{"$f":"$G141*AQ141","v":0},null,null,{"$f":"$G141*AT141","v":0},null,null,{"$f":"$G141*AW141","v":0},null,null,{"$f":"$G141*AZ141","v":0},null,null,{"$f":"$G141*BC141","v":0},null,null,0,null,null,0,null,null,{"$f":"$G141*BL141","v":0},null,null,0,null,null,{"$f":"$G141*BR141","v":0},null,null,{"$f":"$G141*BU141","v":0},null,null,{"$f":"$G141*BX141","v":0},null,null,{"$f":"$G141*CA141","v":0},null,null,{"$f":"$G141*CD141","v":0},null,null,{"$f":"$G141*CG141","v":0},null,null,{"$f":"$G141*CJ141","v":0},null,null,{"$f":"$G141*CM141","v":0},null,null,{"$f":"$G141*CP141","v":0},null,null,{"$f":"$G141*CS141","v":0},null,null,{"$f":"$G141*CV141","v":0},null,null,{"$f":"$G141*CY141","v":0},null,null,0,null,null,0,null,null,{"$f":"$G141*DH141","v":0},null,null,0,null,null,{"$f":"$G141*DN141","v":0},null,null,{"$f":"$G141*DQ141","v":0},null,null,{"$f":"$G141*DT141","v":0},null,null,{"$f":"$G141*DW141","v":0},null,null,{"$f":"$G141*DZ141","v":0},null,null,{"$f":"$G141*EC141","v":0},null,null,{"$f":"$G141*EF141","v":0},null,null,{"$f":"$G141*EI141","v":0},null,null,{"$f":"$G141*EL141","v":0},null,null,{"$f":"$G141*EO141","v":0},null,null,{"$f":"$G141*ER141","v":0},null,null,{"$f":"$G141*EU141","v":0},null,null,0,null,null,0,null,null,{"$f":"$G141*FD141","v":0},null,null,0,null,null,{"$f":"$G141*FJ141","v":0},null,null,{"$f":"$G141*FM141","v":0},null,null,{"$f":"$G141*FP141","v":0},null,null,{"$f":"$G141*FS141","v":0},null,null,{"$f":"$G141*FV141","v":0},null,null,{"$f":"$G141*FY141","v":0},null,null,{"$f":"$G141*GB141","v":0},null,null,{"$f":"$G141*GE141","v":0},null,null,{"$f":"$G141*GH141","v":0},null,null,{"$f":"$G141*GK141","v":0},null,null,{"$f":"$G141*GN141","v":0},null,null,{"$f":"$G141*GQ141","v":0},null,null,{"$f":"$G141*GT141","v":0},null,null,{"$f":"$G141*GW141","v":0},null,null,{"$f":"$G141*GZ141","v":0},null,null,{"$f":"$G141*HC141","v":0},null,null,{"$f":"$G141*HF141","v":0},null,null,{"$f":"$G141*HI141","v":0}]
["7.4","S",4,"Balkonska vrata od PVC-a (komplet pozicija). \nboja profila: bela RAL 9003\nbroj komora: ≥  5 komora\nširina x visina (zidarske mere)","Balcony doors from PVC (set position)\nProfile color: white RAL 9003 \nNumber of chambers: ≥ 5 chambers \nwidth x height (masonry measures)","/","/","/","/","/","/",null,"/","/",null,"/","/",null,"/","/",null,"/","/",null,"/","/",null,"/","/",null,"/","/",null,"/","/",null,"/","/",null,"/","/",null,"/","/",null,"/","/",null,"/","/",null,"/","/",null,"/","/",null,"/","/",null,"/","/",null,"/","/",null,"/","/",null,"/","/",null,"/","/",null,"/","/",null,"/","/",null,"/","/",null,"/","/",null,"/","/",null,"/","/",null,"/","/",null,"/","/",null,"/","/",null,"/","/",null,"/","/",null,"/","/",null,"/","/",null,"/","/",null,"/","/",null,"/","/",null,"/","/",null,"/","/",null,"/","/",null,"/","/",null,"/","/",null,"/","/",null,"/","/",null,"/","/",null,"/","/",null,"/","/",null,"/","/",null,"/","/",null,"/","/",null,"/","/",null,"/","/",null,"/","/",null,"/","/",null,"/","/",null,"/","/",null,"/","/",null,"/","/",null,"/","/",null,"/","/",null,"/","/",null,"/","/",null,"/","/",null,"/","/",null,"/","/",null,"/","/",null,"/","/",null,"/","/",null,"/","/"]
["7.4.1",null,"A","JK     90x210 cm   - Leva","one wing  90x210 cm - Left     ","kom/pcs",{"$f":"CENA!G134","v":0},{"$f":"J143+M143+P143+S143+V143+Y143+AB143+AE143+AH143+AK143+AN143+AQ143+AZ143+AW143+AT143+BC143+BF143+BI143+BL143+BO143+BR143+BU143+BX143+CA143+CD143+CG143+CJ143+CM143+CP143+CS143+CV143+CY143+DB143+DE143+DH143+DK143+DN143+DQ143+DT143+DW143+DZ143+EC143+EF143+EI143+EL143+EO143+ER143+EU143+EX143+FA143+FD143+FG143+FJ143+FM143+FP143+FS143+FV143+FY143+GB143+GE143+GH143+GK143+GN143+GQ143+GT143+GW143+GZ143+HC143+HF143+HI143","v":0},{"$f":"G143*H143","v":0},null,{"$f":"$G143*J143","v":0},null,null,{"$f":"$G143*M143","v":0},null,null,{"$f":"$G143*P143","v":0},null,null,{"$f":"$G143*S143","v":0},null,null,{"$f":"$G143*V143","v":0},null,null,{"$f":"$G143*Y143","v":0},null,null,{"$f":"$G143*AB143","v":0},null,null,{"$f":"$G143*AE143","v":0},null,null,{"$f":"$G143*AH143","v":0},null,null,{"$f":"$G143*AK143","v":0},null,null,{"$f":"$G143*AN143","v":0},null,null,{"$f":"$G143*AQ143","v":0},null,null,{"$f":"$G143*AT143","v":0},null,null,{"$f":"$G143*AW143","v":0},null,null,{"$f":"$G143*AZ143","v":0},null,null,{"$f":"$G143*BC143","v":0},null,null,{"$f":"$G143*BF143","v":0},null,null,{"$f":"$G143*BI143","v":0},null,null,{"$f":"$G143*BL143","v":0},null,null,{"$f":"$G143*BO143","v":0},null,null,{"$f":"$G143*BR143","v":0},null,null,{"$f":"$G143*BU143","v":0},null,null,{"$f":"$G143*BX143","v":0},null,null,{"$f":"$G143*CA143","v":0},null,null,{"$f":"$G143*CD143","v":0},null,null,{"$f":"$G143*CG143","v":0},null,null,{"$f":"$G143*CJ143","v":0},null,null,{"$f":"$G143*CM143","v":0},null,null,{"$f":"$G143*CP143","v":0},null,null,{"$f":"$G143*CS143","v":0},null,null,{"$f":"$G143*CV143","v":0},null,null,{"$f":"$G143*CY143","v":0},null,null,{"$f":"$G143*DB143","v":0},null,null,{"$f":"$G143*DE143","v":0},null,null,{"$f":"$G143*DH143","v":0},null,null,{"$f":"$G143*DK143","v":0},null,null,{"$f":"$G143*DN143","v":0},null,null,{"$f":"$G143*DQ143","v":0},null,null,{"$f":"$G143*DT143","v":0},null,null,{"$f":"$G143*DW143","v":0},null,null,{"$f":"$G143*DZ143","v":0},null,null,{"$f":"$G143*EC143","v":0},null,null,{"$f":"$G143*EF143","v":0},null,null,{"$f":"$G143*EI143","v":0},null,null,{"$f":"$G143*EL143","v":0},null,null,{"$f":"$G143*EO143","v":0},null,null,{"$f":"$G143*ER143","v":0},null,null,{"$f":"$G143*EU143","v":0},null,null,{"$f":"$G143*EX143","v":0},null,null,{"$f":"$G143*FA143","v":0},null,null,{"$f":"$G143*FD143","v":0},null,null,{"$f":"$G143*FG143","v":0},null,null,{"$f":"$G143*FJ143","v":0},null,null,{"$f":"$G143*FM143","v":0},null,null,{"$f":"$G143*FP143","v":0},null,null,{"$f":"$G143*FS143","v":0},null,null,{"$f":"$G143*FV143","v":0},null,null,{"$f":"$G143*FY143","v":0},null,null,{"$f":"$G143*GB143","v":0},null,null,{"$f":"$G143*GE143","v":0},null,null,{"$f":"$G143*GH143","v":0},null,null,{"$f":"$G143*GK143","v":0},null,null,{"$f":"$G143*GN143","v":0},null,null,{"$f":"$G143*GQ143","v":0},null,null,{"$f":"$G143*GT143","v":0},null,null,{"$f":"$G143*GW143","v":0},null,null,{"$f":"$G143*GZ143","v":0},null,null,{"$f":"$G143*HC143","v":0},null,null,{"$f":"$G143*HF143","v":0},null,null,{"$f":"$G143*HI143","v":0}]
["7.4.2",null,"B","JK     90x210 cm   - Desna ","one wing  90x210 cm - Right    ","kom/pcs",{"$f":"CENA!G135","v":0},0,0,null,{"$f":"$G144*J144","v":0},null,null,0,null,null,{"$f":"$G144*P144","v":0},null,null,0,null,null,{"$f":"$G144*V144","v":0},null,null,{"$f":"$G144*Y144","v":0},null,null,{"$f":"$G144*AB144","v":0},null,null,{"$f":"$G144*AE144","v":0},null,null,{"$f":"$G144*AH144","v":0},null,null,{"$f":"$G144*AK144","v":0},null,null,{"$f":"$G144*AN144","v":0},null,null,{"$f":"$G144*AQ144","v":0},null,null,{"$f":"$G144*AT144","v":0},null,null,{"$f":"$G144*AW144","v":0},null,null,{"$f":"$G144*AZ144","v":0},null,null,{"$f":"$G144*BC144","v":0},null,null,0,null,null,0,null,null,{"$f":"$G144*BL144","v":0},null,null,0,null,null,{"$f":"$G144*BR144","v":0},null,null,{"$f":"$G144*BU144","v":0},null,null,{"$f":"$G144*BX144","v":0},null,null,{"$f":"$G144*CA144","v":0},null,null,{"$f":"$G144*CD144","v":0},null,null,{"$f":"$G144*CG144","v":0},null,null,{"$f":"$G144*CJ144","v":0},null,null,{"$f":"$G144*CM144","v":0},null,null,{"$f":"$G144*CP144","v":0},null,null,{"$f":"$G144*CS144","v":0},null,null,{"$f":"$G144*CV144","v":0},null,null,{"$f":"$G144*CY144","v":0},null,null,0,null,null,0,null,null,{"$f":"$G144*DH144","v":0},null,null,0,null,null,{"$f":"$G144*DN144","v":0},null,null,{"$f":"$G144*DQ144","v":0},null,null,{"$f":"$G144*DT144","v":0},null,null,{"$f":"$G144*DW144","v":0},null,null,{"$f":"$G144*DZ144","v":0},null,null,{"$f":"$G144*EC144","v":0},null,null,{"$f":"$G144*EF144","v":0},null,null,{"$f":"$G144*EI144","v":0},null,null,{"$f":"$G144*EL144","v":0},null,null,{"$f":"$G144*EO144","v":0},null,null,{"$f":"$G144*ER144","v":0},null,null,{"$f":"$G144*EU144","v":0},null,null,0,null,null,0,null,null,{"$f":"$G144*FD144","v":0},null,null,0,null,null,{"$f":"$G144*FJ144","v":0},null,null,{"$f":"$G144*FM144","v":0},null,null,{"$f":"$G144*FP144","v":0},null,null,{"$f":"$G144*FS144","v":0},null,null,{"$f":"$G144*FV144","v":0},null,null,{"$f":"$G144*FY144","v":0},null,null,{"$f":"$G144*GB144","v":0},null,null,{"$f":"$G144*GE144","v":0},null,null,{"$f":"$G144*GH144","v":0},null,null,{"$f":"$G144*GK144","v":0},null,null,{"$f":"$G144*GN144","v":0},null,null,{"$f":"$G144*GQ144","v":0},null,null,{"$f":"$G144*GT144","v":0},null,null,{"$f":"$G144*GW144","v":0},null,null,{"$f":"$G144*GZ144","v":0},null,null,{"$f":"$G144*HC144","v":0},null,null,{"$f":"$G144*HF144","v":0},null,null,{"$f":"$G144*HI144","v":0}]
["7.4.3",null,"C","DK  140x210 cm","two wings 140x210 cm","kom/pcs",{"$f":"CENA!G136","v":0},0,0,null,{"$f":"$G145*J145","v":0},null,null,0,null,null,{"$f":"$G145*P145","v":0},null,null,0,null,null,{"$f":"$G145*V145","v":0},null,null,{"$f":"$G145*Y145","v":0},null,null,{"$f":"$G145*AB145","v":0},null,null,{"$f":"$G145*AE145","v":0},null,null,{"$f":"$G145*AH145","v":0},null,null,{"$f":"$G145*AK145","v":0},null,null,{"$f":"$G145*AN145","v":0},null,null,{"$f":"$G145*AQ145","v":0},null,null,{"$f":"$G145*AT145","v":0},null,null,{"$f":"$G145*AW145","v":0},null,null,{"$f":"$G145*AZ145","v":0},null,null,{"$f":"$G145*BC145","v":0},null,null,0,null,null,0,null,null,{"$f":"$G145*BL145","v":0},null,null,0,null,null,{"$f":"$G145*BR145","v":0},null,null,{"$f":"$G145*BU145","v":0},null,null,{"$f":"$G145*BX145","v":0},null,null,{"$f":"$G145*CA145","v":0},null,null,{"$f":"$G145*CD145","v":0},null,null,{"$f":"$G145*CG145","v":0},null,null,{"$f":"$G145*CJ145","v":0},null,null,{"$f":"$G145*CM145","v":0},null,null,{"$f":"$G145*CP145","v":0},null,null,{"$f":"$G145*CS145","v":0},null,null,{"$f":"$G145*CV145","v":0},null,null,{"$f":"$G145*CY145","v":0},null,null,0,null,null,0,null,null,{"$f":"$G145*DH145","v":0},null,null,0,null,null,{"$f":"$G145*DN145","v":0},null,null,{"$f":"$G145*DQ145","v":0},null,null,{"$f":"$G145*DT145","v":0},null,null,{"$f":"$G145*DW145","v":0},null,null,{"$f":"$G145*DZ145","v":0},null,null,{"$f":"$G145*EC145","v":0},null,null,{"$f":"$G145*EF145","v":0},null,null,{"$f":"$G145*EI145","v":0},null,null,{"$f":"$G145*EL145","v":0},null,null,{"$f":"$G145*EO145","v":0},null,null,{"$f":"$G145*ER145","v":0},null,null,{"$f":"$G145*EU145","v":0},null,null,0,null,null,0,null,null,{"$f":"$G145*FD145","v":0},null,null,0,null,null,{"$f":"$G145*FJ145","v":0},null,null,{"$f":"$G145*FM145","v":0},null,null,{"$f":"$G145*FP145","v":0},null,null,{"$f":"$G145*FS145","v":0},null,null,{"$f":"$G145*FV145","v":0},null,null,{"$f":"$G145*FY145","v":0},null,null,{"$f":"$G145*GB145","v":0},null,null,{"$f":"$G145*GE145","v":0},null,null,{"$f":"$G145*GH145","v":0},null,null,{"$f":"$G145*GK145","v":0},null,null,{"$f":"$G145*GN145","v":0},null,null,{"$f":"$G145*GQ145","v":0},null,null,{"$f":"$G145*GT145","v":0},null,null,{"$f":"$G145*GW145","v":0},null,null,{"$f":"$G145*GZ145","v":0},null,null,{"$f":"$G145*HC145","v":0},null,null,{"$f":"$G145*HF145","v":0},null,null,{"$f":"$G145*HI145","v":0}]
["7.5","S",5,"Unutrašnja vrata sa ispunom od kartonskog saća (komplet pozicija). \nširina x visina (spoljna mera futera)","Internal doors filled with cardboard honeycomb (set position)\nwidth x height (external measures footer)","/","/","/","/","/","/",null,"/","/",null,"/","/",null,"/","/",null,"/","/",null,"/","/",null,"/","/",null,"/","/",null,"/","/",null,"/","/",null,"/","/",null,"/","/",null,"/","/",null,"/","/",null,"/","/",null,"/","/",null,"/","/",null,"/","/",null,"/","/",null,"/","/",null,"/","/",null,"/","/",null,"/","/",null,"/","/",null,"/","/",null,"/","/",null,"/","/",null,"/","/",null,"/","/",null,"/","/",null,"/","/",null,"/","/",null,"/","/",null,"/","/",null,"/","/",null,"/","/",null,"/","/",null,"/","/",null,"/","/",null,"/","/",null,"/","/",null,"/","/",null,"/","/",null,"/","/",null,"/","/",null,"/","/",null,"/","/",null,"/","/",null,"/","/",null,"/","/",null,"/","/",null,"/","/",null,"/","/",null,"/","/",null,"/","/",null,"/","/",null,"/","/",null,"/","/",null,"/","/",null,"/","/",null,"/","/",null,"/","/",null,"/","/",null,"/","/",null,"/","/",null,"/","/",null,"/","/",null,"/","/",null,"/","/",null,"/","/"]
["7.5.1",null,"A","70x205 cm - Leva  (dubina štoka 0-16 cm)","70x205 cm - Left     (depth door 0-16 cm)","kom/pcs",{"$f":"CENA!G138","v":0},{"$f":"J147+M147+P147+S147+V147+Y147+AB147+AE147+AH147+AK147+AN147+AQ147+AZ147+AW147+AT147+BC147+BF147+BI147+BL147+BO147+BR147+BU147+BX147+CA147+CD147+CG147+CJ147+CM147+CP147+CS147+CV147+CY147+DB147+DE147+DH147+DK147+DN147+DQ147+DT147+DW147+DZ147+EC147+EF147+EI147+EL147+EO147+ER147+EU147+EX147+FA147+FD147+FG147+FJ147+FM147+FP147+FS147+FV147+FY147+GB147+GE147+GH147+GK147+GN147+GQ147+GT147+GW147+GZ147+HC147+HF147+HI147","v":0},{"$f":"G147*H147","v":0},null,{"$f":"$G147*J147","v":0},null,null,{"$f":"$G147*M147","v":0},null,null,{"$f":"$G147*P147","v":0},null,null,{"$f":"$G147*S147","v":0},null,null,{"$f":"$G147*V147","v":0},null,null,{"$f":"$G147*Y147","v":0},null,null,{"$f":"$G147*AB147","v":0},null,null,{"$f":"$G147*AE147","v":0},null,null,{"$f":"$G147*AH147","v":0},null,null,{"$f":"$G147*AK147","v":0},null,null,{"$f":"$G147*AN147","v":0},null,null,{"$f":"$G147*AQ147","v":0},null,null,{"$f":"$G147*AT147","v":0},null,null,{"$f":"$G147*AW147","v":0},null,null,{"$f":"$G147*AZ147","v":0},null,null,{"$f":"$G147*BC147","v":0},null,null,{"$f":"$G147*BF147","v":0},null,null,{"$f":"$G147*BI147","v":0},null,null,{"$f":"$G147*BL147","v":0},null,null,{"$f":"$G147*BO147","v":0},null,null,{"$f":"$G147*BR147","v":0},null,null,{"$f":"$G147*BU147","v":0},null,null,{"$f":"$G147*BX147","v":0},null,null,{"$f":"$G147*CA147","v":0},null,null,{"$f":"$G147*CD147","v":0},null,null,{"$f":"$G147*CG147","v":0},null,null,{"$f":"$G147*CJ147","v":0},null,null,{"$f":"$G147*CM147","v":0},null,null,{"$f":"$G147*CP147","v":0},null,null,{"$f":"$G147*CS147","v":0},null,null,{"$f":"$G147*CV147","v":0},null,null,{"$f":"$G147*CY147","v":0},null,null,{"$f":"$G147*DB147","v":0},null,null,{"$f":"$G147*DE147","v":0},null,null,{"$f":"$G147*DH147","v":0},null,null,{"$f":"$G147*DK147","v":0},null,null,{"$f":"$G147*DN147","v":0},null,null,{"$f":"$G147*DQ147","v":0},null,null,{"$f":"$G147*DT147","v":0},null,null,{"$f":"$G147*DW147","v":0},null,null,{"$f":"$G147*DZ147","v":0},null,null,{"$f":"$G147*EC147","v":0},null,null,{"$f":"$G147*EF147","v":0},null,null,{"$f":"$G147*EI147","v":0},null,null,{"$f":"$G147*EL147","v":0},null,null,{"$f":"$G147*EO147","v":0},null,null,{"$f":"$G147*ER147","v":0},null,null,{"$f":"$G147*EU147","v":0},null,null,{"$f":"$G147*EX147","v":0},null,null,{"$f":"$G147*FA147","v":0},null,null,{"$f":"$G147*FD147","v":0},null,null,{"$f":"$G147*FG147","v":0},null,null,{"$f":"$G147*FJ147","v":0},null,null,{"$f":"$G147*FM147","v":0},null,null,{"$f":"$G147*FP147","v":0},null,null,{"$f":"$G147*FS147","v":0},null,null,{"$f":"$G147*FV147","v":0},null,null,{"$f":"$G147*FY147","v":0},null,null,{"$f":"$G147*GB147","v":0},null,null,{"$f":"$G147*GE147","v":0},null,null,{"$f":"$G147*GH147","v":0},null,null,{"$f":"$G147*GK147","v":0},null,null,{"$f":"$G147*GN147","v":0},null,null,{"$f":"$G147*GQ147","v":0},null,null,{"$f":"$G147*GT147","v":0},null,null,{"$f":"$G147*GW147","v":0},null,null,{"$f":"$G147*GZ147","v":0},null,null,{"$f":"$G147*HC147","v":0},null,null,{"$f":"$G147*HF147","v":0},null,null,{"$f":"$G147*HI147","v":0}]
["7.5.2",null,"B","70x205 cm - Leva  (dubina štoka 16-30 cm)","70x205 cm - Left     (depth door 16-30 cm)","kom/pcs",{"$f":"CENA!G139","v":0},0,0,null,{"$f":"$G148*J148","v":0},null,null,0,null,null,0,null,null,0,null,null,0,null,null,0,null,null,0,null,null,0,null,null,0,null,null,0,null,null,0,null,null,0,null,null,0,null,null,0,null,null,0,null,null,0,null,null,0,null,null,0,null,null,0,null,null,0,null,null,0,null,null,0,null,null,0,null,null,0,null,null,0,null,null,0,null,null,0,null,null,0,null,null,0,null,null,0,null,null,0,null,null,0,null,null,0,null,null,0,null,null,0,null,null,0,null,null,0,null,null,0,null,null,0,null,null,0,null,null,0,null,null,0,null,null,0,null,null,0,null,null,0,null,null,0,null,null,0,null,null,0,null,null,0,null,null,0,null,null,0,null,null,0,null,null,0,null,null,0,null,null,0,null,null,0,null,null,0,null,null,0,null,null,0,null,null,0,null,null,0,null,null,0,null,null,0,null,null,0,null,null,0,null,null,0,null,null,0,null,null,0,null,null,0,null,null,0]
["7.5.3",null,"C","70x205 cm - Desna (dubina štoka 0-16 cm)","70x205 cm - Right   (depth door  0-16 cm)","kom/pcs",{"$f":"CENA!G140","v":0},0,0,null,{"$f":"$G149*J149","v":0},null,null,0,null,null,0,null,null,0,null,null,0,null,null,0,null,null,0,null,null,0,null,null,0,null,null,0,null,null,0,null,null,0,null,null,0,null,null,0,null,null,0,null,null,0,null,null,0,null,null,0,null,null,0,null,null,0,null,null,0,null,null,0,null,null,0,null,null,0,null,null,0,null,null,0,null,null,0,null,null,0,null,null,0,null,null,0,null,null,0,null,null,0,null,null,0,null,null,0,null,null,0,null,null,0,null,null,0,null,null,0,null,null,0,null,null,0,null,null,0,null,null,0,null,null,0,null,null,0,null,null,0,null,null,0,null,null,0,null,null,0,null,null,0,null,null,0,null,null,0,null,null,0,null,null,0,null,null,0,null,null,0,null,null,0,null,null,0,null,null,0,null,null,0,null,null,0,null,null,0,null,null,0,null,null,0,null,null,0,null,null,0,null,null,0,null,null,0,null,null,0,null,null,0,null,null,0]
["7.5.4",null,"D","70x205 cm - Desna (dubina štoka 16-30 cm)","70x205 cm - Right   (depth door  16-30 cm)","kom/pcs",{"$f":"CENA!G141","v":0},0,0,null,{"$f":"$G150*J150","v":0},null,null,0,null,null,0,null,null,0,null,null,0,null,null,0,null,null,0,null,null,0,null,null,0,null,null,0,null,null,0,null,null,0,null,null,0,null,null,0,null,null,0,null,null,0,null,null,0,null,null,0,null,null,0,null,null,0,null,null,0,null,null,0,null,null,0,null,null,0,null,null,0,null,null,0,null,null,0,null,null,0,null,null,0,null,null,0,null,null,0,null,null,0,null,null,0,null,null,0,null,null,0,null,null,0,null,null,0,null,null,0,null,null,0,null,null,0,null,null,0,null,null,0,null,null,0,null,null,0,null,null,0,null,null,0,null,null,0,null,null,0,null,null,0,null,null,0,null,null,0,null,null,0,null,null,0,null,null,0,null,null,0,null,null,0,null,null,0,null,null,0,null,null,0,null,null,0,null,null,0,null,null,0,null,null,0,null,null,0,null,null,0,null,null,0,null,null,0,null,null,0,null,null,0,null,null,0]
["7.5.5",null,"E","80x205 cm - Leva  (dubina štoka 0-16 cm)","80x205 cm - Left     (depth door 0-16 cm)","kom/pcs",{"$f":"CENA!G142","v":0},0,0,null,{"$f":"$G151*J151","v":0},null,null,0,null,null,0,null,null,0,null,null,0,null,null,0,null,null,0,null,null,0,null,null,0,null,null,0,null,null,0,null,null,0,null,null,0,null,null,0,null,null,0,null,null,0,null,null,0,null,null,0,null,null,0,null,null,0,null,null,0,null,null,0,null,null,0,null,null,0,null,null,0,null,null,0,null,null,0,null,null,0,null,null,0,null,null,0,null,null,0,null,null,0,null,null,0,null,null,0,null,null,0,null,null,0,null,null,0,null,null,0,null,null,0,null,null,0,null,null,0,null,null,0,null,null,0,null,null,0,null,null,0,null,null,0,null,null,0,null,null,0,null,null,0,null,null,0,null,null,0,null,null,0,null,null,0,null,null,0,null,null,0,null,null,0,null,null,0,null,null,0,null,null,0,null,null,0,null,null,0,null,null,0,null,null,0,null,null,0,null,null,0,null,null,0,null,null,0,null,null,0,null,null,0,null,null,0]
["7.5.6",null,"F","80x205 cm - Leva  (dubina štoka 16-30 cm)","80x205 cm - Left     (depth door 16-30 cm)","kom/pcs",{"$f":"CENA!G143","v":0},0,0,null,{"$f":"$G152*J152","v":0},null,null,0,null,null,0,null,null,0,null,null,0,null,null,0,null,null,0,null,null,0,null,null,0,null,null,0,null,null,0,null,null,0,null,null,0,null,null,0,null,null,0,null,null,0,null,null,0,null,null,0,null,null,0,null,null,0,null,null,0,null,null,0,null,null,0,null,null,0,null,null,0,null,null,0,null,null,0,null,null,0,null,null,0,null,null,0,null,null,0,null,null,0,null,null,0,null,null,0,null,null,0,null,null,0,null,null,0,null,null,0,null,null,0,null,null,0,null,null,0,null,null,0,null,null,0,null,null,0,null,null,0,null,null,0,null,null,0,null,null,0,null,null,0,null,null,0,null,null,0,null,null,0,null,null,0,null,null,0,null,null,0,null,null,0,null,null,0,null,null,0,null,null,0,null,null,0,null,null,0,null,null,0,null,null,0,null,null,0,null,null,0,null,null,0,null,null,0,null,null,0,null,null,0,null,null,0]
["7.5.7",null,"G","80x205 cm - Desna (dubina štoka 0-16 cm)","80x205 cm - Right   (depth door  0-16 cm)","kom/pcs",{"$f":"CENA!G144","v":0},0,0,null,{"$f":"$G153*J153","v":0},null,null,0,null,null,0,null,null,0,null,null,0,null,null,0,null,null,0,null,null,0,null,null,0,null,null,0,null,null,0,null,null,0,null,null,0,null,null,0,null,null,0,null,null,0,null,null,0,null,null,0,null,null,0,null,null,0,null,null,0,null,null,0,null,null,0,null,null,0,null,null,0,null,null,0,null,null,0,null,null,0,null,null,0,null,null,0,null,null,0,null,null,0,null,null,0,null,null,0,null,null,0,null,null,0,null,null,0,null,null,0,null,null,0,null,null,0,null,null,0,null,null,0,null,null,0,null,null,0,null,null,0,null,null,0,null,null,0,null,null,0,null,null,0,null,null,0,null,null,0,null,null,0,null,null,0,null,null,0,null,null,0,null,null,0,null,null,0,null,null,0,null,null,0,null,null,0,null,null,0,null,null,0,null,null,0,null,null,0,null,null,0,null,null,0,null,null,0,null,null,0,null,null,0,null,null,0]
["7.5.8",null,"H","80x205 cm - Desna (dubina štoka 16-30 cm)","80x205 cm - Right   (depth door  16-30 cm)","kom/pcs",{"$f":"CENA!G145","v":0},0,0,null,{"$f":"$G154*J154","v":0},null,null,0,null,null,0,null,null,0,null,null,0,null,null,0,null,null,0,null,null,0,null,null,0,null,null,0,null,null,0,null,null,0,null,null,0,null,null,0,null,null,0,null,null,0,null,null,0,null,null,0,null,null,0,null,null,0,null,null,0,null,null,0,null,null,0,null,null,0,null,null,0,null,null,0,null,null,0,null,null,0,null,null,0,null,null,0,null,null,0,null,null,0,null,null,0,null,null,0,null,null,0,null,null,0,null,null,0,null,null,0,null,null,0,null,null,0,null,null,0,null,null,0,null,null,0,null,null,0,null,null,0,null,null,0,null,null,0,null,null,0,null,null,0,null,null,0,null,null,0,null,null,0,null,null,0,null,null,0,null,null,0,null,null,0,null,null,0,null,null,0,null,null,0,null,null,0,null,null,0,null,null,0,null,null,0,null,null,0,null,null,0,null,null,0,null,null,0,null,null,0,null,null,0,null,null,0]
["7.5.9",null,"I","90x205 cm - Leva  (dubina štoka 0-16 cm)","90x205 cm - Left     (depth door 0-16 cm)","kom/pcs",{"$f":"CENA!G146","v":0},0,0,null,{"$f":"$G155*J155","v":0},null,null,0,null,null,0,null,null,0,null,null,0,null,null,0,null,null,0,null,null,0,null,null,0,null,null,0,null,null,0,null,null,0,null,null,0,null,null,0,null,null,0,null,null,0,null,null,0,null,null,0,null,null,0,null,null,0,null,null,0,null,null,0,null,null,0,null,null,0,null,null,0,null,null,0,null,null,0,null,null,0,null,null,0,null,null,0,null,null,0,null,null,0,null,null,0,null,null,0,null,null,0,null,null,0,null,null,0,null,null,0,null,null,0,null,null,0,null,null,0,null,null,0,null,null,0,null,null,0,null,null,0,null,null,0,null,null,0,null,null,0,null,null,0,null,null,0,null,null,0,null,null,0,null,null,0,null,null,0,null,null,0,null,null,0,null,null,0,null,null,0,null,null,0,null,null,0,null,null,0,null,null,0,null,null,0,null,null,0,null,null,0,null,null,0,null,null,0,null,null,0,null,null,0,null,null,0]
["7.5.10",null,"J","90x205 cm - Leva  (dubina štoka 16-30 cm)","90x205 cm - Left     (depth door 16-30 cm)","kom/pcs",{"$f":"CENA!G147","v":0},0,0,null,{"$f":"$G156*J156","v":0},null,null,0,null,null,0,null,null,0,null,null,0,null,null,0,null,null,0,null,null,0,null,null,0,null,null,0,null,null,0,null,null,0,null,null,0,null,null,0,null,null,0,null,null,0,null,null,0,null,null,0,null,null,0,null,null,0,null,null,0,null,null,0,null,null,0,null,null,0,null,null,0,null,null,0,null,null,0,null,null,0,null,null,0,null,null,0,null,null,0,null,null,0,null,null,0,null,null,0,null,null,0,null,null,0,null,null,0,null,null,0,null,null,0,null,null,0,null,null,0,null,null,0,null,null,0,null,null,0,null,null,0,null,null,0,null,null,0,null,null,0,null,null,0,null,null,0,null,null,0,null,null,0,null,null,0,null,null,0,null,null,0,null,null,0,null,null,0,null,null,0,null,null,0,null,null,0,null,null,0,null,null,0,null,null,0,null,null,0,null,null,0,null,null,0,null,null,0,null,null,0,null,null,0,null,null,0]
["7.5.11",null,"K","90x205 cm - Desna (dubina štoka 0-16 cm)","90x205 cm - Right   (depth door  0-16 cm)","kom/pcs",{"$f":"CENA!G148","v":0},0,0,null,{"$f":"$G157*J157","v":0},null,null,0,null,null,0,null,null,0,null,null,0,null,null,0,null,null,0,null,null,0,null,null,0,null,null,0,null,null,0,null,null,0,null,null,0,null,null,0,null,null,0,null,null,0,null,null,0,null,null,0,null,null,0,null,null,0,null,null,0,null,null,0,null,null,0,null,null,0,null,null,0,null,null,0,null,null,0,null,null,0,null,null,0,null,null,0,null,null,0,null,null,0,null,null,0,null,null,0,null,null,0,null,null,0,null,null,0,null,null,0,null,null,0,null,null,0,null,null,0,null,null,0,null,null,0,null,null,0,null,null,0,null,null,0,null,null,0,null,null,0,null,null,0,null,null,0,null,null,0,null,null,0,null,null,0,null,null,0,null,null,0,null,null,0,null,null,0,null,null,0,null,null,0,null,null,0,null,null,0,null,null,0,null,null,0,null,null,0,null,null,0,null,null,0,null,null,0,null,null,0,null,null,0,null,null,0]
["7.5.12",null,"L","90x205 cm - Desna (dubina štoka 16-30 cm)","90x205 cm - Right   (depth door  16-30 cm)","kom/pcs",{"$f":"CENA!G149","v":0},0,0,null,{"$f":"$G158*J158","v":0},null,null,0,null,null,0,null,null,0,null,null,0,null,null,0,null,null,0,null,null,0,null,null,0,null,null,0,null,null,0,null,null,0,null,null,0,null,null,0,null,null,0,null,null,0,null,null,0,null,null,0,null,null,0,null,null,0,null,null,0,null,null,0,null,null,0,null,null,0,null,null,0,null,null,0,null,null,0,null,null,0,null,null,0,null,null,0,null,null,0,null,null,0,null,null,0,null,null,0,null,null,0,null,null,0,null,null,0,null,null,0,null,null,0,null,null,0,null,null,0,null,null,0,null,null,0,null,null,0,null,null,0,null,null,0,null,null,0,null,null,0,null,null,0,null,null,0,null,null,0,null,null,0,null,null,0,null,null,0,null,null,0,null,null,0,null,null,0,null,null,0,null,null,0,null,null,0,null,null,0,null,null,0,null,null,0,null,null,0,null,null,0,null,null,0,null,null,0,null,null,0,null,null,0,null,null,0]
[]
["8","D",null,"OSTALA OPREMA I MATERIJAL \n","OTHER EQUIPMENT AND SUPPLIES"]
["8.1","D",1,"Jednostruki dimnjak prečnika Ф 140 mm.\nTroslojni montažni dimnjački sistem namenjen za sva ložišta i sve vrste goriva, bez ventilacije.\nSastavljen je od: dimnjačke cevi od tehničke keramike, izolacije oko cevi dimnjaka od kamene vune minimalne specifične težine 80kg/m3, spoljneg dimnjačkog plašta od lakog betona, vatrostalnog lepka u kartušama, vatrootpornih i gasnonepropusnih atestiranih troslojnih vratanaca , kondenz posude, priključaka za reviziju i ložišta, krovne ploče od staklo betona, nosača tervola i tvrdih tervol ploča za priključke, ventilacione rešetke, dilatacione rozete od nerđajućeg čelika. \nSpoljna dimenzija dimnjačkog plašta za fi14cm=32x32cm.","A single chimney diameter 140 mm.\nThree-layer prefabricated chimney system designed for all furnaces and all types of fuel, with no ventilation. It is composed of: chimney pipe of technical ceramics, pipe insulation around the chimney of stone wool minimum specific weight of 80kg/m3, external chimney mantle of lightweight concrete, refractory adhesive in cartouches, fireproof and gas impermeable certified three-layer side door, condensate pots, connectors for the audit and furnaces, roof tiles of glass concrete girders Tervola and hard tervol plate connections, ventilation grilles, rosettes expansion of stainless steel. The external dimensions of the chimney sleeve fi14cm = 32x32cm.","m1",{"$f":"CENA!G152","v":0},{"$f":"J161+M161+P161+S161+V161+Y161+AB161+AE161+AH161+AK161+AN161+AQ161+AZ161+AW161+AT161+BC161+BF161+BI161+BL161+BO161+BR161+BU161+BX161+CA161+CD161+CG161+CJ161+CM161+CP161+CS161+CV161+CY161+DB161+DE161+DH161+DK161+DN161+DQ161+DT161+DW161+DZ161+EC161+EF161+EI161+EL161+EO161+ER161+EU161+EX161+FA161+FD161+FG161+FJ161+FM161+FP161+FS161+FV161+FY161+GB161+GE161+GH161+GK161+GN161+GQ161+GT161+GW161+GZ161+HC161+HF161+HI161","v":0},{"$f":"G161*H161","v":0},null,{"$f":"$G161*J161","v":0},null,null,{"$f":"$G161*M161","v":0},null,null,{"$f":"$G161*P161","v":0},null,null,{"$f":"$G161*S161","v":0},null,null,{"$f":"$G161*V161","v":0},null,null,{"$f":"$G161*Y161","v":0},null,null,{"$f":"$G161*AB161","v":0},null,null,{"$f":"$G161*AE161","v":0},null,null,{"$f":"$G161*AH161","v":0},null,null,{"$f":"$G161*AK161","v":0},null,null,{"$f":"$G161*AN161","v":0},null,null,{"$f":"$G161*AQ161","v":0},null,null,{"$f":"$G161*AT161","v":0},null,null,{"$f":"$G161*AW161","v":0},null,null,{"$f":"$G161*AZ161","v":0},null,null,{"$f":"$G161*BC161","v":0},null,null,{"$f":"$G161*BF161","v":0},null,null,{"$f":"$G161*BI161","v":0},null,null,{"$f":"$G161*BL161","v":0},null,null,{"$f":"$G161*BO161","v":0},null,null,{"$f":"$G161*BR161","v":0},null,null,{"$f":"$G161*BU161","v":0},null,null,{"$f":"$G161*BX161","v":0},null,null,{"$f":"$G161*CA161","v":0},null,null,{"$f":"$G161*CD161","v":0},null,null,{"$f":"$G161*CG161","v":0},null,null,{"$f":"$G161*CJ161","v":0},null,null,{"$f":"$G161*CM161","v":0},null,null,{"$f":"$G161*CP161","v":0},null,null,{"$f":"$G161*CS161","v":0},null,null,{"$f":"$G161*CV161","v":0},null,null,{"$f":"$G161*CY161","v":0},null,null,{"$f":"$G161*DB161","v":0},null,null,{"$f":"$G161*DE161","v":0},null,null,{"$f":"$G161*DH161","v":0},null,null,{"$f":"$G161*DK161","v":0},null,null,{"$f":"$G161*DN161","v":0},null,null,{"$f":"$G161*DQ161","v":0},null,null,{"$f":"$G161*DT161","v":0},null,null,{"$f":"$G161*DW161","v":0},null,null,{"$f":"$G161*DZ161","v":0},null,null,{"$f":"$G161*EC161","v":0},null,null,{"$f":"$G161*EF161","v":0},null,null,{"$f":"$G161*EI161","v":0},null,null,{"$f":"$G161*EL161","v":0},null,null,{"$f":"$G161*EO161","v":0},null,null,{"$f":"$G161*ER161","v":0},null,null,{"$f":"$G161*EU161","v":0},null,null,{"$f":"$G161*EX161","v":0},null,null,{"$f":"$G161*FA161","v":0},null,null,{"$f":"$G161*FD161","v":0},null,null,{"$f":"$G161*FG161","v":0},null,null,{"$f":"$G161*FJ161","v":0},null,null,{"$f":"$G161*FM161","v":0},null,null,{"$f":"$G161*FP161","v":0},null,null,{"$f":"$G161*FS161","v":0},null,null,{"$f":"$G161*FV161","v":0},null,null,{"$f":"$G161*FY161","v":0},null,null,{"$f":"$G161*GB161","v":0},null,null,{"$f":"$G161*GE161","v":0},null,null,{"$f":"$G161*GH161","v":0},null,null,{"$f":"$G161*GK161","v":0},null,null,{"$f":"$G161*GN161","v":0},null,null,{"$f":"$G161*GQ161","v":0},null,null,{"$f":"$G161*GT161","v":0},null,null,{"$f":"$G161*GW161","v":0},null,null,{"$f":"$G161*GZ161","v":0},null,null,{"$f":"$G161*HC161","v":0},null,null,{"$f":"$G161*HF161","v":0},null,null,{"$f":"$G161*HI161","v":0}]
[]
["9","V",null,"Vodovod Kanalizacija Oprema","WATER SUPPLY AND SEWAGE"]
[null,null,null,"Vodovod","WATER SUPPLY"]
["9.1","V",1,"Vodovodne polietilenske cevi  PE 100 PN16\nza radni pritisak 16 bara (SDR 11)","Water supply polyethylene pipe PE 100 PN16\nthe working pressure of 16 bar (SDR 11)","/","/","/","/","/","/",null,null,"/",null,"/","/",null,"/","/",null,"/","/",null,"/","/",null,"/","/",null,"/","/",null,"/","/",null,"/","/",null,"/","/",null,"/","/",null,"/","/",null,"/","/",null,"/","/",null,"/","/",null,"/","/",null,null,"/",null,"/","/",null,"/","/",null,"/","/",null,"/","/",null,"/","/",null,"/","/",null,"/","/",null,"/","/",null,"/","/",null,"/","/",null,"/","/",null,"/","/",null,"/","/",null,"/","/",null,"/","/",null,null,"/",null,"/","/",null,"/","/",null,"/","/",null,"/","/",null,"/","/",null,"/","/",null,"/","/",null,"/","/",null,"/","/",null,"/","/",null,"/","/",null,"/","/",null,"/","/",null,"/","/",null,"/","/",null,null,"/",null,"/","/",null,"/","/",null,"/","/",null,"/","/",null,"/","/",null,"/","/",null,"/","/",null,"/","/",null,"/","/",null,"/","/",null,"/","/",null,"/","/",null,"/","/",null,"/","/",null,"/","/",null,"/","/",null,"/","/",null,"/","/",null,"/","/",null,"/","/"]
["9.1.1",null,"A","d25  (s min. 2,3)    - 3/4\"","d25  (s min. 2,3)    - 3/4\"","m1",{"$f":"CENA!G157","v":0},{"$f":"J166+M166+P166+S166+V166+Y166+AB166+AE166+AH166+AK166+AN166+AQ166+AZ166+AW166+AT166+BC166+BF166+BI166+BL166+BO166+BR166+BU166+BX166+CA166+CD166+CG166+CJ166+CM166+CP166+CS166+CV166+CY166+DB166+DE166+DH166+DK166+DN166+DQ166+DT166+DW166+DZ166+EC166+EF166+EI166+EL166+EO166+ER166+EU166+EX166+FA166+FD166+FG166+FJ166+FM166+FP166+FS166+FV166+FY166+GB166+GE166+GH166+GK166+GN166+GQ166+GT166+GW166+GZ166+HC166+HF166+HI166","v":0},{"$f":"G166*H166","v":0},null,{"$f":"$G166*J166","v":0},null,null,{"$f":"$G166*M166","v":0},null,null,{"$f":"$G166*P166","v":0},null,null,{"$f":"$G166*S166","v":0},null,null,{"$f":"$G166*V166","v":0},null,null,{"$f":"$G166*Y166","v":0},null,null,{"$f":"$G166*AB166","v":0},null,null,{"$f":"$G166*AE166","v":0},null,null,{"$f":"$G166*AH166","v":0},null,null,{"$f":"$G166*AK166","v":0},null,null,{"$f":"$G166*AN166","v":0},null,null,{"$f":"$G166*AQ166","v":0},null,null,{"$f":"$G166*AT166","v":0},null,null,{"$f":"$G166*AW166","v":0},null,null,{"$f":"$G166*AZ166","v":0},null,null,{"$f":"$G166*BC166","v":0},null,null,{"$f":"$G166*BF166","v":0},null,null,{"$f":"$G166*BI166","v":0},null,null,{"$f":"$G166*BL166","v":0},null,null,{"$f":"$G166*BO166","v":0},null,null,{"$f":"$G166*BR166","v":0},null,null,{"$f":"$G166*BU166","v":0},null,null,{"$f":"$G166*BX166","v":0},null,null,{"$f":"$G166*CA166","v":0},null,null,{"$f":"$G166*CD166","v":0},null,null,{"$f":"$G166*CG166","v":0},null,null,{"$f":"$G166*CJ166","v":0},null,null,{"$f":"$G166*CM166","v":0},null,null,{"$f":"$G166*CP166","v":0},null,null,{"$f":"$G166*CS166","v":0},null,null,{"$f":"$G166*CV166","v":0},null,null,{"$f":"$G166*CY166","v":0},null,null,{"$f":"$G166*DB166","v":0},null,null,{"$f":"$G166*DE166","v":0},null,null,{"$f":"$G166*DH166","v":0},null,null,{"$f":"$G166*DK166","v":0},null,null,{"$f":"$G166*DN166","v":0},null,null,{"$f":"$G166*DQ166","v":0},null,null,{"$f":"$G166*DT166","v":0},null,null,{"$f":"$G166*DW166","v":0},null,null,{"$f":"$G166*DZ166","v":0},null,null,{"$f":"$G166*EC166","v":0},null,null,{"$f":"$G166*EF166","v":0},null,null,{"$f":"$G166*EI166","v":0},null,null,{"$f":"$G166*EL166","v":0},null,null,{"$f":"$G166*EO166","v":0},null,null,{"$f":"$G166*ER166","v":0},null,null,{"$f":"$G166*EU166","v":0},null,null,{"$f":"$G166*EX166","v":0},null,null,{"$f":"$G166*FA166","v":0},null,null,{"$f":"$G166*FD166","v":0},null,null,{"$f":"$G166*FG166","v":0},null,null,{"$f":"$G166*FJ166","v":0},null,null,{"$f":"$G166*FM166","v":0},null,null,{"$f":"$G166*FP166","v":0},null,null,{"$f":"$G166*FS166","v":0},null,null,{"$f":"$G166*FV166","v":0},null,null,{"$f":"$G166*FY166","v":0},null,null,{"$f":"$G166*GB166","v":0},null,null,{"$f":"$G166*GE166","v":0},null,null,{"$f":"$G166*GH166","v":0},null,null,{"$f":"$G166*GK166","v":0},null,null,{"$f":"$G166*GN166","v":0},null,null,{"$f":"$G166*GQ166","v":0},null,null,{"$f":"$G166*GT166","v":0},null,null,{"$f":"$G166*GW166","v":0},null,null,{"$f":"$G166*GZ166","v":0},null,null,{"$f":"$G166*HC166","v":0},null,null,{"$f":"$G166*HF166","v":0},null,null,{"$f":"$G166*HI166","v":0}]
["9.1.2",null,"B","d32  (s min. 3,0)   -       1\"","d32  (s min. 3,0)   -       1\"","m1",{"$f":"CENA!G158","v":0},0,0,null,{"$f":"$G167*J167","v":0},null,null,0,null,null,{"$f":"$G167*P167","v":0},null,null,{"$f":"$G167*S167","v":0},null,null,{"$f":"$G167*V167","v":0},null,null,{"$f":"$G167*Y167","v":0},null,null,{"$f":"$G167*AB167","v":0},null,null,{"$f":"$G167*AE167","v":0},null,null,{"$f":"$G167*AH167","v":0},null,null,{"$f":"$G167*AK167","v":0},null,null,{"$f":"$G167*AN167","v":0},null,null,{"$f":"$G167*AQ167","v":0},null,null,{"$f":"$G167*AT167","v":0},null,null,{"$f":"$G167*AW167","v":0},null,null,{"$f":"$G167*AZ167","v":0},null,null,{"$f":"$G167*BC167","v":0},null,null,0,null,null,0,null,null,{"$f":"$G167*BL167","v":0},null,null,{"$f":"$G167*BO167","v":0},null,null,{"$f":"$G167*BR167","v":0},null,null,{"$f":"$G167*BU167","v":0},null,null,{"$f":"$G167*BX167","v":0},null,null,{"$f":"$G167*CA167","v":0},null,null,{"$f":"$G167*CD167","v":0},null,null,{"$f":"$G167*CG167","v":0},null,null,{"$f":"$G167*CJ167","v":0},null,null,{"$f":"$G167*CM167","v":0},null,null,{"$f":"$G167*CP167","v":0},null,null,{"$f":"$G167*CS167","v":0},null,null,{"$f":"$G167*CV167","v":0},null,null,{"$f":"$G167*CY167","v":0},null,null,0,null,null,0,null,null,{"$f":"$G167*DH167","v":0},null,null,{"$f":"$G167*DK167","v":0},null,null,{"$f":"$G167*DN167","v":0},null,null,{"$f":"$G167*DQ167","v":0},null,null,{"$f":"$G167*DT167","v":0},null,null,{"$f":"$G167*DW167","v":0},null,null,{"$f":"$G167*DZ167","v":0},null,null,{"$f":"$G167*EC167","v":0},null,null,{"$f":"$G167*EF167","v":0},null,null,{"$f":"$G167*EI167","v":0},null,null,{"$f":"$G167*EL167","v":0},null,null,{"$f":"$G167*EO167","v":0},null,null,{"$f":"$G167*ER167","v":0},null,null,{"$f":"$G167*EU167","v":0},null,null,0,null,null,0,null,null,{"$f":"$G167*FD167","v":0},null,null,{"$f":"$G167*FG167","v":0},null,null,{"$f":"$G167*FJ167","v":0},null,null,{"$f":"$G167*FM167","v":0},null,null,{"$f":"$G167*FP167","v":0},null,null,{"$f":"$G167*FS167","v":0},null,null,{"$f":"$G167*FV167","v":0},null,null,{"$f":"$G167*FY167","v":0},null,null,{"$f":"$G167*GB167","v":0},null,null,{"$f":"$G167*GE167","v":0},null,null,{"$f":"$G167*GH167","v":0},null,null,{"$f":"$G167*GK167","v":0},null,null,{"$f":"$G167*GN167","v":0},null,null,{"$f":"$G167*GQ167","v":0},null,null,{"$f":"$G167*GT167","v":0},null,null,{"$f":"$G167*GW167","v":0},null,null,{"$f":"$G167*GZ167","v":0},null,null,{"$f":"$G167*HC167","v":0},null,null,{"$f":"$G167*HF167","v":0},null,null,{"$f":"$G167*HI167","v":0}]
["9.1.3",null,"C","d40  (s min. 3,7)   -  5/4\"","d40  (s min. 3,7)   -  5/4\"","m1",{"$f":"CENA!G159","v":0},0,0,null,{"$f":"$G168*J168","v":0},null,null,0,null,null,{"$f":"$G168*P168","v":0},null,null,{"$f":"$G168*S168","v":0},null,null,{"$f":"$G168*V168","v":0},null,null,{"$f":"$G168*Y168","v":0},null,null,{"$f":"$G168*AB168","v":0},null,null,{"$f":"$G168*AE168","v":0},null,null,{"$f":"$G168*AH168","v":0},null,null,{"$f":"$G168*AK168","v":0},null,null,{"$f":"$G168*AN168","v":0},null,null,{"$f":"$G168*AQ168","v":0},null,null,{"$f":"$G168*AT168","v":0},null,null,{"$f":"$G168*AW168","v":0},null,null,{"$f":"$G168*AZ168","v":0},null,null,{"$f":"$G168*BC168","v":0},null,null,0,null,null,0,null,null,{"$f":"$G168*BL168","v":0},null,null,{"$f":"$G168*BO168","v":0},null,null,{"$f":"$G168*BR168","v":0},null,null,{"$f":"$G168*BU168","v":0},null,null,{"$f":"$G168*BX168","v":0},null,null,{"$f":"$G168*CA168","v":0},null,null,{"$f":"$G168*CD168","v":0},null,null,{"$f":"$G168*CG168","v":0},null,null,{"$f":"$G168*CJ168","v":0},null,null,{"$f":"$G168*CM168","v":0},null,null,{"$f":"$G168*CP168","v":0},null,null,{"$f":"$G168*CS168","v":0},null,null,{"$f":"$G168*CV168","v":0},null,null,{"$f":"$G168*CY168","v":0},null,null,0,null,null,0,null,null,{"$f":"$G168*DH168","v":0},null,null,{"$f":"$G168*DK168","v":0},null,null,{"$f":"$G168*DN168","v":0},null,null,{"$f":"$G168*DQ168","v":0},null,null,{"$f":"$G168*DT168","v":0},null,null,{"$f":"$G168*DW168","v":0},null,null,{"$f":"$G168*DZ168","v":0},null,null,{"$f":"$G168*EC168","v":0},null,null,{"$f":"$G168*EF168","v":0},null,null,{"$f":"$G168*EI168","v":0},null,null,{"$f":"$G168*EL168","v":0},null,null,{"$f":"$G168*EO168","v":0},null,null,{"$f":"$G168*ER168","v":0},null,null,{"$f":"$G168*EU168","v":0},null,null,0,null,null,0,null,null,{"$f":"$G168*FD168","v":0},null,null,{"$f":"$G168*FG168","v":0},null,null,{"$f":"$G168*FJ168","v":0},null,null,{"$f":"$G168*FM168","v":0},null,null,{"$f":"$G168*FP168","v":0},null,null,{"$f":"$G168*FS168","v":0},null,null,{"$f":"$G168*FV168","v":0},null,null,{"$f":"$G168*FY168","v":0},null,null,{"$f":"$G168*GB168","v":0},null,null,{"$f":"$G168*GE168","v":0},null,null,{"$f":"$G168*GH168","v":0},null,null,{"$f":"$G168*GK168","v":0},null,null,{"$f":"$G168*GN168","v":0},null,null,{"$f":"$G168*GQ168","v":0},null,null,{"$f":"$G168*GT168","v":0},null,null,{"$f":"$G168*GW168","v":0},null,null,{"$f":"$G168*GZ168","v":0},null,null,{"$f":"$G168*HC168","v":0},null,null,{"$f":"$G168*HF168","v":0},null,null,{"$f":"$G168*HI168","v":0}]
["9.2","V",2,"Vodovodne cevi  PP-R 80 PN20 \nza radni pritisak 20 bara, bele ili zelene boje\n(materijal: polipropilen-random kapolimer)","Water pipe PP-R 80 PN20 \nthe working pressure of 20 bar, white or green \n(material: polypropylene random kapolimer)","/","/","/","/","/","/",null,null,"/",null,"/","/",null,"/","/",null,"/","/",null,"/","/",null,"/","/",null,"/","/",null,"/","/",null,"/","/",null,"/","/",null,"/","/",null,"/","/",null,"/","/",null,"/","/",null,"/","/",null,"/","/",null,null,"/",null,"/","/",null,"/","/",null,"/","/",null,"/","/",null,"/","/",null,"/","/",null,"/","/",null,"/","/",null,"/","/",null,"/","/",null,"/","/",null,"/","/",null,"/","/",null,"/","/",null,"/","/",null,null,"/",null,"/","/",null,"/","/",null,"/","/",null,"/","/",null,"/","/",null,"/","/",null,"/","/",null,"/","/",null,"/","/",null,"/","/",null,"/","/",null,"/","/",null,"/","/",null,"/","/",null,"/","/",null,null,"/",null,"/","/",null,"/","/",null,"/","/",null,"/","/",null,"/","/",null,"/","/",null,"/","/",null,"/","/",null,"/","/",null,"/","/",null,"/","/",null,"/","/",null,"/","/",null,"/","/",null,"/","/",null,"/","/",null,"/","/",null,"/","/",null,"/","/",null,"/","/"]
["9.2.1",null,"B","d20  (s min.   3,4)    - 1/2\"","d20  (s min.   3,4)    - 1/2\"","m1",{"$f":"CENA!G161","v":0},{"$f":"J170+M170+P170+S170+V170+Y170+AB170+AE170+AH170+AK170+AN170+AQ170+AZ170+AW170+AT170+BC170+BF170+BI170+BL170+BO170+BR170+BU170+BX170+CA170+CD170+CG170+CJ170+CM170+CP170+CS170+CV170+CY170+DB170+DE170+DH170+DK170+DN170+DQ170+DT170+DW170+DZ170+EC170+EF170+EI170+EL170+EO170+ER170+EU170+EX170+FA170+FD170+FG170+FJ170+FM170+FP170+FS170+FV170+FY170+GB170+GE170+GH170+GK170+GN170+GQ170+GT170+GW170+GZ170+HC170+HF170+HI170","v":0},{"$f":"G170*H170","v":0},null,{"$f":"$G170*J170","v":0},null,null,{"$f":"$G170*M170","v":0},null,null,{"$f":"$G170*P170","v":0},null,null,{"$f":"$G170*S170","v":0},null,null,{"$f":"$G170*V170","v":0},null,null,{"$f":"$G170*Y170","v":0},null,null,{"$f":"$G170*AB170","v":0},null,null,{"$f":"$G170*AE170","v":0},null,null,{"$f":"$G170*AH170","v":0},null,null,{"$f":"$G170*AK170","v":0},null,null,{"$f":"$G170*AN170","v":0},null,null,{"$f":"$G170*AQ170","v":0},null,null,{"$f":"$G170*AT170","v":0},null,null,{"$f":"$G170*AW170","v":0},null,null,{"$f":"$G170*AZ170","v":0},null,null,{"$f":"$G170*BC170","v":0},null,null,{"$f":"$G170*BF170","v":0},null,null,{"$f":"$G170*BI170","v":0},null,null,{"$f":"$G170*BL170","v":0},null,null,{"$f":"$G170*BO170","v":0},null,null,{"$f":"$G170*BR170","v":0},null,null,{"$f":"$G170*BU170","v":0},null,null,{"$f":"$G170*BX170","v":0},null,null,{"$f":"$G170*CA170","v":0},null,null,{"$f":"$G170*CD170","v":0},null,null,{"$f":"$G170*CG170","v":0},null,null,{"$f":"$G170*CJ170","v":0},null,null,{"$f":"$G170*CM170","v":0},null,null,{"$f":"$G170*CP170","v":0},null,null,{"$f":"$G170*CS170","v":0},null,null,{"$f":"$G170*CV170","v":0},null,null,{"$f":"$G170*CY170","v":0},null,null,{"$f":"$G170*DB170","v":0},null,null,{"$f":"$G170*DE170","v":0},null,null,{"$f":"$G170*DH170","v":0},null,null,{"$f":"$G170*DK170","v":0},null,null,{"$f":"$G170*DN170","v":0},null,null,{"$f":"$G170*DQ170","v":0},null,null,{"$f":"$G170*DT170","v":0},null,null,{"$f":"$G170*DW170","v":0},null,null,{"$f":"$G170*DZ170","v":0},null,null,{"$f":"$G170*EC170","v":0},null,null,{"$f":"$G170*EF170","v":0},null,null,{"$f":"$G170*EI170","v":0},null,null,{"$f":"$G170*EL170","v":0},null,null,{"$f":"$G170*EO170","v":0},null,null,{"$f":"$G170*ER170","v":0},null,null,{"$f":"$G170*EU170","v":0},null,null,{"$f":"$G170*EX170","v":0},null,null,{"$f":"$G170*FA170","v":0},null,null,{"$f":"$G170*FD170","v":0},null,null,{"$f":"$G170*FG170","v":0},null,null,{"$f":"$G170*FJ170","v":0},null,null,{"$f":"$G170*FM170","v":0},null,null,{"$f":"$G170*FP170","v":0},null,null,{"$f":"$G170*FS170","v":0},null,null,{"$f":"$G170*FV170","v":0},null,null,{"$f":"$G170*FY170","v":0},null,null,{"$f":"$G170*GB170","v":0},null,null,{"$f":"$G170*GE170","v":0},null,null,{"$f":"$G170*GH170","v":0},null,null,{"$f":"$G170*GK170","v":0},null,null,{"$f":"$G170*GN170","v":0},null,null,{"$f":"$G170*GQ170","v":0},null,null,{"$f":"$G170*GT170","v":0},null,null,{"$f":"$G170*GW170","v":0},null,null,{"$f":"$G170*GZ170","v":0},null,null,{"$f":"$G170*HC170","v":0},null,null,{"$f":"$G170*HF170","v":0},null,null,{"$f":"$G170*HI170","v":0}]
["9.2.2",null,"C","d25  (s min.   4,2)    - 3/4\"","d25  (s min.   4,2)    - 3/4\"","m1",{"$f":"CENA!G162","v":0},0,0,null,{"$f":"$G171*J171","v":0},null,null,0,null,null,{"$f":"$G171*P171","v":0},null,null,{"$f":"$G171*S171","v":0},null,null,{"$f":"$G171*V171","v":0},null,null,{"$f":"$G171*Y171","v":0},null,null,{"$f":"$G171*AB171","v":0},null,null,{"$f":"$G171*AE171","v":0},null,null,{"$f":"$G171*AH171","v":0},null,null,{"$f":"$G171*AK171","v":0},null,null,{"$f":"$G171*AN171","v":0},null,null,{"$f":"$G171*AQ171","v":0},null,null,{"$f":"$G171*AT171","v":0},null,null,{"$f":"$G171*AW171","v":0},null,null,{"$f":"$G171*AZ171","v":0},null,null,{"$f":"$G171*BC171","v":0},null,null,0,null,null,0,null,null,{"$f":"$G171*BL171","v":0},null,null,{"$f":"$G171*BO171","v":0},null,null,{"$f":"$G171*BR171","v":0},null,null,{"$f":"$G171*BU171","v":0},null,null,{"$f":"$G171*BX171","v":0},null,null,{"$f":"$G171*CA171","v":0},null,null,{"$f":"$G171*CD171","v":0},null,null,{"$f":"$G171*CG171","v":0},null,null,{"$f":"$G171*CJ171","v":0},null,null,{"$f":"$G171*CM171","v":0},null,null,{"$f":"$G171*CP171","v":0},null,null,{"$f":"$G171*CS171","v":0},null,null,{"$f":"$G171*CV171","v":0},null,null,{"$f":"$G171*CY171","v":0},null,null,0,null,null,0,null,null,{"$f":"$G171*DH171","v":0},null,null,{"$f":"$G171*DK171","v":0},null,null,{"$f":"$G171*DN171","v":0},null,null,{"$f":"$G171*DQ171","v":0},null,null,{"$f":"$G171*DT171","v":0},null,null,{"$f":"$G171*DW171","v":0},null,null,{"$f":"$G171*DZ171","v":0},null,null,{"$f":"$G171*EC171","v":0},null,null,{"$f":"$G171*EF171","v":0},null,null,{"$f":"$G171*EI171","v":0},null,null,{"$f":"$G171*EL171","v":0},null,null,{"$f":"$G171*EO171","v":0},null,null,{"$f":"$G171*ER171","v":0},null,null,{"$f":"$G171*EU171","v":0},null,null,0,null,null,0,null,null,{"$f":"$G171*FD171","v":0},null,null,{"$f":"$G171*FG171","v":0},null,null,{"$f":"$G171*FJ171","v":0},null,null,{"$f":"$G171*FM171","v":0},null,null,{"$f":"$G171*FP171","v":0},null,null,{"$f":"$G171*FS171","v":0},null,null,{"$f":"$G171*FV171","v":0},null,null,{"$f":"$G171*FY171","v":0},null,null,{"$f":"$G171*GB171","v":0},null,null,{"$f":"$G171*GE171","v":0},null,null,{"$f":"$G171*GH171","v":0},null,null,{"$f":"$G171*GK171","v":0},null,null,{"$f":"$G171*GN171","v":0},null,null,{"$f":"$G171*GQ171","v":0},null,null,{"$f":"$G171*GT171","v":0},null,null,{"$f":"$G171*GW171","v":0},null,null,{"$f":"$G171*GZ171","v":0},null,null,{"$f":"$G171*HC171","v":0},null,null,{"$f":"$G171*HF171","v":0},null,null,{"$f":"$G171*HI171","v":0}]
["9.2.3",null,"D","d32  (s min.   5,4)    -     1\"","d32  (s min.   5,4)    -     1\"","m1",{"$f":"CENA!G163","v":0},0,0,null,{"$f":"$G172*J172","v":0},null,null,0,null,null,{"$f":"$G172*P172","v":0},null,null,{"$f":"$G172*S172","v":0},null,null,{"$f":"$G172*V172","v":0},null,null,{"$f":"$G172*Y172","v":0},null,null,{"$f":"$G172*AB172","v":0},null,null,{"$f":"$G172*AE172","v":0},null,null,{"$f":"$G172*AH172","v":0},null,null,{"$f":"$G172*AK172","v":0},null,null,{"$f":"$G172*AN172","v":0},null,null,{"$f":"$G172*AQ172","v":0},null,null,{"$f":"$G172*AT172","v":0},null,null,{"$f":"$G172*AW172","v":0},null,null,{"$f":"$G172*AZ172","v":0},null,null,{"$f":"$G172*BC172","v":0},null,null,0,null,null,0,null,null,{"$f":"$G172*BL172","v":0},null,null,{"$f":"$G172*BO172","v":0},null,null,{"$f":"$G172*BR172","v":0},null,null,{"$f":"$G172*BU172","v":0},null,null,{"$f":"$G172*BX172","v":0},null,null,{"$f":"$G172*CA172","v":0},null,null,{"$f":"$G172*CD172","v":0},null,null,{"$f":"$G172*CG172","v":0},null,null,{"$f":"$G172*CJ172","v":0},null,null,{"$f":"$G172*CM172","v":0},null,null,{"$f":"$G172*CP172","v":0},null,null,{"$f":"$G172*CS172","v":0},null,null,{"$f":"$G172*CV172","v":0},null,null,{"$f":"$G172*CY172","v":0},null,null,0,null,null,0,null,null,{"$f":"$G172*DH172","v":0},null,null,{"$f":"$G172*DK172","v":0},null,null,{"$f":"$G172*DN172","v":0},null,null,{"$f":"$G172*DQ172","v":0},null,null,{"$f":"$G172*DT172","v":0},null,null,{"$f":"$G172*DW172","v":0},null,null,{"$f":"$G172*DZ172","v":0},null,null,{"$f":"$G172*EC172","v":0},null,null,{"$f":"$G172*EF172","v":0},null,null,{"$f":"$G172*EI172","v":0},null,null,{"$f":"$G172*EL172","v":0},null,null,{"$f":"$G172*EO172","v":0},null,null,{"$f":"$G172*ER172","v":0},null,null,{"$f":"$G172*EU172","v":0},null,null,0,null,null,0,null,null,{"$f":"$G172*FD172","v":0},null,null,{"$f":"$G172*FG172","v":0},null,null,{"$f":"$G172*FJ172","v":0},null,null,{"$f":"$G172*FM172","v":0},null,null,{"$f":"$G172*FP172","v":0},null,null,{"$f":"$G172*FS172","v":0},null,null,{"$f":"$G172*FV172","v":0},null,null,{"$f":"$G172*FY172","v":0},null,null,{"$f":"$G172*GB172","v":0},null,null,{"$f":"$G172*GE172","v":0},null,null,{"$f":"$G172*GH172","v":0},null,null,{"$f":"$G172*GK172","v":0},null,null,{"$f":"$G172*GN172","v":0},null,null,{"$f":"$G172*GQ172","v":0},null,null,{"$f":"$G172*GT172","v":0},null,null,{"$f":"$G172*GW172","v":0},null,null,{"$f":"$G172*GZ172","v":0},null,null,{"$f":"$G172*HC172","v":0},null,null,{"$f":"$G172*HF172","v":0},null,null,{"$f":"$G172*HI172","v":0}]
["9.3","V",3,"Vodomer \nsa prirubnicama, holenderima i pripadajućom opremom za montažu, za pritisak do 16 bara","water gauge\nflanges, unions and associated equipment for assembly, for pressure up to 16 bar","/","/","/","/","/","/",null,null,"/",null,"/","/",null,"/","/",null,"/","/",null,"/","/",null,"/","/",null,"/","/",null,"/","/",null,"/","/",null,"/","/",null,"/","/",null,"/","/",null,"/","/",null,"/","/",null,"/","/",null,"/","/",null,null,"/",null,"/","/",null,"/","/",null,"/","/",null,"/","/",null,"/","/",null,"/","/",null,"/","/",null,"/","/",null,"/","/",null,"/","/",null,"/","/",null,"/","/",null,"/","/",null,"/","/",null,"/","/",null,null,"/",null,"/","/",null,"/","/",null,"/","/",null,"/","/",null,"/","/",null,"/","/",null,"/","/",null,"/","/",null,"/","/",null,"/","/",null,"/","/",null,"/","/",null,"/","/",null,"/","/",null,"/","/",null,null,"/",null,"/","/",null,"/","/",null,"/","/",null,"/","/",null,"/","/",null,"/","/",null,"/","/",null,"/","/",null,"/","/",null,"/","/",null,"/","/",null,"/","/",null,"/","/",null,"/","/",null,"/","/",null,"/","/",null,"/","/",null,"/","/",null,"/","/",null,"/","/"]
["9.3.1",null,"A","horizontalni 3/4\"    ","Horizontal 3/4\"    ","kom/pcs",{"$f":"CENA!G165","v":0},{"$f":"J174+M174+P174+S174+V174+Y174+AB174+AE174+AH174+AK174+AN174+AQ174+AZ174+AW174+AT174+BC174+BF174+BI174+BL174+BO174+BR174+BU174+BX174+CA174+CD174+CG174+CJ174+CM174+CP174+CS174+CV174+CY174+DB174+DE174+DH174+DK174+DN174+DQ174+DT174+DW174+DZ174+EC174+EF174+EI174+EL174+EO174+ER174+EU174+EX174+FA174+FD174+FG174+FJ174+FM174+FP174+FS174+FV174+FY174+GB174+GE174+GH174+GK174+GN174+GQ174+GT174+GW174+GZ174+HC174+HF174+HI174","v":0},{"$f":"G174*H174","v":0},null,{"$f":"$G174*J174","v":0},null,null,{"$f":"$G174*M174","v":0},null,null,{"$f":"$G174*P174","v":0},null,null,{"$f":"$G174*S174","v":0},null,null,{"$f":"$G174*V174","v":0},null,null,{"$f":"$G174*Y174","v":0},null,null,{"$f":"$G174*AB174","v":0},null,null,{"$f":"$G174*AE174","v":0},null,null,{"$f":"$G174*AH174","v":0},null,null,{"$f":"$G174*AK174","v":0},null,null,{"$f":"$G174*AN174","v":0},null,null,{"$f":"$G174*AQ174","v":0},null,null,{"$f":"$G174*AT174","v":0},null,null,{"$f":"$G174*AW174","v":0},null,null,{"$f":"$G174*AZ174","v":0},null,null,{"$f":"$G174*BC174","v":0},null,null,{"$f":"$G174*BF174","v":0},null,null,{"$f":"$G174*BI174","v":0},null,null,{"$f":"$G174*BL174","v":0},null,null,{"$f":"$G174*BO174","v":0},null,null,{"$f":"$G174*BR174","v":0},null,null,{"$f":"$G174*BU174","v":0},null,null,{"$f":"$G174*BX174","v":0},null,null,{"$f":"$G174*CA174","v":0},null,null,{"$f":"$G174*CD174","v":0},null,null,{"$f":"$G174*CG174","v":0},null,null,{"$f":"$G174*CJ174","v":0},null,null,{"$f":"$G174*CM174","v":0},null,null,{"$f":"$G174*CP174","v":0},null,null,{"$f":"$G174*CS174","v":0},null,null,{"$f":"$G174*CV174","v":0},null,null,{"$f":"$G174*CY174","v":0},null,null,{"$f":"$G174*DB174","v":0},null,null,{"$f":"$G174*DE174","v":0},null,null,{"$f":"$G174*DH174","v":0},null,null,{"$f":"$G174*DK174","v":0},null,null,{"$f":"$G174*DN174","v":0},null,null,{"$f":"$G174*DQ174","v":0},null,null,{"$f":"$G174*DT174","v":0},null,null,{"$f":"$G174*DW174","v":0},null,null,{"$f":"$G174*DZ174","v":0},null,null,{"$f":"$G174*EC174","v":0},null,null,{"$f":"$G174*EF174","v":0},null,null,{"$f":"$G174*EI174","v":0},null,null,{"$f":"$G174*EL174","v":0},null,null,{"$f":"$G174*EO174","v":0},null,null,{"$f":"$G174*ER174","v":0},null,null,{"$f":"$G174*EU174","v":0},null,null,{"$f":"$G174*EX174","v":0},null,null,{"$f":"$G174*FA174","v":0},null,null,{"$f":"$G174*FD174","v":0},null,null,{"$f":"$G174*FG174","v":0},null,null,{"$f":"$G174*FJ174","v":0},null,null,{"$f":"$G174*FM174","v":0},null,null,{"$f":"$G174*FP174","v":0},null,null,{"$f":"$G174*FS174","v":0},null,null,{"$f":"$G174*FV174","v":0},null,null,{"$f":"$G174*FY174","v":0},null,null,{"$f":"$G174*GB174","v":0},null,null,{"$f":"$G174*GE174","v":0},null,null,{"$f":"$G174*GH174","v":0},null,null,{"$f":"$G174*GK174","v":0},null,null,{"$f":"$G174*GN174","v":0},null,null,{"$f":"$G174*GQ174","v":0},null,null,{"$f":"$G174*GT174","v":0},null,null,{"$f":"$G174*GW174","v":0},null,null,{"$f":"$G174*GZ174","v":0},null,null,{"$f":"$G174*HC174","v":0},null,null,{"$f":"$G174*HF174","v":0},null,null,{"$f":"$G174*HI174","v":0}]
["9.3.2",null,"B","horizontalni     1\"    ","Horizontal     1\"    ","kom/pcs",{"$f":"CENA!G166","v":0},0,0,null,{"$f":"$G175*J175","v":0},null,null,0,null,null,{"$f":"$G175*P175","v":0},null,null,{"$f":"$G175*S175","v":0},null,null,{"$f":"$G175*V175","v":0},null,null,{"$f":"$G175*Y175","v":0},null,null,{"$f":"$G175*AB175","v":0},null,null,{"$f":"$G175*AE175","v":0},null,null,{"$f":"$G175*AH175","v":0},null,null,{"$f":"$G175*AK175","v":0},null,null,{"$f":"$G175*AN175","v":0},null,null,{"$f":"$G175*AQ175","v":0},null,null,{"$f":"$G175*AT175","v":0},null,null,{"$f":"$G175*AW175","v":0},null,null,{"$f":"$G175*AZ175","v":0},null,null,{"$f":"$G175*BC175","v":0},null,null,0,null,null,0,null,null,{"$f":"$G175*BL175","v":0},null,null,{"$f":"$G175*BO175","v":0},null,null,{"$f":"$G175*BR175","v":0},null,null,{"$f":"$G175*BU175","v":0},null,null,{"$f":"$G175*BX175","v":0},null,null,{"$f":"$G175*CA175","v":0},null,null,{"$f":"$G175*CD175","v":0},null,null,{"$f":"$G175*CG175","v":0},null,null,{"$f":"$G175*CJ175","v":0},null,null,{"$f":"$G175*CM175","v":0},null,null,{"$f":"$G175*CP175","v":0},null,null,{"$f":"$G175*CS175","v":0},null,null,{"$f":"$G175*CV175","v":0},null,null,{"$f":"$G175*CY175","v":0},null,null,0,null,null,0,null,null,{"$f":"$G175*DH175","v":0},null,null,{"$f":"$G175*DK175","v":0},null,null,{"$f":"$G175*DN175","v":0},null,null,{"$f":"$G175*DQ175","v":0},null,null,{"$f":"$G175*DT175","v":0},null,null,{"$f":"$G175*DW175","v":0},null,null,{"$f":"$G175*DZ175","v":0},null,null,{"$f":"$G175*EC175","v":0},null,null,{"$f":"$G175*EF175","v":0},null,null,{"$f":"$G175*EI175","v":0},null,null,{"$f":"$G175*EL175","v":0},null,null,{"$f":"$G175*EO175","v":0},null,null,{"$f":"$G175*ER175","v":0},null,null,{"$f":"$G175*EU175","v":0},null,null,0,null,null,0,null,null,{"$f":"$G175*FD175","v":0},null,null,{"$f":"$G175*FG175","v":0},null,null,{"$f":"$G175*FJ175","v":0},null,null,{"$f":"$G175*FM175","v":0},null,null,{"$f":"$G175*FP175","v":0},null,null,{"$f":"$G175*FS175","v":0},null,null,{"$f":"$G175*FV175","v":0},null,null,{"$f":"$G175*FY175","v":0},null,null,{"$f":"$G175*GB175","v":0},null,null,{"$f":"$G175*GE175","v":0},null,null,{"$f":"$G175*GH175","v":0},null,null,{"$f":"$G175*GK175","v":0},null,null,{"$f":"$G175*GN175","v":0},null,null,{"$f":"$G175*GQ175","v":0},null,null,{"$f":"$G175*GT175","v":0},null,null,{"$f":"$G175*GW175","v":0},null,null,{"$f":"$G175*GZ175","v":0},null,null,{"$f":"$G175*HC175","v":0},null,null,{"$f":"$G175*HF175","v":0},null,null,{"$f":"$G175*HI175","v":0}]
["9.3.3",null,"C","horizontalni 5/4\"","Horizontal 5/4\"","kom/pcs",{"$f":"CENA!G167","v":0},0,0,null,{"$f":"$G176*J176","v":0},null,null,0,null,null,{"$f":"$G176*P176","v":0},null,null,{"$f":"$G176*S176","v":0},null,null,{"$f":"$G176*V176","v":0},null,null,{"$f":"$G176*Y176","v":0},null,null,{"$f":"$G176*AB176","v":0},null,null,{"$f":"$G176*AE176","v":0},null,null,{"$f":"$G176*AH176","v":0},null,null,{"$f":"$G176*AK176","v":0},null,null,{"$f":"$G176*AN176","v":0},null,null,{"$f":"$G176*AQ176","v":0},null,null,{"$f":"$G176*AT176","v":0},null,null,{"$f":"$G176*AW176","v":0},null,null,{"$f":"$G176*AZ176","v":0},null,null,{"$f":"$G176*BC176","v":0},null,null,0,null,null,0,null,null,{"$f":"$G176*BL176","v":0},null,null,{"$f":"$G176*BO176","v":0},null,null,{"$f":"$G176*BR176","v":0},null,null,{"$f":"$G176*BU176","v":0},null,null,{"$f":"$G176*BX176","v":0},null,null,{"$f":"$G176*CA176","v":0},null,null,{"$f":"$G176*CD176","v":0},null,null,{"$f":"$G176*CG176","v":0},null,null,{"$f":"$G176*CJ176","v":0},null,null,{"$f":"$G176*CM176","v":0},null,null,{"$f":"$G176*CP176","v":0},null,null,{"$f":"$G176*CS176","v":0},null,null,{"$f":"$G176*CV176","v":0},null,null,{"$f":"$G176*CY176","v":0},null,null,0,null,null,0,null,null,{"$f":"$G176*DH176","v":0},null,null,{"$f":"$G176*DK176","v":0},null,null,{"$f":"$G176*DN176","v":0},null,null,{"$f":"$G176*DQ176","v":0},null,null,{"$f":"$G176*DT176","v":0},null,null,{"$f":"$G176*DW176","v":0},null,null,{"$f":"$G176*DZ176","v":0},null,null,{"$f":"$G176*EC176","v":0},null,null,{"$f":"$G176*EF176","v":0},null,null,{"$f":"$G176*EI176","v":0},null,null,{"$f":"$G176*EL176","v":0},null,null,{"$f":"$G176*EO176","v":0},null,null,{"$f":"$G176*ER176","v":0},null,null,{"$f":"$G176*EU176","v":0},null,null,0,null,null,0,null,null,{"$f":"$G176*FD176","v":0},null,null,{"$f":"$G176*FG176","v":0},null,null,{"$f":"$G176*FJ176","v":0},null,null,{"$f":"$G176*FM176","v":0},null,null,{"$f":"$G176*FP176","v":0},null,null,{"$f":"$G176*FS176","v":0},null,null,{"$f":"$G176*FV176","v":0},null,null,{"$f":"$G176*FY176","v":0},null,null,{"$f":"$G176*GB176","v":0},null,null,{"$f":"$G176*GE176","v":0},null,null,{"$f":"$G176*GH176","v":0},null,null,{"$f":"$G176*GK176","v":0},null,null,{"$f":"$G176*GN176","v":0},null,null,{"$f":"$G176*GQ176","v":0},null,null,{"$f":"$G176*GT176","v":0},null,null,{"$f":"$G176*GW176","v":0},null,null,{"$f":"$G176*GZ176","v":0},null,null,{"$f":"$G176*HC176","v":0},null,null,{"$f":"$G176*HF176","v":0},null,null,{"$f":"$G176*HI176","v":0}]
["9.4","V",4,"Ravni propusni ventil sa ogrankom za pražnjenje","Skip straight valve with a branch drain","/","/","/","/","/","/",null,null,"/",null,"/","/",null,"/","/",null,"/","/",null,"/","/",null,"/","/",null,"/","/",null,"/","/",null,"/","/",null,"/","/",null,"/","/",null,"/","/",null,"/","/",null,"/","/",null,"/","/",null,"/","/",null,null,"/",null,"/","/",null,"/","/",null,"/","/",null,"/","/",null,"/","/",null,"/","/",null,"/","/",null,"/","/",null,"/","/",null,"/","/",null,"/","/",null,"/","/",null,"/","/",null,"/","/",null,"/","/",null,null,"/",null,"/","/",null,"/","/",null,"/","/",null,"/","/",null,"/","/",null,"/","/",null,"/","/",null,"/","/",null,"/","/",null,"/","/",null,"/","/",null,"/","/",null,"/","/",null,"/","/",null,"/","/",null,null,"/",null,"/","/",null,"/","/",null,"/","/",null,"/","/",null,"/","/",null,"/","/",null,"/","/",null,"/","/",null,"/","/",null,"/","/",null,"/","/",null,"/","/",null,"/","/",null,"/","/",null,"/","/",null,"/","/",null,"/","/",null,"/","/",null,"/","/",null,"/","/"]
["9.4.1",null,"A","d25  (s min. 2,3)    - 3/4\"","d25  (s min. 2,3)    - 3/4\"","kom/pcs",{"$f":"CENA!G169","v":0},{"$f":"J178+M178+P178+S178+V178+Y178+AB178+AE178+AH178+AK178+AN178+AQ178+AZ178+AW178+AT178+BC178+BF178+BI178+BL178+BO178+BR178+BU178+BX178+CA178+CD178+CG178+CJ178+CM178+CP178+CS178+CV178+CY178+DB178+DE178+DH178+DK178+DN178+DQ178+DT178+DW178+DZ178+EC178+EF178+EI178+EL178+EO178+ER178+EU178+EX178+FA178+FD178+FG178+FJ178+FM178+FP178+FS178+FV178+FY178+GB178+GE178+GH178+GK178+GN178+GQ178+GT178+GW178+GZ178+HC178+HF178+HI178","v":0},{"$f":"G178*H178","v":0},null,{"$f":"$G178*J178","v":0},null,null,{"$f":"$G178*M178","v":0},null,null,{"$f":"$G178*P178","v":0},null,null,{"$f":"$G178*S178","v":0},null,null,{"$f":"$G178*V178","v":0},null,null,{"$f":"$G178*Y178","v":0},null,null,{"$f":"$G178*AB178","v":0},null,null,{"$f":"$G178*AE178","v":0},null,null,{"$f":"$G178*AH178","v":0},null,null,{"$f":"$G178*AK178","v":0},null,null,{"$f":"$G178*AN178","v":0},null,null,{"$f":"$G178*AQ178","v":0},null,null,{"$f":"$G178*AT178","v":0},null,null,{"$f":"$G178*AW178","v":0},null,null,{"$f":"$G178*AZ178","v":0},null,null,{"$f":"$G178*BC178","v":0},null,null,{"$f":"$G178*BF178","v":0},null,null,{"$f":"$G178*BI178","v":0},null,null,{"$f":"$G178*BL178","v":0},null,null,{"$f":"$G178*BO178","v":0},null,null,{"$f":"$G178*BR178","v":0},null,null,{"$f":"$G178*BU178","v":0},null,null,{"$f":"$G178*BX178","v":0},null,null,{"$f":"$G178*CA178","v":0},null,null,{"$f":"$G178*CD178","v":0},null,null,{"$f":"$G178*CG178","v":0},null,null,{"$f":"$G178*CJ178","v":0},null,null,{"$f":"$G178*CM178","v":0},null,null,{"$f":"$G178*CP178","v":0},null,null,{"$f":"$G178*CS178","v":0},null,null,{"$f":"$G178*CV178","v":0},null,null,{"$f":"$G178*CY178","v":0},null,null,{"$f":"$G178*DB178","v":0},null,null,{"$f":"$G178*DE178","v":0},null,null,{"$f":"$G178*DH178","v":0},null,null,{"$f":"$G178*DK178","v":0},null,null,{"$f":"$G178*DN178","v":0},null,null,{"$f":"$G178*DQ178","v":0},null,null,{"$f":"$G178*DT178","v":0},null,null,{"$f":"$G178*DW178","v":0},null,null,{"$f":"$G178*DZ178","v":0},null,null,{"$f":"$G178*EC178","v":0},null,null,{"$f":"$G178*EF178","v":0},null,null,{"$f":"$G178*EI178","v":0},null,null,{"$f":"$G178*EL178","v":0},null,null,{"$f":"$G178*EO178","v":0},null,null,{"$f":"$G178*ER178","v":0},null,null,{"$f":"$G178*EU178","v":0},null,null,{"$f":"$G178*EX178","v":0},null,null,{"$f":"$G178*FA178","v":0},null,null,{"$f":"$G178*FD178","v":0},null,null,{"$f":"$G178*FG178","v":0},null,null,{"$f":"$G178*FJ178","v":0},null,null,{"$f":"$G178*FM178","v":0},null,null,{"$f":"$G178*FP178","v":0},null,null,{"$f":"$G178*FS178","v":0},null,null,{"$f":"$G178*FV178","v":0},null,null,{"$f":"$G178*FY178","v":0},null,null,{"$f":"$G178*GB178","v":0},null,null,{"$f":"$G178*GE178","v":0},null,null,{"$f":"$G178*GH178","v":0},null,null,{"$f":"$G178*GK178","v":0},null,null,{"$f":"$G178*GN178","v":0},null,null,{"$f":"$G178*GQ178","v":0},null,null,{"$f":"$G178*GT178","v":0},null,null,{"$f":"$G178*GW178","v":0},null,null,{"$f":"$G178*GZ178","v":0},null,null,{"$f":"$G178*HC178","v":0},null,null,{"$f":"$G178*HF178","v":0},null,null,{"$f":"$G178*HI178","v":0}]
["9.4.2",null,"B","d32  (s min. 3,0)   -       1\"","d32  (s min. 3,0)   -       1\"","kom/pcs",{"$f":"CENA!G170","v":0},0,0,null,{"$f":"$G179*J179","v":0},null,null,0,null,null,{"$f":"$G179*P179","v":0},null,null,{"$f":"$G179*S179","v":0},null,null,{"$f":"$G179*V179","v":0},null,null,{"$f":"$G179*Y179","v":0},null,null,{"$f":"$G179*AB179","v":0},null,null,{"$f":"$G179*AE179","v":0},null,null,{"$f":"$G179*AH179","v":0},null,null,{"$f":"$G179*AK179","v":0},null,null,{"$f":"$G179*AN179","v":0},null,null,{"$f":"$G179*AQ179","v":0},null,null,{"$f":"$G179*AT179","v":0},null,null,{"$f":"$G179*AW179","v":0},null,null,{"$f":"$G179*AZ179","v":0},null,null,{"$f":"$G179*BC179","v":0},null,null,0,null,null,0,null,null,{"$f":"$G179*BL179","v":0},null,null,{"$f":"$G179*BO179","v":0},null,null,{"$f":"$G179*BR179","v":0},null,null,{"$f":"$G179*BU179","v":0},null,null,{"$f":"$G179*BX179","v":0},null,null,{"$f":"$G179*CA179","v":0},null,null,{"$f":"$G179*CD179","v":0},null,null,{"$f":"$G179*CG179","v":0},null,null,{"$f":"$G179*CJ179","v":0},null,null,{"$f":"$G179*CM179","v":0},null,null,{"$f":"$G179*CP179","v":0},null,null,{"$f":"$G179*CS179","v":0},null,null,{"$f":"$G179*CV179","v":0},null,null,{"$f":"$G179*CY179","v":0},null,null,0,null,null,0,null,null,{"$f":"$G179*DH179","v":0},null,null,{"$f":"$G179*DK179","v":0},null,null,{"$f":"$G179*DN179","v":0},null,null,{"$f":"$G179*DQ179","v":0},null,null,{"$f":"$G179*DT179","v":0},null,null,{"$f":"$G179*DW179","v":0},null,null,{"$f":"$G179*DZ179","v":0},null,null,{"$f":"$G179*EC179","v":0},null,null,{"$f":"$G179*EF179","v":0},null,null,{"$f":"$G179*EI179","v":0},null,null,{"$f":"$G179*EL179","v":0},null,null,{"$f":"$G179*EO179","v":0},null,null,{"$f":"$G179*ER179","v":0},null,null,{"$f":"$G179*EU179","v":0},null,null,0,null,null,0,null,null,{"$f":"$G179*FD179","v":0},null,null,{"$f":"$G179*FG179","v":0},null,null,{"$f":"$G179*FJ179","v":0},null,null,{"$f":"$G179*FM179","v":0},null,null,{"$f":"$G179*FP179","v":0},null,null,{"$f":"$G179*FS179","v":0},null,null,{"$f":"$G179*FV179","v":0},null,null,{"$f":"$G179*FY179","v":0},null,null,{"$f":"$G179*GB179","v":0},null,null,{"$f":"$G179*GE179","v":0},null,null,{"$f":"$G179*GH179","v":0},null,null,{"$f":"$G179*GK179","v":0},null,null,{"$f":"$G179*GN179","v":0},null,null,{"$f":"$G179*GQ179","v":0},null,null,{"$f":"$G179*GT179","v":0},null,null,{"$f":"$G179*GW179","v":0},null,null,{"$f":"$G179*GZ179","v":0},null,null,{"$f":"$G179*HC179","v":0},null,null,{"$f":"$G179*HF179","v":0},null,null,{"$f":"$G179*HI179","v":0}]
["9.5","V",5,"Propusni ventil za uzidanje sa kapom ","Gate valve for the wall with cap","/","/","/","/","/","/",null,null,"/",null,"/","/",null,"/","/",null,"/","/",null,"/","/",null,"/","/",null,"/","/",null,"/","/",null,"/","/",null,"/","/",null,"/","/",null,"/","/",null,"/","/",null,"/","/",null,"/","/",null,"/","/",null,null,"/",null,"/","/",null,"/","/",null,"/","/",null,"/","/",null,"/","/",null,"/","/",null,"/","/",null,"/","/",null,"/","/",null,"/","/",null,"/","/",null,"/","/",null,"/","/",null,"/","/",null,"/","/",null,null,"/",null,"/","/",null,"/","/",null,"/","/",null,"/","/",null,"/","/",null,"/","/",null,"/","/",null,"/","/",null,"/","/",null,"/","/",null,"/","/",null,"/","/",null,"/","/",null,"/","/",null,"/","/",null,null,"/",null,"/","/",null,"/","/",null,"/","/",null,"/","/",null,"/","/",null,"/","/",null,"/","/",null,"/","/",null,"/","/",null,"/","/",null,"/","/",null,"/","/",null,"/","/",null,"/","/",null,"/","/",null,"/","/",null,"/","/",null,"/","/",null,"/","/",null,"/","/"]
["9.5.1",null,"A","d20  (s min.   3,4)    - 1/2\"","d20  (s min.   3,4)    - 1/2\"","kom/pcs",{"$f":"CENA!G172","v":0},{"$f":"J181+M181+P181+S181+V181+Y181+AB181+AE181+AH181+AK181+AN181+AQ181+AZ181+AW181+AT181+BC181+BF181+BI181+BL181+BO181+BR181+BU181+BX181+CA181+CD181+CG181+CJ181+CM181+CP181+CS181+CV181+CY181+DB181+DE181+DH181+DK181+DN181+DQ181+DT181+DW181+DZ181+EC181+EF181+EI181+EL181+EO181+ER181+EU181+EX181+FA181+FD181+FG181+FJ181+FM181+FP181+FS181+FV181+FY181+GB181+GE181+GH181+GK181+GN181+GQ181+GT181+GW181+GZ181+HC181+HF181+HI181","v":0},{"$f":"G181*H181","v":0},null,{"$f":"$G181*J181","v":0},null,null,{"$f":"$G181*M181","v":0},null,null,{"$f":"$G181*P181","v":0},null,null,{"$f":"$G181*S181","v":0},null,null,{"$f":"$G181*V181","v":0},null,null,{"$f":"$G181*Y181","v":0},null,null,{"$f":"$G181*AB181","v":0},null,null,{"$f":"$G181*AE181","v":0},null,null,{"$f":"$G181*AH181","v":0},null,null,{"$f":"$G181*AK181","v":0},null,null,{"$f":"$G181*AN181","v":0},null,null,{"$f":"$G181*AQ181","v":0},null,null,{"$f":"$G181*AT181","v":0},null,null,{"$f":"$G181*AW181","v":0},null,null,{"$f":"$G181*AZ181","v":0},null,null,{"$f":"$G181*BC181","v":0},null,null,{"$f":"$G181*BF181","v":0},null,null,{"$f":"$G181*BI181","v":0},null,null,{"$f":"$G181*BL181","v":0},null,null,{"$f":"$G181*BO181","v":0},null,null,{"$f":"$G181*BR181","v":0},null,null,{"$f":"$G181*BU181","v":0},null,null,{"$f":"$G181*BX181","v":0},null,null,{"$f":"$G181*CA181","v":0},null,null,{"$f":"$G181*CD181","v":0},null,null,{"$f":"$G181*CG181","v":0},null,null,{"$f":"$G181*CJ181","v":0},null,null,{"$f":"$G181*CM181","v":0},null,null,{"$f":"$G181*CP181","v":0},null,null,{"$f":"$G181*CS181","v":0},null,null,{"$f":"$G181*CV181","v":0},null,null,{"$f":"$G181*CY181","v":0},null,null,{"$f":"$G181*DB181","v":0},null,null,{"$f":"$G181*DE181","v":0},null,null,{"$f":"$G181*DH181","v":0},null,null,{"$f":"$G181*DK181","v":0},null,null,{"$f":"$G181*DN181","v":0},null,null,{"$f":"$G181*DQ181","v":0},null,null,{"$f":"$G181*DT181","v":0},null,null,{"$f":"$G181*DW181","v":0},null,null,{"$f":"$G181*DZ181","v":0},null,null,{"$f":"$G181*EC181","v":0},null,null,{"$f":"$G181*EF181","v":0},null,null,{"$f":"$G181*EI181","v":0},null,null,{"$f":"$G181*EL181","v":0},null,null,{"$f":"$G181*EO181","v":0},null,null,{"$f":"$G181*ER181","v":0},null,null,{"$f":"$G181*EU181","v":0},null,null,{"$f":"$G181*EX181","v":0},null,null,{"$f":"$G181*FA181","v":0},null,null,{"$f":"$G181*FD181","v":0},null,null,{"$f":"$G181*FG181","v":0},null,null,{"$f":"$G181*FJ181","v":0},null,null,{"$f":"$G181*FM181","v":0},null,null,{"$f":"$G181*FP181","v":0},null,null,{"$f":"$G181*FS181","v":0},null,null,{"$f":"$G181*FV181","v":0},null,null,{"$f":"$G181*FY181","v":0},null,null,{"$f":"$G181*GB181","v":0},null,null,{"$f":"$G181*GE181","v":0},null,null,{"$f":"$G181*GH181","v":0},null,null,{"$f":"$G181*GK181","v":0},null,null,{"$f":"$G181*GN181","v":0},null,null,{"$f":"$G181*GQ181","v":0},null,null,{"$f":"$G181*GT181","v":0},null,null,{"$f":"$G181*GW181","v":0},null,null,{"$f":"$G181*GZ181","v":0},null,null,{"$f":"$G181*HC181","v":0},null,null,{"$f":"$G181*HF181","v":0},null,null,{"$f":"$G181*HI181","v":0}]
["9.5.2",null,"B","d25  (s min.   4,2)    - 3/4\"","d25  (s min.   4,2)    - 3/4\"","kom/pcs",{"$f":"CENA!G173","v":0},0,0,null,{"$f":"$G182*J182","v":0},null,null,0,null,null,{"$f":"$G182*P182","v":0},null,null,{"$f":"$G182*S182","v":0},null,null,{"$f":"$G182*V182","v":0},null,null,{"$f":"$G182*Y182","v":0},null,null,{"$f":"$G182*AB182","v":0},null,null,{"$f":"$G182*AE182","v":0},null,null,{"$f":"$G182*AH182","v":0},null,null,{"$f":"$G182*AK182","v":0},null,null,{"$f":"$G182*AN182","v":0},null,null,{"$f":"$G182*AQ182","v":0},null,null,{"$f":"$G182*AT182","v":0},null,null,{"$f":"$G182*AW182","v":0},null,null,{"$f":"$G182*AZ182","v":0},null,null,{"$f":"$G182*BC182","v":0},null,null,0,null,null,0,null,null,{"$f":"$G182*BL182","v":0},null,null,{"$f":"$G182*BO182","v":0},null,null,{"$f":"$G182*BR182","v":0},null,null,{"$f":"$G182*BU182","v":0},null,null,{"$f":"$G182*BX182","v":0},null,null,{"$f":"$G182*CA182","v":0},null,null,{"$f":"$G182*CD182","v":0},null,null,{"$f":"$G182*CG182","v":0},null,null,{"$f":"$G182*CJ182","v":0},null,null,{"$f":"$G182*CM182","v":0},null,null,{"$f":"$G182*CP182","v":0},null,null,{"$f":"$G182*CS182","v":0},null,null,{"$f":"$G182*CV182","v":0},null,null,{"$f":"$G182*CY182","v":0},null,null,0,null,null,0,null,null,{"$f":"$G182*DH182","v":0},null,null,{"$f":"$G182*DK182","v":0},null,null,{"$f":"$G182*DN182","v":0},null,null,{"$f":"$G182*DQ182","v":0},null,null,{"$f":"$G182*DT182","v":0},null,null,{"$f":"$G182*DW182","v":0},null,null,{"$f":"$G182*DZ182","v":0},null,null,{"$f":"$G182*EC182","v":0},null,null,{"$f":"$G182*EF182","v":0},null,null,{"$f":"$G182*EI182","v":0},null,null,{"$f":"$G182*EL182","v":0},null,null,{"$f":"$G182*EO182","v":0},null,null,{"$f":"$G182*ER182","v":0},null,null,{"$f":"$G182*EU182","v":0},null,null,0,null,null,0,null,null,{"$f":"$G182*FD182","v":0},null,null,{"$f":"$G182*FG182","v":0},null,null,{"$f":"$G182*FJ182","v":0},null,null,{"$f":"$G182*FM182","v":0},null,null,{"$f":"$G182*FP182","v":0},null,null,{"$f":"$G182*FS182","v":0},null,null,{"$f":"$G182*FV182","v":0},null,null,{"$f":"$G182*FY182","v":0},null,null,{"$f":"$G182*GB182","v":0},null,null,{"$f":"$G182*GE182","v":0},null,null,{"$f":"$G182*GH182","v":0},null,null,{"$f":"$G182*GK182","v":0},null,null,{"$f":"$G182*GN182","v":0},null,null,{"$f":"$G182*GQ182","v":0},null,null,{"$f":"$G182*GT182","v":0},null,null,{"$f":"$G182*GW182","v":0},null,null,{"$f":"$G182*GZ182","v":0},null,null,{"$f":"$G182*HC182","v":0},null,null,{"$f":"$G182*HF182","v":0},null,null,{"$f":"$G182*HI182","v":0}]
["9.5.3",null,"C","d32  (s min. 3,0)   -       1\"","d32  (s min. 3,0)   -       1\"","kom/pcs",{"$f":"CENA!G174","v":0},0,0,null,{"$f":"$G183*J183","v":0},null,null,0,null,null,{"$f":"$G183*P183","v":0},null,null,{"$f":"$G183*S183","v":0},null,null,{"$f":"$G183*V183","v":0},null,null,{"$f":"$G183*Y183","v":0},null,null,{"$f":"$G183*AB183","v":0},null,null,{"$f":"$G183*AE183","v":0},null,null,{"$f":"$G183*AH183","v":0},null,null,{"$f":"$G183*AK183","v":0},null,null,{"$f":"$G183*AN183","v":0},null,null,{"$f":"$G183*AQ183","v":0},null,null,{"$f":"$G183*AT183","v":0},null,null,{"$f":"$G183*AW183","v":0},null,null,{"$f":"$G183*AZ183","v":0},null,null,{"$f":"$G183*BC183","v":0},null,null,0,null,null,0,null,null,{"$f":"$G183*BL183","v":0},null,null,{"$f":"$G183*BO183","v":0},null,null,{"$f":"$G183*BR183","v":0},null,null,{"$f":"$G183*BU183","v":0},null,null,{"$f":"$G183*BX183","v":0},null,null,{"$f":"$G183*CA183","v":0},null,null,{"$f":"$G183*CD183","v":0},null,null,{"$f":"$G183*CG183","v":0},null,null,{"$f":"$G183*CJ183","v":0},null,null,{"$f":"$G183*CM183","v":0},null,null,{"$f":"$G183*CP183","v":0},null,null,{"$f":"$G183*CS183","v":0},null,null,{"$f":"$G183*CV183","v":0},null,null,{"$f":"$G183*CY183","v":0},null,null,0,null,null,0,null,null,{"$f":"$G183*DH183","v":0},null,null,{"$f":"$G183*DK183","v":0},null,null,{"$f":"$G183*DN183","v":0},null,null,{"$f":"$G183*DQ183","v":0},null,null,{"$f":"$G183*DT183","v":0},null,null,{"$f":"$G183*DW183","v":0},null,null,{"$f":"$G183*DZ183","v":0},null,null,{"$f":"$G183*EC183","v":0},null,null,{"$f":"$G183*EF183","v":0},null,null,{"$f":"$G183*EI183","v":0},null,null,{"$f":"$G183*EL183","v":0},null,null,{"$f":"$G183*EO183","v":0},null,null,{"$f":"$G183*ER183","v":0},null,null,{"$f":"$G183*EU183","v":0},null,null,0,null,null,0,null,null,{"$f":"$G183*FD183","v":0},null,null,{"$f":"$G183*FG183","v":0},null,null,{"$f":"$G183*FJ183","v":0},null,null,{"$f":"$G183*FM183","v":0},null,null,{"$f":"$G183*FP183","v":0},null,null,{"$f":"$G183*FS183","v":0},null,null,{"$f":"$G183*FV183","v":0},null,null,{"$f":"$G183*FY183","v":0},null,null,{"$f":"$G183*GB183","v":0},null,null,{"$f":"$G183*GE183","v":0},null,null,{"$f":"$G183*GH183","v":0},null,null,{"$f":"$G183*GK183","v":0},null,null,{"$f":"$G183*GN183","v":0},null,null,{"$f":"$G183*GQ183","v":0},null,null,{"$f":"$G183*GT183","v":0},null,null,{"$f":"$G183*GW183","v":0},null,null,{"$f":"$G183*GZ183","v":0},null,null,{"$f":"$G183*HC183","v":0},null,null,{"$f":"$G183*HF183","v":0},null,null,{"$f":"$G183*HI183","v":0}]
["9.6","V",6,"Ugaoni \"EK\" sa kapom","Angle valve \"EK\" with cap","/","/","/","/","/","/",null,null,"/",null,"/","/",null,"/","/",null,"/","/",null,"/","/",null,"/","/",null,"/","/",null,"/","/",null,"/","/",null,"/","/",null,"/","/",null,"/","/",null,"/","/",null,"/","/",null,"/","/",null,"/","/",null,null,"/",null,"/","/",null,"/","/",null,"/","/",null,"/","/",null,"/","/",null,"/","/",null,"/","/",null,"/","/",null,"/","/",null,"/","/",null,"/","/",null,"/","/",null,"/","/",null,"/","/",null,"/","/",null,null,"/",null,"/","/",null,"/","/",null,"/","/",null,"/","/",null,"/","/",null,"/","/",null,"/","/",null,"/","/",null,"/","/",null,"/","/",null,"/","/",null,"/","/",null,"/","/",null,"/","/",null,"/","/",null,null,"/",null,"/","/",null,"/","/",null,"/","/",null,"/","/",null,"/","/",null,"/","/",null,"/","/",null,"/","/",null,"/","/",null,"/","/",null,"/","/",null,"/","/",null,"/","/",null,"/","/",null,"/","/",null,"/","/",null,"/","/",null,"/","/",null,"/","/",null,"/","/"]
["9.6.1",null,"A","d20  (s min.   3,4)    - 1/2\"","d20  (s min.   3,4)    - 1/2\"","kom/pcs",{"$f":"CENA!G176","v":0},{"$f":"J185+M185+P185+S185+V185+Y185+AB185+AE185+AH185+AK185+AN185+AQ185+AZ185+AW185+AT185+BC185+BF185+BI185+BL185+BO185+BR185+BU185+BX185+CA185+CD185+CG185+CJ185+CM185+CP185+CS185+CV185+CY185+DB185+DE185+DH185+DK185+DN185+DQ185+DT185+DW185+DZ185+EC185+EF185+EI185+EL185+EO185+ER185+EU185+EX185+FA185+FD185+FG185+FJ185+FM185+FP185+FS185+FV185+FY185+GB185+GE185+GH185+GK185+GN185+GQ185+GT185+GW185+GZ185+HC185+HF185+HI185","v":0},{"$f":"G185*H185","v":0},null,{"$f":"$G185*J185","v":0},null,null,{"$f":"$G185*M185","v":0},null,null,{"$f":"$G185*P185","v":0},null,null,{"$f":"$G185*S185","v":0},null,null,{"$f":"$G185*V185","v":0},null,null,{"$f":"$G185*Y185","v":0},null,null,{"$f":"$G185*AB185","v":0},null,null,{"$f":"$G185*AE185","v":0},null,null,{"$f":"$G185*AH185","v":0},null,null,{"$f":"$G185*AK185","v":0},null,null,{"$f":"$G185*AN185","v":0},null,null,{"$f":"$G185*AQ185","v":0},null,null,{"$f":"$G185*AT185","v":0},null,null,{"$f":"$G185*AW185","v":0},null,null,{"$f":"$G185*AZ185","v":0},null,null,{"$f":"$G185*BC185","v":0},null,null,{"$f":"$G185*BF185","v":0},null,null,{"$f":"$G185*BI185","v":0},null,null,{"$f":"$G185*BL185","v":0},null,null,{"$f":"$G185*BO185","v":0},null,null,{"$f":"$G185*BR185","v":0},null,null,{"$f":"$G185*BU185","v":0},null,null,{"$f":"$G185*BX185","v":0},null,null,{"$f":"$G185*CA185","v":0},null,null,{"$f":"$G185*CD185","v":0},null,null,{"$f":"$G185*CG185","v":0},null,null,{"$f":"$G185*CJ185","v":0},null,null,{"$f":"$G185*CM185","v":0},null,null,{"$f":"$G185*CP185","v":0},null,null,{"$f":"$G185*CS185","v":0},null,null,{"$f":"$G185*CV185","v":0},null,null,{"$f":"$G185*CY185","v":0},null,null,{"$f":"$G185*DB185","v":0},null,null,{"$f":"$G185*DE185","v":0},null,null,{"$f":"$G185*DH185","v":0},null,null,{"$f":"$G185*DK185","v":0},null,null,{"$f":"$G185*DN185","v":0},null,null,{"$f":"$G185*DQ185","v":0},null,null,{"$f":"$G185*DT185","v":0},null,null,{"$f":"$G185*DW185","v":0},null,null,{"$f":"$G185*DZ185","v":0},null,null,{"$f":"$G185*EC185","v":0},null,null,{"$f":"$G185*EF185","v":0},null,null,{"$f":"$G185*EI185","v":0},null,null,{"$f":"$G185*EL185","v":0},null,null,{"$f":"$G185*EO185","v":0},null,null,{"$f":"$G185*ER185","v":0},null,null,{"$f":"$G185*EU185","v":0},null,null,{"$f":"$G185*EX185","v":0},null,null,{"$f":"$G185*FA185","v":0},null,null,{"$f":"$G185*FD185","v":0},null,null,{"$f":"$G185*FG185","v":0},null,null,{"$f":"$G185*FJ185","v":0},null,null,{"$f":"$G185*FM185","v":0},null,null,{"$f":"$G185*FP185","v":0},null,null,{"$f":"$G185*FS185","v":0},null,null,{"$f":"$G185*FV185","v":0},null,null,{"$f":"$G185*FY185","v":0},null,null,{"$f":"$G185*GB185","v":0},null,null,{"$f":"$G185*GE185","v":0},null,null,{"$f":"$G185*GH185","v":0},null,null,{"$f":"$G185*GK185","v":0},null,null,{"$f":"$G185*GN185","v":0},null,null,{"$f":"$G185*GQ185","v":0},null,null,{"$f":"$G185*GT185","v":0},null,null,{"$f":"$G185*GW185","v":0},null,null,{"$f":"$G185*GZ185","v":0},null,null,{"$f":"$G185*HC185","v":0},null,null,{"$f":"$G185*HF185","v":0},null,null,{"$f":"$G185*HI185","v":0}]
["9.7","V",7,"Termička izolacija vodovodnih cevi  -tipa plamaflex ISO ili sl.","Thermal insulation of water pipes-type PLAMAFLEX ISO etc..","/","/","/","/","/","/",null,null,"/",null,"/","/",null,"/","/",null,"/","/",null,"/","/",null,"/","/",null,"/","/",null,"/","/",null,"/","/",null,"/","/",null,"/","/",null,"/","/",null,"/","/",null,"/","/",null,"/","/",null,"/","/",null,null,"/",null,"/","/",null,"/","/",null,"/","/",null,"/","/",null,"/","/",null,"/","/",null,"/","/",null,"/","/",null,"/","/",null,"/","/",null,"/","/",null,"/","/",null,"/","/",null,"/","/",null,"/","/",null,null,"/",null,"/","/",null,"/","/",null,"/","/",null,"/","/",null,"/","/",null,"/","/",null,"/","/",null,"/","/",null,"/","/",null,"/","/",null,"/","/",null,"/","/",null,"/","/",null,"/","/",null,"/","/",null,null,"/",null,"/","/",null,"/","/",null,"/","/",null,"/","/",null,"/","/",null,"/","/",null,"/","/",null,"/","/",null,"/","/",null,"/","/",null,"/","/",null,"/","/",null,"/","/",null,"/","/",null,"/","/",null,"/","/",null,"/","/",null,"/","/",null,"/","/",null,"/","/"]
["9.7.1",null,"B","d20   (22/9)   - 1/2\"","d20   (22/9)   - 1/2\"","m1",{"$f":"CENA!G178","v":0},{"$f":"J187+M187+P187+S187+V187+Y187+AB187+AE187+AH187+AK187+AN187+AQ187+AZ187+AW187+AT187+BC187+BF187+BI187+BL187+BO187+BR187+BU187+BX187+CA187+CD187+CG187+CJ187+CM187+CP187+CS187+CV187+CY187+DB187+DE187+DH187+DK187+DN187+DQ187+DT187+DW187+DZ187+EC187+EF187+EI187+EL187+EO187+ER187+EU187+EX187+FA187+FD187+FG187+FJ187+FM187+FP187+FS187+FV187+FY187+GB187+GE187+GH187+GK187+GN187+GQ187+GT187+GW187+GZ187+HC187+HF187+HI187","v":0},{"$f":"G187*H187","v":0},null,{"$f":"$G187*J187","v":0},null,null,{"$f":"$G187*M187","v":0},null,null,{"$f":"$G187*P187","v":0},null,null,{"$f":"$G187*S187","v":0},null,null,{"$f":"$G187*V187","v":0},null,null,{"$f":"$G187*Y187","v":0},null,null,{"$f":"$G187*AB187","v":0},null,null,{"$f":"$G187*AE187","v":0},null,null,{"$f":"$G187*AH187","v":0},null,null,{"$f":"$G187*AK187","v":0},null,null,{"$f":"$G187*AN187","v":0},null,null,{"$f":"$G187*AQ187","v":0},null,null,{"$f":"$G187*AT187","v":0},null,null,{"$f":"$G187*AW187","v":0},null,null,{"$f":"$G187*AZ187","v":0},null,null,{"$f":"$G187*BC187","v":0},null,null,{"$f":"$G187*BF187","v":0},null,null,{"$f":"$G187*BI187","v":0},null,null,{"$f":"$G187*BL187","v":0},null,null,{"$f":"$G187*BO187","v":0},null,null,{"$f":"$G187*BR187","v":0},null,null,{"$f":"$G187*BU187","v":0},null,null,{"$f":"$G187*BX187","v":0},null,null,{"$f":"$G187*CA187","v":0},null,null,{"$f":"$G187*CD187","v":0},null,null,{"$f":"$G187*CG187","v":0},null,null,{"$f":"$G187*CJ187","v":0},null,null,{"$f":"$G187*CM187","v":0},null,null,{"$f":"$G187*CP187","v":0},null,null,{"$f":"$G187*CS187","v":0},null,null,{"$f":"$G187*CV187","v":0},null,null,{"$f":"$G187*CY187","v":0},null,null,{"$f":"$G187*DB187","v":0},null,null,{"$f":"$G187*DE187","v":0},null,null,{"$f":"$G187*DH187","v":0},null,null,{"$f":"$G187*DK187","v":0},null,null,{"$f":"$G187*DN187","v":0},null,null,{"$f":"$G187*DQ187","v":0},null,null,{"$f":"$G187*DT187","v":0},null,null,{"$f":"$G187*DW187","v":0},null,null,{"$f":"$G187*DZ187","v":0},null,null,{"$f":"$G187*EC187","v":0},null,null,{"$f":"$G187*EF187","v":0},null,null,{"$f":"$G187*EI187","v":0},null,null,{"$f":"$G187*EL187","v":0},null,null,{"$f":"$G187*EO187","v":0},null,null,{"$f":"$G187*ER187","v":0},null,null,{"$f":"$G187*EU187","v":0},null,null,{"$f":"$G187*EX187","v":0},null,null,{"$f":"$G187*FA187","v":0},null,null,{"$f":"$G187*FD187","v":0},null,null,{"$f":"$G187*FG187","v":0},null,null,{"$f":"$G187*FJ187","v":0},null,null,{"$f":"$G187*FM187","v":0},null,null,{"$f":"$G187*FP187","v":0},null,null,{"$f":"$G187*FS187","v":0},null,null,{"$f":"$G187*FV187","v":0},null,null,{"$f":"$G187*FY187","v":0},null,null,{"$f":"$G187*GB187","v":0},null,null,{"$f":"$G187*GE187","v":0},null,null,{"$f":"$G187*GH187","v":0},null,null,{"$f":"$G187*GK187","v":0},null,null,{"$f":"$G187*GN187","v":0},null,null,{"$f":"$G187*GQ187","v":0},null,null,{"$f":"$G187*GT187","v":0},null,null,{"$f":"$G187*GW187","v":0},null,null,{"$f":"$G187*GZ187","v":0},null,null,{"$f":"$G187*HC187","v":0},null,null,{"$f":"$G187*HF187","v":0},null,null,{"$f":"$G187*HI187","v":0}]
["9.7.2",null,"C","d25   (25/9) - 3/4\"","d25   (25/9) - 3/4\"","m1",{"$f":"CENA!G179","v":0},0,0,null,{"$f":"$G188*J188","v":0},null,null,0,null,null,{"$f":"$G188*P188","v":0},null,null,{"$f":"$G188*S188","v":0},null,null,{"$f":"$G188*V188","v":0},null,null,{"$f":"$G188*Y188","v":0},null,null,{"$f":"$G188*AB188","v":0},null,null,{"$f":"$G188*AE188","v":0},null,null,{"$f":"$G188*AH188","v":0},null,null,{"$f":"$G188*AK188","v":0},null,null,{"$f":"$G188*AN188","v":0},null,null,{"$f":"$G188*AQ188","v":0},null,null,{"$f":"$G188*AT188","v":0},null,null,{"$f":"$G188*AW188","v":0},null,null,{"$f":"$G188*AZ188","v":0},null,null,{"$f":"$G188*BC188","v":0},null,null,0,null,null,0,null,null,{"$f":"$G188*BL188","v":0},null,null,{"$f":"$G188*BO188","v":0},null,null,{"$f":"$G188*BR188","v":0},null,null,{"$f":"$G188*BU188","v":0},null,null,{"$f":"$G188*BX188","v":0},null,null,{"$f":"$G188*CA188","v":0},null,null,{"$f":"$G188*CD188","v":0},null,null,{"$f":"$G188*CG188","v":0},null,null,{"$f":"$G188*CJ188","v":0},null,null,{"$f":"$G188*CM188","v":0},null,null,{"$f":"$G188*CP188","v":0},null,null,{"$f":"$G188*CS188","v":0},null,null,{"$f":"$G188*CV188","v":0},null,null,{"$f":"$G188*CY188","v":0},null,null,0,null,null,0,null,null,{"$f":"$G188*DH188","v":0},null,null,{"$f":"$G188*DK188","v":0},null,null,{"$f":"$G188*DN188","v":0},null,null,{"$f":"$G188*DQ188","v":0},null,null,{"$f":"$G188*DT188","v":0},null,null,{"$f":"$G188*DW188","v":0},null,null,{"$f":"$G188*DZ188","v":0},null,null,{"$f":"$G188*EC188","v":0},null,null,{"$f":"$G188*EF188","v":0},null,null,{"$f":"$G188*EI188","v":0},null,null,{"$f":"$G188*EL188","v":0},null,null,{"$f":"$G188*EO188","v":0},null,null,{"$f":"$G188*ER188","v":0},null,null,{"$f":"$G188*EU188","v":0},null,null,0,null,null,0,null,null,{"$f":"$G188*FD188","v":0},null,null,{"$f":"$G188*FG188","v":0},null,null,{"$f":"$G188*FJ188","v":0},null,null,{"$f":"$G188*FM188","v":0},null,null,{"$f":"$G188*FP188","v":0},null,null,{"$f":"$G188*FS188","v":0},null,null,{"$f":"$G188*FV188","v":0},null,null,{"$f":"$G188*FY188","v":0},null,null,{"$f":"$G188*GB188","v":0},null,null,{"$f":"$G188*GE188","v":0},null,null,{"$f":"$G188*GH188","v":0},null,null,{"$f":"$G188*GK188","v":0},null,null,{"$f":"$G188*GN188","v":0},null,null,{"$f":"$G188*GQ188","v":0},null,null,{"$f":"$G188*GT188","v":0},null,null,{"$f":"$G188*GW188","v":0},null,null,{"$f":"$G188*GZ188","v":0},null,null,{"$f":"$G188*HC188","v":0},null,null,{"$f":"$G188*HF188","v":0},null,null,{"$f":"$G188*HI188","v":0}]
["9.7.3",null,"D","d32   (35/9)-     1\"","d32   (35/9)-     1\"","m1",{"$f":"CENA!G180","v":0},0,0,null,{"$f":"$G189*J189","v":0},null,null,0,null,null,{"$f":"$G189*P189","v":0},null,null,{"$f":"$G189*S189","v":0},null,null,{"$f":"$G189*V189","v":0},null,null,{"$f":"$G189*Y189","v":0},null,null,{"$f":"$G189*AB189","v":0},null,null,{"$f":"$G189*AE189","v":0},null,null,{"$f":"$G189*AH189","v":0},null,null,{"$f":"$G189*AK189","v":0},null,null,{"$f":"$G189*AN189","v":0},null,null,{"$f":"$G189*AQ189","v":0},null,null,{"$f":"$G189*AT189","v":0},null,null,{"$f":"$G189*AW189","v":0},null,null,{"$f":"$G189*AZ189","v":0},null,null,{"$f":"$G189*BC189","v":0},null,null,0,null,null,0,null,null,{"$f":"$G189*BL189","v":0},null,null,{"$f":"$G189*BO189","v":0},null,null,{"$f":"$G189*BR189","v":0},null,null,{"$f":"$G189*BU189","v":0},null,null,{"$f":"$G189*BX189","v":0},null,null,{"$f":"$G189*CA189","v":0},null,null,{"$f":"$G189*CD189","v":0},null,null,{"$f":"$G189*CG189","v":0},null,null,{"$f":"$G189*CJ189","v":0},null,null,{"$f":"$G189*CM189","v":0},null,null,{"$f":"$G189*CP189","v":0},null,null,{"$f":"$G189*CS189","v":0},null,null,{"$f":"$G189*CV189","v":0},null,null,{"$f":"$G189*CY189","v":0},null,null,0,null,null,0,null,null,{"$f":"$G189*DH189","v":0},null,null,{"$f":"$G189*DK189","v":0},null,null,{"$f":"$G189*DN189","v":0},null,null,{"$f":"$G189*DQ189","v":0},null,null,{"$f":"$G189*DT189","v":0},null,null,{"$f":"$G189*DW189","v":0},null,null,{"$f":"$G189*DZ189","v":0},null,null,{"$f":"$G189*EC189","v":0},null,null,{"$f":"$G189*EF189","v":0},null,null,{"$f":"$G189*EI189","v":0},null,null,{"$f":"$G189*EL189","v":0},null,null,{"$f":"$G189*EO189","v":0},null,null,{"$f":"$G189*ER189","v":0},null,null,{"$f":"$G189*EU189","v":0},null,null,0,null,null,0,null,null,{"$f":"$G189*FD189","v":0},null,null,{"$f":"$G189*FG189","v":0},null,null,{"$f":"$G189*FJ189","v":0},null,null,{"$f":"$G189*FM189","v":0},null,null,{"$f":"$G189*FP189","v":0},null,null,{"$f":"$G189*FS189","v":0},null,null,{"$f":"$G189*FV189","v":0},null,null,{"$f":"$G189*FY189","v":0},null,null,{"$f":"$G189*GB189","v":0},null,null,{"$f":"$G189*GE189","v":0},null,null,{"$f":"$G189*GH189","v":0},null,null,{"$f":"$G189*GK189","v":0},null,null,{"$f":"$G189*GN189","v":0},null,null,{"$f":"$G189*GQ189","v":0},null,null,{"$f":"$G189*GT189","v":0},null,null,{"$f":"$G189*GW189","v":0},null,null,{"$f":"$G189*GZ189","v":0},null,null,{"$f":"$G189*HC189","v":0},null,null,{"$f":"$G189*HF189","v":0},null,null,{"$f":"$G189*HI189","v":0}]
[null,null,null,"Kanalizacija","SEWAGE"]
["9.8","V",8,"PVC kanalizacione cevi SDR 41 / SN4 / PN5\nza spoljni razvod, kućna i ulična kanalizacija","PVC sewer pipe SDR 41 / CH4 / PN5\nfor external distribution, household and street sewage","/","/","/","/","/","/",null,null,"/",null,"/","/",null,"/","/",null,"/","/",null,"/","/",null,"/","/",null,"/","/",null,"/","/",null,"/","/",null,"/","/",null,"/","/",null,"/","/",null,"/","/",null,"/","/",null,"/","/",null,"/","/",null,null,"/",null,"/","/",null,"/","/",null,"/","/",null,"/","/",null,"/","/",null,"/","/",null,"/","/",null,"/","/",null,"/","/",null,"/","/",null,"/","/",null,"/","/",null,"/","/",null,"/","/",null,"/","/",null,null,"/",null,"/","/",null,"/","/",null,"/","/",null,"/","/",null,"/","/",null,"/","/",null,"/","/",null,"/","/",null,"/","/",null,"/","/",null,"/","/",null,"/","/",null,"/","/",null,"/","/",null,"/","/",null,null,"/",null,"/","/",null,"/","/",null,"/","/",null,"/","/",null,"/","/",null,"/","/",null,"/","/",null,"/","/",null,"/","/",null,"/","/",null,"/","/",null,"/","/",null,"/","/",null,"/","/",null,"/","/",null,"/","/",null,"/","/",null,"/","/",null,"/","/",null,"/","/"]
["9.8.1",null,"A","d110 (s min.   3,2)    dužina 6,0m","d110 (s min.   3,2)    length 6,0m","kom/pcs",{"$f":"CENA!G183","v":0},{"$f":"J192+M192+P192+S192+V192+Y192+AB192+AE192+AH192+AK192+AN192+AQ192+AZ192+AW192+AT192+BC192+BF192+BI192+BL192+BO192+BR192+BU192+BX192+CA192+CD192+CG192+CJ192+CM192+CP192+CS192+CV192+CY192+DB192+DE192+DH192+DK192+DN192+DQ192+DT192+DW192+DZ192+EC192+EF192+EI192+EL192+EO192+ER192+EU192+EX192+FA192+FD192+FG192+FJ192+FM192+FP192+FS192+FV192+FY192+GB192+GE192+GH192+GK192+GN192+GQ192+GT192+GW192+GZ192+HC192+HF192+HI192","v":0},{"$f":"G192*H192","v":0},null,{"$f":"$G192*J192","v":0},null,null,{"$f":"$G192*M192","v":0},null,null,{"$f":"$G192*P192","v":0},null,null,{"$f":"$G192*S192","v":0},null,null,{"$f":"$G192*V192","v":0},null,null,{"$f":"$G192*Y192","v":0},null,null,{"$f":"$G192*AB192","v":0},null,null,{"$f":"$G192*AE192","v":0},null,null,{"$f":"$G192*AH192","v":0},null,null,{"$f":"$G192*AK192","v":0},null,null,{"$f":"$G192*AN192","v":0},null,null,{"$f":"$G192*AQ192","v":0},null,null,{"$f":"$G192*AT192","v":0},null,null,{"$f":"$G192*AW192","v":0},null,null,{"$f":"$G192*AZ192","v":0},null,null,{"$f":"$G192*BC192","v":0},null,null,{"$f":"$G192*BF192","v":0},null,null,{"$f":"$G192*BI192","v":0},null,null,{"$f":"$G192*BL192","v":0},null,null,{"$f":"$G192*BO192","v":0},null,null,{"$f":"$G192*BR192","v":0},null,null,{"$f":"$G192*BU192","v":0},null,null,{"$f":"$G192*BX192","v":0},null,null,{"$f":"$G192*CA192","v":0},null,null,{"$f":"$G192*CD192","v":0},null,null,{"$f":"$G192*CG192","v":0},null,null,{"$f":"$G192*CJ192","v":0},null,null,{"$f":"$G192*CM192","v":0},null,null,{"$f":"$G192*CP192","v":0},null,null,{"$f":"$G192*CS192","v":0},null,null,{"$f":"$G192*CV192","v":0},null,null,{"$f":"$G192*CY192","v":0},null,null,{"$f":"$G192*DB192","v":0},null,null,{"$f":"$G192*DE192","v":0},null,null,{"$f":"$G192*DH192","v":0},null,null,{"$f":"$G192*DK192","v":0},null,null,{"$f":"$G192*DN192","v":0},null,null,{"$f":"$G192*DQ192","v":0},null,null,{"$f":"$G192*DT192","v":0},null,null,{"$f":"$G192*DW192","v":0},null,null,{"$f":"$G192*DZ192","v":0},null,null,{"$f":"$G192*EC192","v":0},null,null,{"$f":"$G192*EF192","v":0},null,null,{"$f":"$G192*EI192","v":0},null,null,{"$f":"$G192*EL192","v":0},null,null,{"$f":"$G192*EO192","v":0},null,null,{"$f":"$G192*ER192","v":0},null,null,{"$f":"$G192*EU192","v":0},null,null,{"$f":"$G192*EX192","v":0},null,null,{"$f":"$G192*FA192","v":0},null,null,{"$f":"$G192*FD192","v":0},null,null,{"$f":"$G192*FG192","v":0},null,null,{"$f":"$G192*FJ192","v":0},null,null,{"$f":"$G192*FM192","v":0},null,null,{"$f":"$G192*FP192","v":0},null,null,{"$f":"$G192*FS192","v":0},null,null,{"$f":"$G192*FV192","v":0},null,null,{"$f":"$G192*FY192","v":0},null,null,{"$f":"$G192*GB192","v":0},null,null,{"$f":"$G192*GE192","v":0},null,null,{"$f":"$G192*GH192","v":0},null,null,{"$f":"$G192*GK192","v":0},null,null,{"$f":"$G192*GN192","v":0},null,null,{"$f":"$G192*GQ192","v":0},null,null,{"$f":"$G192*GT192","v":0},null,null,{"$f":"$G192*GW192","v":0},null,null,{"$f":"$G192*GZ192","v":0},null,null,{"$f":"$G192*HC192","v":0},null,null,{"$f":"$G192*HF192","v":0},null,null,{"$f":"$G192*HI192","v":0}]
["9.8.2",null,"B","d160 (s min.   4,0)    dužina 6,0m","d160 (s min.   4,0)    length 6,0m","kom/pcs",{"$f":"CENA!G184","v":0},0,0,null,{"$f":"$G193*J193","v":0},null,null,0,null,null,{"$f":"$G193*P193","v":0},null,null,{"$f":"$G193*S193","v":0},null,null,{"$f":"$G193*V193","v":0},null,null,{"$f":"$G193*Y193","v":0},null,null,{"$f":"$G193*AB193","v":0},null,null,{"$f":"$G193*AE193","v":0},null,null,{"$f":"$G193*AH193","v":0},null,null,{"$f":"$G193*AK193","v":0},null,null,{"$f":"$G193*AN193","v":0},null,null,{"$f":"$G193*AQ193","v":0},null,null,{"$f":"$G193*AT193","v":0},null,null,{"$f":"$G193*AW193","v":0},null,null,{"$f":"$G193*AZ193","v":0},null,null,{"$f":"$G193*BC193","v":0},null,null,0,null,null,0,null,null,{"$f":"$G193*BL193","v":0},null,null,{"$f":"$G193*BO193","v":0},null,null,{"$f":"$G193*BR193","v":0},null,null,{"$f":"$G193*BU193","v":0},null,null,{"$f":"$G193*BX193","v":0},null,null,{"$f":"$G193*CA193","v":0},null,null,{"$f":"$G193*CD193","v":0},null,null,{"$f":"$G193*CG193","v":0},null,null,{"$f":"$G193*CJ193","v":0},null,null,{"$f":"$G193*CM193","v":0},null,null,{"$f":"$G193*CP193","v":0},null,null,{"$f":"$G193*CS193","v":0},null,null,{"$f":"$G193*CV193","v":0},null,null,{"$f":"$G193*CY193","v":0},null,null,0,null,null,0,null,null,{"$f":"$G193*DH193","v":0},null,null,{"$f":"$G193*DK193","v":0},null,null,{"$f":"$G193*DN193","v":0},null,null,{"$f":"$G193*DQ193","v":0},null,null,{"$f":"$G193*DT193","v":0},null,null,{"$f":"$G193*DW193","v":0},null,null,{"$f":"$G193*DZ193","v":0},null,null,{"$f":"$G193*EC193","v":0},null,null,{"$f":"$G193*EF193","v":0},null,null,{"$f":"$G193*EI193","v":0},null,null,{"$f":"$G193*EL193","v":0},null,null,{"$f":"$G193*EO193","v":0},null,null,{"$f":"$G193*ER193","v":0},null,null,{"$f":"$G193*EU193","v":0},null,null,0,null,null,0,null,null,{"$f":"$G193*FD193","v":0},null,null,{"$f":"$G193*FG193","v":0},null,null,{"$f":"$G193*FJ193","v":0},null,null,{"$f":"$G193*FM193","v":0},null,null,{"$f":"$G193*FP193","v":0},null,null,{"$f":"$G193*FS193","v":0},null,null,{"$f":"$G193*FV193","v":0},null,null,{"$f":"$G193*FY193","v":0},null,null,{"$f":"$G193*GB193","v":0},null,null,{"$f":"$G193*GE193","v":0},null,null,{"$f":"$G193*GH193","v":0},null,null,{"$f":"$G193*GK193","v":0},null,null,{"$f":"$G193*GN193","v":0},null,null,{"$f":"$G193*GQ193","v":0},null,null,{"$f":"$G193*GT193","v":0},null,null,{"$f":"$G193*GW193","v":0},null,null,{"$f":"$G193*GZ193","v":0},null,null,{"$f":"$G193*HC193","v":0},null,null,{"$f":"$G193*HF193","v":0},null,null,{"$f":"$G193*HI193","v":0}]
["9.9","V",9,"Plastične PP cevi SDR 51 / SN2 / PN4\nza unutrašnji (kućni) razvod, kućna kanalizacija","Plastic PP pipes SDR 51 / SN2 / PN4\nfor internal (home) distribution, household sewage","/","/","/","/","/","/",null,null,"/",null,"/","/",null,"/","/",null,"/","/",null,"/","/",null,"/","/",null,"/","/",null,"/","/",null,"/","/",null,"/","/",null,"/","/",null,"/","/",null,"/","/",null,"/","/",null,"/","/",null,"/","/",null,null,"/",null,"/","/",null,"/","/",null,"/","/",null,"/","/",null,"/","/",null,"/","/",null,"/","/",null,"/","/",null,"/","/",null,"/","/",null,"/","/",null,"/","/",null,"/","/",null,"/","/",null,"/","/",null,null,"/",null,"/","/",null,"/","/",null,"/","/",null,"/","/",null,"/","/",null,"/","/",null,"/","/",null,"/","/",null,"/","/",null,"/","/",null,"/","/",null,"/","/",null,"/","/",null,"/","/",null,"/","/",null,null,"/",null,"/","/",null,"/","/",null,"/","/",null,"/","/",null,"/","/",null,"/","/",null,"/","/",null,"/","/",null,"/","/",null,"/","/",null,"/","/",null,"/","/",null,"/","/",null,"/","/",null,"/","/",null,"/","/",null,"/","/",null,"/","/",null,"/","/",null,"/","/"]
["9.9.1",null,"A","d50     (s min.   1,8)    dužina 3,0m","d50     (s min.   1,8)    length 3,0m","kom/pcs",{"$f":"CENA!G186","v":0},{"$f":"J195+M195+P195+S195+V195+Y195+AB195+AE195+AH195+AK195+AN195+AQ195+AZ195+AW195+AT195+BC195+BF195+BI195+BL195+BO195+BR195+BU195+BX195+CA195+CD195+CG195+CJ195+CM195+CP195+CS195+CV195+CY195+DB195+DE195+DH195+DK195+DN195+DQ195+DT195+DW195+DZ195+EC195+EF195+EI195+EL195+EO195+ER195+EU195+EX195+FA195+FD195+FG195+FJ195+FM195+FP195+FS195+FV195+FY195+GB195+GE195+GH195+GK195+GN195+GQ195+GT195+GW195+GZ195+HC195+HF195+HI195","v":0},{"$f":"G195*H195","v":0},null,{"$f":"$G195*J195","v":0},null,null,{"$f":"$G195*M195","v":0},null,null,{"$f":"$G195*P195","v":0},null,null,{"$f":"$G195*S195","v":0},null,null,{"$f":"$G195*V195","v":0},null,null,{"$f":"$G195*Y195","v":0},null,null,{"$f":"$G195*AB195","v":0},null,null,{"$f":"$G195*AE195","v":0},null,null,{"$f":"$G195*AH195","v":0},null,null,{"$f":"$G195*AK195","v":0},null,null,{"$f":"$G195*AN195","v":0},null,null,{"$f":"$G195*AQ195","v":0},null,null,{"$f":"$G195*AT195","v":0},null,null,{"$f":"$G195*AW195","v":0},null,null,{"$f":"$G195*AZ195","v":0},null,null,{"$f":"$G195*BC195","v":0},null,null,{"$f":"$G195*BF195","v":0},null,null,{"$f":"$G195*BI195","v":0},null,null,{"$f":"$G195*BL195","v":0},null,null,{"$f":"$G195*BO195","v":0},null,null,{"$f":"$G195*BR195","v":0},null,null,{"$f":"$G195*BU195","v":0},null,null,{"$f":"$G195*BX195","v":0},null,null,{"$f":"$G195*CA195","v":0},null,null,{"$f":"$G195*CD195","v":0},null,null,{"$f":"$G195*CG195","v":0},null,null,{"$f":"$G195*CJ195","v":0},null,null,{"$f":"$G195*CM195","v":0},null,null,{"$f":"$G195*CP195","v":0},null,null,{"$f":"$G195*CS195","v":0},null,null,{"$f":"$G195*CV195","v":0},null,null,{"$f":"$G195*CY195","v":0},null,null,{"$f":"$G195*DB195","v":0},null,null,{"$f":"$G195*DE195","v":0},null,null,{"$f":"$G195*DH195","v":0},null,null,{"$f":"$G195*DK195","v":0},null,null,{"$f":"$G195*DN195","v":0},null,null,{"$f":"$G195*DQ195","v":0},null,null,{"$f":"$G195*DT195","v":0},null,null,{"$f":"$G195*DW195","v":0},null,null,{"$f":"$G195*DZ195","v":0},null,null,{"$f":"$G195*EC195","v":0},null,null,{"$f":"$G195*EF195","v":0},null,null,{"$f":"$G195*EI195","v":0},null,null,{"$f":"$G195*EL195","v":0},null,null,{"$f":"$G195*EO195","v":0},null,null,{"$f":"$G195*ER195","v":0},null,null,{"$f":"$G195*EU195","v":0},null,null,{"$f":"$G195*EX195","v":0},null,null,{"$f":"$G195*FA195","v":0},null,null,{"$f":"$G195*FD195","v":0},null,null,{"$f":"$G195*FG195","v":0},null,null,{"$f":"$G195*FJ195","v":0},null,null,{"$f":"$G195*FM195","v":0},null,null,{"$f":"$G195*FP195","v":0},null,null,{"$f":"$G195*FS195","v":0},null,null,{"$f":"$G195*FV195","v":0},null,null,{"$f":"$G195*FY195","v":0},null,null,{"$f":"$G195*GB195","v":0},null,null,{"$f":"$G195*GE195","v":0},null,null,{"$f":"$G195*GH195","v":0},null,null,{"$f":"$G195*GK195","v":0},null,null,{"$f":"$G195*GN195","v":0},null,null,{"$f":"$G195*GQ195","v":0},null,null,{"$f":"$G195*GT195","v":0},null,null,{"$f":"$G195*GW195","v":0},null,null,{"$f":"$G195*GZ195","v":0},null,null,{"$f":"$G195*HC195","v":0},null,null,{"$f":"$G195*HF195","v":0},null,null,{"$f":"$G195*HI195","v":0}]
["9.9.2",null,"B","d75     (s min.   1,9)    dužina 3,0m","d75     (s min.   1,9)    length 3,0m","kom/pcs",{"$f":"CENA!G187","v":0},0,0,null,{"$f":"$G196*J196","v":0},null,null,0,null,null,{"$f":"$G196*P196","v":0},null,null,{"$f":"$G196*S196","v":0},null,null,{"$f":"$G196*V196","v":0},null,null,{"$f":"$G196*Y196","v":0},null,null,{"$f":"$G196*AB196","v":0},null,null,{"$f":"$G196*AE196","v":0},null,null,{"$f":"$G196*AH196","v":0},null,null,{"$f":"$G196*AK196","v":0},null,null,{"$f":"$G196*AN196","v":0},null,null,{"$f":"$G196*AQ196","v":0},null,null,{"$f":"$G196*AT196","v":0},null,null,{"$f":"$G196*AW196","v":0},null,null,{"$f":"$G196*AZ196","v":0},null,null,{"$f":"$G196*BC196","v":0},null,null,0,null,null,0,null,null,{"$f":"$G196*BL196","v":0},null,null,{"$f":"$G196*BO196","v":0},null,null,{"$f":"$G196*BR196","v":0},null,null,{"$f":"$G196*BU196","v":0},null,null,{"$f":"$G196*BX196","v":0},null,null,{"$f":"$G196*CA196","v":0},null,null,{"$f":"$G196*CD196","v":0},null,null,{"$f":"$G196*CG196","v":0},null,null,{"$f":"$G196*CJ196","v":0},null,null,{"$f":"$G196*CM196","v":0},null,null,{"$f":"$G196*CP196","v":0},null,null,{"$f":"$G196*CS196","v":0},null,null,{"$f":"$G196*CV196","v":0},null,null,{"$f":"$G196*CY196","v":0},null,null,0,null,null,0,null,null,{"$f":"$G196*DH196","v":0},null,null,{"$f":"$G196*DK196","v":0},null,null,{"$f":"$G196*DN196","v":0},null,null,{"$f":"$G196*DQ196","v":0},null,null,{"$f":"$G196*DT196","v":0},null,null,{"$f":"$G196*DW196","v":0},null,null,{"$f":"$G196*DZ196","v":0},null,null,{"$f":"$G196*EC196","v":0},null,null,{"$f":"$G196*EF196","v":0},null,null,{"$f":"$G196*EI196","v":0},null,null,{"$f":"$G196*EL196","v":0},null,null,{"$f":"$G196*EO196","v":0},null,null,{"$f":"$G196*ER196","v":0},null,null,{"$f":"$G196*EU196","v":0},null,null,0,null,null,0,null,null,{"$f":"$G196*FD196","v":0},null,null,{"$f":"$G196*FG196","v":0},null,null,{"$f":"$G196*FJ196","v":0},null,null,{"$f":"$G196*FM196","v":0},null,null,{"$f":"$G196*FP196","v":0},null,null,{"$f":"$G196*FS196","v":0},null,null,{"$f":"$G196*FV196","v":0},null,null,{"$f":"$G196*FY196","v":0},null,null,{"$f":"$G196*GB196","v":0},null,null,{"$f":"$G196*GE196","v":0},null,null,{"$f":"$G196*GH196","v":0},null,null,{"$f":"$G196*GK196","v":0},null,null,{"$f":"$G196*GN196","v":0},null,null,{"$f":"$G196*GQ196","v":0},null,null,{"$f":"$G196*GT196","v":0},null,null,{"$f":"$G196*GW196","v":0},null,null,{"$f":"$G196*GZ196","v":0},null,null,{"$f":"$G196*HC196","v":0},null,null,{"$f":"$G196*HF196","v":0},null,null,{"$f":"$G196*HI196","v":0}]
["9.9.3",null,"C","d110  (s min.   2,7)    dužina 3,0m","d110  (s min.   2,7)    length 3,0m","kom/pcs",{"$f":"CENA!G188","v":0},0,0,null,{"$f":"$G197*J197","v":0},null,null,0,null,null,{"$f":"$G197*P197","v":0},null,null,{"$f":"$G197*S197","v":0},null,null,{"$f":"$G197*V197","v":0},null,null,{"$f":"$G197*Y197","v":0},null,null,{"$f":"$G197*AB197","v":0},null,null,{"$f":"$G197*AE197","v":0},null,null,{"$f":"$G197*AH197","v":0},null,null,{"$f":"$G197*AK197","v":0},null,null,{"$f":"$G197*AN197","v":0},null,null,{"$f":"$G197*AQ197","v":0},null,null,{"$f":"$G197*AT197","v":0},null,null,{"$f":"$G197*AW197","v":0},null,null,{"$f":"$G197*AZ197","v":0},null,null,{"$f":"$G197*BC197","v":0},null,null,0,null,null,0,null,null,{"$f":"$G197*BL197","v":0},null,null,{"$f":"$G197*BO197","v":0},null,null,{"$f":"$G197*BR197","v":0},null,null,{"$f":"$G197*BU197","v":0},null,null,{"$f":"$G197*BX197","v":0},null,null,{"$f":"$G197*CA197","v":0},null,null,{"$f":"$G197*CD197","v":0},null,null,{"$f":"$G197*CG197","v":0},null,null,{"$f":"$G197*CJ197","v":0},null,null,{"$f":"$G197*CM197","v":0},null,null,{"$f":"$G197*CP197","v":0},null,null,{"$f":"$G197*CS197","v":0},null,null,{"$f":"$G197*CV197","v":0},null,null,{"$f":"$G197*CY197","v":0},null,null,0,null,null,0,null,null,{"$f":"$G197*DH197","v":0},null,null,{"$f":"$G197*DK197","v":0},null,null,{"$f":"$G197*DN197","v":0},null,null,{"$f":"$G197*DQ197","v":0},null,null,{"$f":"$G197*DT197","v":0},null,null,{"$f":"$G197*DW197","v":0},null,null,{"$f":"$G197*DZ197","v":0},null,null,{"$f":"$G197*EC197","v":0},null,null,{"$f":"$G197*EF197","v":0},null,null,{"$f":"$G197*EI197","v":0},null,null,{"$f":"$G197*EL197","v":0},null,null,{"$f":"$G197*EO197","v":0},null,null,{"$f":"$G197*ER197","v":0},null,null,{"$f":"$G197*EU197","v":0},null,null,0,null,null,0,null,null,{"$f":"$G197*FD197","v":0},null,null,{"$f":"$G197*FG197","v":0},null,null,{"$f":"$G197*FJ197","v":0},null,null,{"$f":"$G197*FM197","v":0},null,null,{"$f":"$G197*FP197","v":0},null,null,{"$f":"$G197*FS197","v":0},null,null,{"$f":"$G197*FV197","v":0},null,null,{"$f":"$G197*FY197","v":0},null,null,{"$f":"$G197*GB197","v":0},null,null,{"$f":"$G197*GE197","v":0},null,null,{"$f":"$G197*GH197","v":0},null,null,{"$f":"$G197*GK197","v":0},null,null,{"$f":"$G197*GN197","v":0},null,null,{"$f":"$G197*GQ197","v":0},null,null,{"$f":"$G197*GT197","v":0},null,null,{"$f":"$G197*GW197","v":0},null,null,{"$f":"$G197*GZ197","v":0},null,null,{"$f":"$G197*HC197","v":0},null,null,{"$f":"$G197*HF197","v":0},null,null,{"$f":"$G197*HI197","v":0}]
["9.10","V",10,"Plitki PE podni slivnik d50 sa horizontalnim odvodom dimenzija 150x150mm","Shallow PE floor drain with horizontal outlet d50 size 150x150mm","kom/pcs",{"$f":"CENA!G189","v":0},0,0,null,{"$f":"$G198*J198","v":0},null,null,0,null,null,{"$f":"$G198*P198","v":0},null,null,{"$f":"$G198*S198","v":0},null,null,{"$f":"$G198*V198","v":0},null,null,{"$f":"$G198*Y198","v":0},null,null,{"$f":"$G198*AB198","v":0},null,null,{"$f":"$G198*AE198","v":0},null,null,{"$f":"$G198*AH198","v":0},null,null,{"$f":"$G198*AK198","v":0},null,null,{"$f":"$G198*AN198","v":0},null,null,{"$f":"$G198*AQ198","v":0},null,null,{"$f":"$G198*AT198","v":0},null,null,{"$f":"$G198*AW198","v":0},null,null,{"$f":"$G198*AZ198","v":0},null,null,{"$f":"$G198*BC198","v":0},null,null,0,null,null,0,null,null,{"$f":"$G198*BL198","v":0},null,null,{"$f":"$G198*BO198","v":0},null,null,{"$f":"$G198*BR198","v":0},null,null,{"$f":"$G198*BU198","v":0},null,null,{"$f":"$G198*BX198","v":0},null,null,{"$f":"$G198*CA198","v":0},null,null,{"$f":"$G198*CD198","v":0},null,null,{"$f":"$G198*CG198","v":0},null,null,{"$f":"$G198*CJ198","v":0},null,null,{"$f":"$G198*CM198","v":0},null,null,{"$f":"$G198*CP198","v":0},null,null,{"$f":"$G198*CS198","v":0},null,null,{"$f":"$G198*CV198","v":0},null,null,{"$f":"$G198*CY198","v":0},null,null,0,null,null,0,null,null,{"$f":"$G198*DH198","v":0},null,null,{"$f":"$G198*DK198","v":0},null,null,{"$f":"$G198*DN198","v":0},null,null,{"$f":"$G198*DQ198","v":0},null,null,{"$f":"$G198*DT198","v":0},null,null,{"$f":"$G198*DW198","v":0},null,null,{"$f":"$G198*DZ198","v":0},null,null,{"$f":"$G198*EC198","v":0},null,null,{"$f":"$G198*EF198","v":0},null,null,{"$f":"$G198*EI198","v":0},null,null,{"$f":"$G198*EL198","v":0},null,null,{"$f":"$G198*EO198","v":0},null,null,{"$f":"$G198*ER198","v":0},null,null,{"$f":"$G198*EU198","v":0},null,null,0,null,null,0,null,null,{"$f":"$G198*FD198","v":0},null,null,{"$f":"$G198*FG198","v":0},null,null,{"$f":"$G198*FJ198","v":0},null,null,{"$f":"$G198*FM198","v":0},null,null,{"$f":"$G198*FP198","v":0},null,null,{"$f":"$G198*FS198","v":0},null,null,{"$f":"$G198*FV198","v":0},null,null,{"$f":"$G198*FY198","v":0},null,null,{"$f":"$G198*GB198","v":0},null,null,{"$f":"$G198*GE198","v":0},null,null,{"$f":"$G198*GH198","v":0},null,null,{"$f":"$G198*GK198","v":0},null,null,{"$f":"$G198*GN198","v":0},null,null,{"$f":"$G198*GQ198","v":0},null,null,{"$f":"$G198*GT198","v":0},null,null,{"$f":"$G198*GW198","v":0},null,null,{"$f":"$G198*GZ198","v":0},null,null,{"$f":"$G198*HC198","v":0},null,null,{"$f":"$G198*HF198","v":0},null,null,{"$f":"$G198*HI198","v":0}]
["9.11","V",11,"Zidni sifoni sa odvodnom mesinganom cevi d32 (mašina za pranje veša i sudova)","Wall siphon with drainage brass tubes d32 (washing machines, dishwashers)","kom/pcs",{"$f":"CENA!G190","v":0},0,0,null,{"$f":"$G199*J199","v":0},null,null,0,null,null,{"$f":"$G199*P199","v":0},null,null,{"$f":"$G199*S199","v":0},null,null,{"$f":"$G199*V199","v":0},null,null,{"$f":"$G199*Y199","v":0},null,null,{"$f":"$G199*AB199","v":0},null,null,{"$f":"$G199*AE199","v":0},null,null,{"$f":"$G199*AH199","v":0},null,null,{"$f":"$G199*AK199","v":0},null,null,{"$f":"$G199*AN199","v":0},null,null,{"$f":"$G199*AQ199","v":0},null,null,{"$f":"$G199*AT199","v":0},null,null,{"$f":"$G199*AW199","v":0},null,null,{"$f":"$G199*AZ199","v":0},null,null,{"$f":"$G199*BC199","v":0},null,null,0,null,null,0,null,null,{"$f":"$G199*BL199","v":0},null,null,{"$f":"$G199*BO199","v":0},null,null,{"$f":"$G199*BR199","v":0},null,null,{"$f":"$G199*BU199","v":0},null,null,{"$f":"$G199*BX199","v":0},null,null,{"$f":"$G199*CA199","v":0},null,null,{"$f":"$G199*CD199","v":0},null,null,{"$f":"$G199*CG199","v":0},null,null,{"$f":"$G199*CJ199","v":0},null,null,{"$f":"$G199*CM199","v":0},null,null,{"$f":"$G199*CP199","v":0},null,null,{"$f":"$G199*CS199","v":0},null,null,{"$f":"$G199*CV199","v":0},null,null,{"$f":"$G199*CY199","v":0},null,null,0,null,null,0,null,null,{"$f":"$G199*DH199","v":0},null,null,{"$f":"$G199*DK199","v":0},null,null,{"$f":"$G199*DN199","v":0},null,null,{"$f":"$G199*DQ199","v":0},null,null,{"$f":"$G199*DT199","v":0},null,null,{"$f":"$G199*DW199","v":0},null,null,{"$f":"$G199*DZ199","v":0},null,null,{"$f":"$G199*EC199","v":0},null,null,{"$f":"$G199*EF199","v":0},null,null,{"$f":"$G199*EI199","v":0},null,null,{"$f":"$G199*EL199","v":0},null,null,{"$f":"$G199*EO199","v":0},null,null,{"$f":"$G199*ER199","v":0},null,null,{"$f":"$G199*EU199","v":0},null,null,0,null,null,0,null,null,{"$f":"$G199*FD199","v":0},null,null,{"$f":"$G199*FG199","v":0},null,null,{"$f":"$G199*FJ199","v":0},null,null,{"$f":"$G199*FM199","v":0},null,null,{"$f":"$G199*FP199","v":0},null,null,{"$f":"$G199*FS199","v":0},null,null,{"$f":"$G199*FV199","v":0},null,null,{"$f":"$G199*FY199","v":0},null,null,{"$f":"$G199*GB199","v":0},null,null,{"$f":"$G199*GE199","v":0},null,null,{"$f":"$G199*GH199","v":0},null,null,{"$f":"$G199*GK199","v":0},null,null,{"$f":"$G199*GN199","v":0},null,null,{"$f":"$G199*GQ199","v":0},null,null,{"$f":"$G199*GT199","v":0},null,null,{"$f":"$G199*GW199","v":0},null,null,{"$f":"$G199*GZ199","v":0},null,null,{"$f":"$G199*HC199","v":0},null,null,{"$f":"$G199*HF199","v":0},null,null,{"$f":"$G199*HI199","v":0}]
[null,null,null,"Oprema u kupatilu","BATHROOM EQUPIMENT"]
["9.12","V",12,"WC šolja od keramike  I klase","Ceramic toilet bowl class 1","kom/pcs",{"$f":"CENA!G192","v":0},{"$f":"J201+M201+P201+S201+V201+Y201+AB201+AE201+AH201+AK201+AN201+AQ201+AZ201+AW201+AT201+BC201+BF201+BI201+BL201+BO201+BR201+BU201+BX201+CA201+CD201+CG201+CJ201+CM201+CP201+CS201+CV201+CY201+DB201+DE201+DH201+DK201+DN201+DQ201+DT201+DW201+DZ201+EC201+EF201+EI201+EL201+EO201+ER201+EU201+EX201+FA201+FD201+FG201+FJ201+FM201+FP201+FS201+FV201+FY201+GB201+GE201+GH201+GK201+GN201+GQ201+GT201+GW201+GZ201+HC201+HF201+HI201","v":1},{"$f":"G201*H201","v":0},1,{"$f":"$G201*J201","v":0},null,null,{"$f":"$G201*M201","v":0},null,null,{"$f":"$G201*P201","v":0},null,null,{"$f":"$G201*S201","v":0},null,null,{"$f":"$G201*V201","v":0},null,null,{"$f":"$G201*Y201","v":0},null,null,{"$f":"$G201*AB201","v":0},null,null,{"$f":"$G201*AE201","v":0},null,null,{"$f":"$G201*AH201","v":0},null,null,{"$f":"$G201*AK201","v":0},null,null,{"$f":"$G201*AN201","v":0},null,null,{"$f":"$G201*AQ201","v":0},null,null,{"$f":"$G201*AT201","v":0},null,null,{"$f":"$G201*AW201","v":0},null,null,{"$f":"$G201*AZ201","v":0},null,null,{"$f":"$G201*BC201","v":0},null,null,{"$f":"$G201*BF201","v":0},null,null,{"$f":"$G201*BI201","v":0},null,null,{"$f":"$G201*BL201","v":0},null,null,{"$f":"$G201*BO201","v":0},null,null,{"$f":"$G201*BR201","v":0},null,null,{"$f":"$G201*BU201","v":0},null,null,{"$f":"$G201*BX201","v":0},null,null,{"$f":"$G201*CA201","v":0},null,null,{"$f":"$G201*CD201","v":0},null,null,{"$f":"$G201*CG201","v":0},null,null,{"$f":"$G201*CJ201","v":0},null,null,{"$f":"$G201*CM201","v":0},null,null,{"$f":"$G201*CP201","v":0},null,null,{"$f":"$G201*CS201","v":0},null,null,{"$f":"$G201*CV201","v":0},null,null,{"$f":"$G201*CY201","v":0},null,null,{"$f":"$G201*DB201","v":0},null,null,{"$f":"$G201*DE201","v":0},null,null,{"$f":"$G201*DH201","v":0},null,null,{"$f":"$G201*DK201","v":0},null,null,{"$f":"$G201*DN201","v":0},null,null,{"$f":"$G201*DQ201","v":0},null,null,{"$f":"$G201*DT201","v":0},null,null,{"$f":"$G201*DW201","v":0},null,null,{"$f":"$G201*DZ201","v":0},null,null,{"$f":"$G201*EC201","v":0},null,null,{"$f":"$G201*EF201","v":0},null,null,{"$f":"$G201*EI201","v":0},null,null,{"$f":"$G201*EL201","v":0},null,null,{"$f":"$G201*EO201","v":0},null,null,{"$f":"$G201*ER201","v":0},null,null,{"$f":"$G201*EU201","v":0},null,null,{"$f":"$G201*EX201","v":0},null,null,{"$f":"$G201*FA201","v":0},null,null,{"$f":"$G201*FD201","v":0},null,null,{"$f":"$G201*FG201","v":0},null,null,{"$f":"$G201*FJ201","v":0},null,null,{"$f":"$G201*FM201","v":0},null,null,{"$f":"$G201*FP201","v":0},null,null,{"$f":"$G201*FS201","v":0},null,null,{"$f":"$G201*FV201","v":0},null,null,{"$f":"$G201*FY201","v":0},null,null,{"$f":"$G201*GB201","v":0},null,null,{"$f":"$G201*GE201","v":0},null,null,{"$f":"$G201*GH201","v":0},null,null,{"$f":"$G201*GK201","v":0},null,null,{"$f":"$G201*GN201","v":0},null,null,{"$f":"$G201*GQ201","v":0},null,null,{"$f":"$G201*GT201","v":0},null,null,{"$f":"$G201*GW201","v":0},null,null,{"$f":"$G201*GZ201","v":0},null,null,{"$f":"$G201*HC201","v":0},null,null,{"$f":"$G201*HF201","v":0},null,null,{"$f":"$G201*HI201","v":0}]
["9.13","V",13,"Niskomontažni plastični predzidni vodokotlić \nza nisku montažu iznad wc šolje sa plovkom i svim potrebnim delovima za funkcionisanje vodokotlića","Low mounting plastic-wall toilet tank\nfor low installation above the toilet bowl float and all the parts required for the operation of flushing","kom/pcs",{"$f":"CENA!G193","v":0},1,0,null,{"$f":"$G202*J202","v":0},null,null,0,null,null,0,null,null,0,null,null,0,null,1,0,null,null,0,null,null,0,null,null,0,null,null,0,null,null,0,null,null,0,null,null,0,null,null,0,null,null,0,null,null,0,null,null,0,null,null,0,null,null,0,null,null,0,null,null,0,null,null,0,null,null,0,null,null,0,null,null,0,null,null,0,null,null,0,null,null,0,null,null,0,null,null,0,null,null,0,null,null,0,null,null,0,null,null,0,null,null,0,null,null,0,null,null,0,null,null,0,null,null,0,null,null,0,null,null,0,null,null,0,null,null,0,null,null,0,null,null,0,null,null,0,null,null,0,null,null,0,null,null,0,null,null,0,null,null,0,null,null,0,null,null,0,null,null,0,null,null,0,null,null,0,null,null,0,null,null,0,null,null,0,null,null,0,null,null,0,null,null,0,null,null,0,null,null,0,null,null,0,null,null,0,null,null,0,null,null,0,null,null,0,null,null,0]
["9.14","V",14,"Umivaonikom sa stubom od keramike  I klase","Washbasin with ceramic pillar class 1","kom/pcs",{"$f":"CENA!G194","v":0},0,0,null,{"$f":"$G203*J203","v":0},null,null,0,null,null,0,null,null,0,null,null,0,null,null,0,null,null,0,null,null,0,null,null,0,null,null,0,null,null,0,null,null,0,null,null,0,null,null,0,null,null,0,null,null,0,null,null,0,null,null,0,null,null,0,null,null,0,null,null,0,null,null,0,null,null,0,null,null,0,null,null,0,null,null,0,null,null,0,null,null,0,null,null,0,null,null,0,null,null,0,null,null,0,null,null,0,null,null,0,null,null,0,null,null,0,null,null,0,null,null,0,null,null,0,null,null,0,null,null,0,null,null,0,null,null,0,null,null,0,null,null,0,null,null,0,null,null,0,null,null,0,null,null,0,null,null,0,null,null,0,null,null,0,null,null,0,null,null,0,null,null,0,null,null,0,null,null,0,null,null,0,null,null,0,null,null,0,null,null,0,null,null,0,null,null,0,null,null,0,null,null,0,null,null,0,null,null,0,null,null,0,null,null,0,null,null,0]
["9.15","V",15,"Pravougaona akrilna tuš kada\ndimenzija 90x90cm sa odlivnim ventilom","Rectangular acrylic shower \nsize 90x90cm with discharge valve","kom/pcs",{"$f":"CENA!G195","v":0},0,0,null,{"$f":"$G204*J204","v":0},null,null,0,null,null,0,null,null,0,null,null,0,null,null,0,null,null,0,null,null,0,null,null,0,null,null,0,null,null,0,null,null,0,null,null,0,null,null,0,null,null,0,null,null,0,null,null,0,null,null,0,null,null,0,null,null,0,null,null,0,null,null,0,null,null,0,null,null,0,null,null,0,null,null,0,null,null,0,null,null,0,null,null,0,null,null,0,null,null,0,null,null,0,null,null,0,null,null,0,null,null,0,null,null,0,null,null,0,null,null,0,null,null,0,null,null,0,null,null,0,null,null,0,null,null,0,null,null,0,null,null,0,null,null,0,null,null,0,null,null,0,null,null,0,null,null,0,null,null,0,null,null,0,null,null,0,null,null,0,null,null,0,null,null,0,null,null,0,null,null,0,null,null,0,null,null,0,null,null,0,null,null,0,null,null,0,null,null,0,null,null,0,null,null,0,null,null,0,null,null,0,null,null,0,null,null,0]
["9.16","V",16,"Električni akumulacioni bojler 50l vertikalni \ngrejač 2 kW, napon 230V, kazan izrađen od emajliranog lima, sa  pratećim materijalom za ugradnju","Electric storage water heater 50l vertical \nheater 2 kW, 230V, caldron made ​​of enameled steel, with supporting material for installation","kom/pcs",{"$f":"CENA!G196","v":0},1,0,null,{"$f":"$G205*J205","v":0},null,null,0,null,null,0,null,null,0,null,null,0,null,1,0,null,null,0,null,null,0,null,null,0,null,null,0,null,null,0,null,null,0,null,null,0,null,null,0,null,null,0,null,null,0,null,null,0,null,null,0,null,null,0,null,null,0,null,null,0,null,null,0,null,null,0,null,null,0,null,null,0,null,null,0,null,null,0,null,null,0,null,null,0,null,null,0,null,null,0,null,null,0,null,null,0,null,null,0,null,null,0,null,null,0,null,null,0,null,null,0,null,null,0,null,null,0,null,null,0,null,null,0,null,null,0,null,null,0,null,null,0,null,null,0,null,null,0,null,null,0,null,null,0,null,null,0,null,null,0,null,null,0,null,null,0,null,null,0,null,null,0,null,null,0,null,null,0,null,null,0,null,null,0,null,null,0,null,null,0,null,null,0,null,null,0,null,null,0,null,null,0,null,null,0,null,null,0,null,null,0,null,null,0,null,null,0]
["9.17","V",17,"Ogledalo sa etažerom (iznad umivaonika)\nčetvrtasto, min. dimenzija 80x60cm","Mirror with shelf above wash basin \nsquare, min. 80x60cm","kom/pcs",{"$f":"CENA!G197","v":0},{"$f":"J206+M206+P206+S206+V206+Y206+AB206+AE206+AH206+AK206+AN206+AQ206+AZ206+AW206+AT206+BC206+BF206+BI206+BL206+BO206+BR206+BU206+BX206+CA206+CD206+CG206+CJ206+CM206+CP206+CS206+CV206+CY206+DB206+DE206+DH206+DK206+DN206+DQ206+DT206+DW206+DZ206+EC206+EF206+EI206+EL206+EO206+ER206+EU206+EX206+FA206+FD206+FG206+FJ206+FM206+FP206+FS206+FV206+FY206+GB206+GE206+GH206+GK206+GN206+GQ206+GT206+GW206+GZ206+HC206+HF206+HI206","v":1},0,null,{"$f":"$G206*J206","v":0},null,null,0,null,null,0,null,null,0,null,null,0,null,1,0,null,null,0,null,null,0,null,null,0,null,null,0,null,null,0,null,null,0,null,null,0,null,null,0,null,null,0,null,null,0,null,null,0,null,null,0,null,null,0,null,null,0,null,null,0,null,null,0,null,null,0,null,null,0,null,null,0,null,null,0,null,null,0,null,null,0,null,null,0,null,null,0,null,null,0,null,null,0,null,null,0,null,null,0,null,null,0,null,null,0,null,null,0,null,null,0,null,null,0,null,null,0,null,null,0,null,null,0,null,null,0,null,null,0,null,null,0,null,null,0,null,null,0,null,null,0,null,null,0,null,null,0,null,null,0,null,null,0,null,null,0,null,null,0,null,null,0,null,null,0,null,null,0,null,null,0,null,null,0,null,null,0,null,null,0,null,null,0,null,null,0,null,null,0,null,null,0,null,null,0,null,null,0,null,null,0,null,null,0,null,null,0]
["9.18","V",18,"Baterije (slavine) \nhromirane baterije za hladnu i toplu vodu","Lever\nchrome lever for cold and hot water","/","/","/","/","/","/",null,null,"/",null,"/","/",null,"/","/",null,"/","/",null,"/","/",null,"/","/",null,"/","/",null,"/","/",null,"/","/",null,"/","/",null,"/","/",null,"/","/",null,"/","/",null,"/","/",null,"/","/",null,"/","/",null,null,"/",null,"/","/",null,"/","/",null,"/","/",null,"/","/",null,"/","/",null,"/","/",null,"/","/",null,"/","/",null,"/","/",null,"/","/",null,"/","/",null,"/","/",null,"/","/",null,"/","/",null,"/","/",null,null,"/",null,"/","/",null,"/","/",null,"/","/",null,"/","/",null,"/","/",null,"/","/",null,"/","/",null,"/","/",null,"/","/",null,"/","/",null,"/","/",null,"/","/",null,"/","/",null,"/","/",null,"/","/",null,null,"/",null,"/","/",null,"/","/",null,"/","/",null,"/","/",null,"/","/",null,"/","/",null,"/","/",null,"/","/",null,"/","/",null,"/","/",null,"/","/",null,"/","/",null,"/","/",null,"/","/",null,"/","/",null,"/","/",null,"/","/",null,"/","/",null,"/","/",null,"/","/"]
["9.18.1",null,"A","za umivaonik jednoručna stojeća ","For washbasin single lever basin standing","kom/pcs",{"$f":"CENA!G199","v":0},{"$f":"J208+M208+P208+S208+V208+Y208+AB208+AE208+AH208+AK208+AN208+AQ208+AZ208+AW208+AT208+BC208+BF208+BI208+BL208+BO208+BR208+BU208+BX208+CA208+CD208+CG208+CJ208+CM208+CP208+CS208+CV208+CY208+DB208+DE208+DH208+DK208+DN208+DQ208+DT208+DW208+DZ208+EC208+EF208+EI208+EL208+EO208+ER208+EU208+EX208+FA208+FD208+FG208+FJ208+FM208+FP208+FS208+FV208+FY208+GB208+GE208+GH208+GK208+GN208+GQ208+GT208+GW208+GZ208+HC208+HF208+HI208","v":0},{"$f":"G208*H208","v":0},null,{"$f":"$G208*J208","v":0},null,null,{"$f":"$G208*M208","v":0},null,null,{"$f":"$G208*P208","v":0},null,null,{"$f":"$G208*S208","v":0},null,null,{"$f":"$G208*V208","v":0},null,null,{"$f":"$G208*Y208","v":0},null,null,{"$f":"$G208*AB208","v":0},null,null,{"$f":"$G208*AE208","v":0},null,null,{"$f":"$G208*AH208","v":0},null,null,{"$f":"$G208*AK208","v":0},null,null,{"$f":"$G208*AN208","v":0},null,null,{"$f":"$G208*AQ208","v":0},null,null,{"$f":"$G208*AT208","v":0},null,null,{"$f":"$G208*AW208","v":0},null,null,{"$f":"$G208*AZ208","v":0},null,null,{"$f":"$G208*BC208","v":0},null,null,{"$f":"$G208*BF208","v":0},null,null,{"$f":"$G208*BI208","v":0},null,null,{"$f":"$G208*BL208","v":0},null,null,{"$f":"$G208*BO208","v":0},null,null,{"$f":"$G208*BR208","v":0},null,null,{"$f":"$G208*BU208","v":0},null,null,{"$f":"$G208*BX208","v":0},null,null,{"$f":"$G208*CA208","v":0},null,null,{"$f":"$G208*CD208","v":0},null,null,{"$f":"$G208*CG208","v":0},null,null,{"$f":"$G208*CJ208","v":0},null,null,{"$f":"$G208*CM208","v":0},null,null,{"$f":"$G208*CP208","v":0},null,null,{"$f":"$G208*CS208","v":0},null,null,{"$f":"$G208*CV208","v":0},null,null,{"$f":"$G208*CY208","v":0},null,null,{"$f":"$G208*DB208","v":0},null,null,{"$f":"$G208*DE208","v":0},null,null,{"$f":"$G208*DH208","v":0},null,null,{"$f":"$G208*DK208","v":0},null,null,{"$f":"$G208*DN208","v":0},null,null,{"$f":"$G208*DQ208","v":0},null,null,{"$f":"$G208*DT208","v":0},null,null,{"$f":"$G208*DW208","v":0},null,null,{"$f":"$G208*DZ208","v":0},null,null,{"$f":"$G208*EC208","v":0},null,null,{"$f":"$G208*EF208","v":0},null,null,{"$f":"$G208*EI208","v":0},null,null,{"$f":"$G208*EL208","v":0},null,null,{"$f":"$G208*EO208","v":0},null,null,{"$f":"$G208*ER208","v":0},null,null,{"$f":"$G208*EU208","v":0},null,null,{"$f":"$G208*EX208","v":0},null,null,{"$f":"$G208*FA208","v":0},null,null,{"$f":"$G208*FD208","v":0},null,null,{"$f":"$G208*FG208","v":0},null,null,{"$f":"$G208*FJ208","v":0},null,null,{"$f":"$G208*FM208","v":0},null,null,{"$f":"$G208*FP208","v":0},null,null,{"$f":"$G208*FS208","v":0},null,null,{"$f":"$G208*FV208","v":0},null,null,{"$f":"$G208*FY208","v":0},null,null,{"$f":"$G208*GB208","v":0},null,null,{"$f":"$G208*GE208","v":0},null,null,{"$f":"$G208*GH208","v":0},null,null,{"$f":"$G208*GK208","v":0},null,null,{"$f":"$G208*GN208","v":0},null,null,{"$f":"$G208*GQ208","v":0},null,null,{"$f":"$G208*GT208","v":0},null,null,{"$f":"$G208*GW208","v":0},null,null,{"$f":"$G208*GZ208","v":0},null,null,{"$f":"$G208*HC208","v":0},null,null,{"$f":"$G208*HF208","v":0},null,null,{"$f":"$G208*HI208","v":0}]
["9.18.2",null,"B","za tuš kadu (sa tuš ručicom i tuš crevom)\njednoručna sa poniklovanim savitljivim crevom","For shower bath (with shower head and shower hose) Single lever with nickel hoses","kom/pcs",{"$f":"CENA!G200","v":0},0,0,null,{"$f":"$G209*J209","v":0},null,null,0,null,null,{"$f":"$G209*P209","v":0},null,null,{"$f":"$G209*S209","v":0},null,null,{"$f":"$G209*V209","v":0},null,null,{"$f":"$G209*Y209","v":0},null,null,{"$f":"$G209*AB209","v":0},null,null,{"$f":"$G209*AE209","v":0},null,null,{"$f":"$G209*AH209","v":0},null,null,{"$f":"$G209*AK209","v":0},null,null,{"$f":"$G209*AN209","v":0},null,null,{"$f":"$G209*AQ209","v":0},null,null,{"$f":"$G209*AT209","v":0},null,null,{"$f":"$G209*AW209","v":0},null,null,{"$f":"$G209*AZ209","v":0},null,null,{"$f":"$G209*BC209","v":0},null,null,0,null,null,0,null,null,{"$f":"$G209*BL209","v":0},null,null,{"$f":"$G209*BO209","v":0},null,null,{"$f":"$G209*BR209","v":0},null,null,{"$f":"$G209*BU209","v":0},null,null,{"$f":"$G209*BX209","v":0},null,null,{"$f":"$G209*CA209","v":0},null,null,{"$f":"$G209*CD209","v":0},null,null,{"$f":"$G209*CG209","v":0},null,null,{"$f":"$G209*CJ209","v":0},null,null,{"$f":"$G209*CM209","v":0},null,null,{"$f":"$G209*CP209","v":0},null,null,{"$f":"$G209*CS209","v":0},null,null,{"$f":"$G209*CV209","v":0},null,null,{"$f":"$G209*CY209","v":0},null,null,0,null,null,0,null,null,{"$f":"$G209*DH209","v":0},null,null,{"$f":"$G209*DK209","v":0},null,null,{"$f":"$G209*DN209","v":0},null,null,{"$f":"$G209*DQ209","v":0},null,null,{"$f":"$G209*DT209","v":0},null,null,{"$f":"$G209*DW209","v":0},null,null,{"$f":"$G209*DZ209","v":0},null,null,{"$f":"$G209*EC209","v":0},null,null,{"$f":"$G209*EF209","v":0},null,null,{"$f":"$G209*EI209","v":0},null,null,{"$f":"$G209*EL209","v":0},null,null,{"$f":"$G209*EO209","v":0},null,null,{"$f":"$G209*ER209","v":0},null,null,{"$f":"$G209*EU209","v":0},null,null,0,null,null,0,null,null,{"$f":"$G209*FD209","v":0},null,null,{"$f":"$G209*FG209","v":0},null,null,{"$f":"$G209*FJ209","v":0},null,null,{"$f":"$G209*FM209","v":0},null,null,{"$f":"$G209*FP209","v":0},null,null,{"$f":"$G209*FS209","v":0},null,null,{"$f":"$G209*FV209","v":0},null,null,{"$f":"$G209*FY209","v":0},null,null,{"$f":"$G209*GB209","v":0},null,null,{"$f":"$G209*GE209","v":0},null,null,{"$f":"$G209*GH209","v":0},null,null,{"$f":"$G209*GK209","v":0},null,null,{"$f":"$G209*GN209","v":0},null,null,{"$f":"$G209*GQ209","v":0},null,null,{"$f":"$G209*GT209","v":0},null,null,{"$f":"$G209*GW209","v":0},null,null,{"$f":"$G209*GZ209","v":0},null,null,{"$f":"$G209*HC209","v":0},null,null,{"$f":"$G209*HF209","v":0},null,null,{"$f":"$G209*HI209","v":0}]
["9.18.3",null,"C","za mašinu za veš i sudove, holender slavina DN20/15, s pripadajućom opremom za ugradnju ","for washing machine and dishwasher, union DN20/15 taps, and all the equipment for installation","kom/pcs",{"$f":"CENA!G201","v":0},0,0,null,{"$f":"$G210*J210","v":0},null,null,0,null,null,{"$f":"$G210*P210","v":0},null,null,{"$f":"$G210*S210","v":0},null,null,{"$f":"$G210*V210","v":0},null,null,{"$f":"$G210*Y210","v":0},null,null,{"$f":"$G210*AB210","v":0},null,null,{"$f":"$G210*AE210","v":0},null,null,{"$f":"$G210*AH210","v":0},null,null,{"$f":"$G210*AK210","v":0},null,null,{"$f":"$G210*AN210","v":0},null,null,{"$f":"$G210*AQ210","v":0},null,null,{"$f":"$G210*AT210","v":0},null,null,{"$f":"$G210*AW210","v":0},null,null,{"$f":"$G210*AZ210","v":0},null,null,{"$f":"$G210*BC210","v":0},null,null,0,null,null,0,null,null,{"$f":"$G210*BL210","v":0},null,null,{"$f":"$G210*BO210","v":0},null,null,{"$f":"$G210*BR210","v":0},null,null,{"$f":"$G210*BU210","v":0},null,null,{"$f":"$G210*BX210","v":0},null,null,{"$f":"$G210*CA210","v":0},null,null,{"$f":"$G210*CD210","v":0},null,null,{"$f":"$G210*CG210","v":0},null,null,{"$f":"$G210*CJ210","v":0},null,null,{"$f":"$G210*CM210","v":0},null,null,{"$f":"$G210*CP210","v":0},null,null,{"$f":"$G210*CS210","v":0},null,null,{"$f":"$G210*CV210","v":0},null,null,{"$f":"$G210*CY210","v":0},null,null,0,null,null,0,null,null,{"$f":"$G210*DH210","v":0},null,null,{"$f":"$G210*DK210","v":0},null,null,{"$f":"$G210*DN210","v":0},null,null,{"$f":"$G210*DQ210","v":0},null,null,{"$f":"$G210*DT210","v":0},null,null,{"$f":"$G210*DW210","v":0},null,null,{"$f":"$G210*DZ210","v":0},null,null,{"$f":"$G210*EC210","v":0},null,null,{"$f":"$G210*EF210","v":0},null,null,{"$f":"$G210*EI210","v":0},null,null,{"$f":"$G210*EL210","v":0},null,null,{"$f":"$G210*EO210","v":0},null,null,{"$f":"$G210*ER210","v":0},null,null,{"$f":"$G210*EU210","v":0},null,null,0,null,null,0,null,null,{"$f":"$G210*FD210","v":0},null,null,{"$f":"$G210*FG210","v":0},null,null,{"$f":"$G210*FJ210","v":0},null,null,{"$f":"$G210*FM210","v":0},null,null,{"$f":"$G210*FP210","v":0},null,null,{"$f":"$G210*FS210","v":0},null,null,{"$f":"$G210*FV210","v":0},null,null,{"$f":"$G210*FY210","v":0},null,null,{"$f":"$G210*GB210","v":0},null,null,{"$f":"$G210*GE210","v":0},null,null,{"$f":"$G210*GH210","v":0},null,null,{"$f":"$G210*GK210","v":0},null,null,{"$f":"$G210*GN210","v":0},null,null,{"$f":"$G210*GQ210","v":0},null,null,{"$f":"$G210*GT210","v":0},null,null,{"$f":"$G210*GW210","v":0},null,null,{"$f":"$G210*GZ210","v":0},null,null,{"$f":"$G210*HC210","v":0},null,null,{"$f":"$G210*HF210","v":0},null,null,{"$f":"$G210*HI210","v":0}]
[null,null,null,"Oprema u kuhinji","KITCHEN EQUIPMENT"]
["9.19","V",19,"Korito sudopere od \"Inox \"-a (dvodelno)\n(izrađeno od plemenitog nerđajućeg čelika)\norjenacione dimenzije:  780 x 435 x 150 mm","kitchen sink \"Inox\" two-part\n(made of stainless steel)\napprox. dim:  780 x 435 x 150 mm","kom/pcs",{"$f":"CENA!G203","v":0},{"$f":"J212+M212+P212+S212+V212+Y212+AB212+AE212+AH212+AK212+AN212+AQ212+AZ212+AW212+AT212+BC212+BF212+BI212+BL212+BO212+BR212+BU212+BX212+CA212+CD212+CG212+CJ212+CM212+CP212+CS212+CV212+CY212+DB212+DE212+DH212+DK212+DN212+DQ212+DT212+DW212+DZ212+EC212+EF212+EI212+EL212+EO212+ER212+EU212+EX212+FA212+FD212+FG212+FJ212+FM212+FP212+FS212+FV212+FY212+GB212+GE212+GH212+GK212+GN212+GQ212+GT212+GW212+GZ212+HC212+HF212+HI212","v":1},{"$f":"G212*H212","v":0},1,{"$f":"$G212*J212","v":0},null,null,{"$f":"$G212*M212","v":0},null,null,{"$f":"$G212*P212","v":0},null,null,{"$f":"$G212*S212","v":0},null,null,{"$f":"$G212*V212","v":0},null,null,{"$f":"$G212*Y212","v":0},null,null,{"$f":"$G212*AB212","v":0},null,null,{"$f":"$G212*AE212","v":0},null,null,{"$f":"$G212*AH212","v":0},null,null,{"$f":"$G212*AK212","v":0},null,null,{"$f":"$G212*AN212","v":0},null,null,{"$f":"$G212*AQ212","v":0},null,null,{"$f":"$G212*AT212","v":0},null,null,{"$f":"$G212*AW212","v":0},null,null,{"$f":"$G212*AZ212","v":0},null,null,{"$f":"$G212*BC212","v":0},null,null,{"$f":"$G212*BF212","v":0},null,null,{"$f":"$G212*BI212","v":0},null,null,{"$f":"$G212*BL212","v":0},null,null,{"$f":"$G212*BO212","v":0},null,null,{"$f":"$G212*BR212","v":0},null,null,{"$f":"$G212*BU212","v":0},null,null,{"$f":"$G212*BX212","v":0},null,null,{"$f":"$G212*CA212","v":0},null,null,{"$f":"$G212*CD212","v":0},null,null,{"$f":"$G212*CG212","v":0},null,null,{"$f":"$G212*CJ212","v":0},null,null,{"$f":"$G212*CM212","v":0},null,null,{"$f":"$G212*CP212","v":0},null,null,{"$f":"$G212*CS212","v":0},null,null,{"$f":"$G212*CV212","v":0},null,null,{"$f":"$G212*CY212","v":0},null,null,{"$f":"$G212*DB212","v":0},null,null,{"$f":"$G212*DE212","v":0},null,null,{"$f":"$G212*DH212","v":0},null,null,{"$f":"$G212*DK212","v":0},null,null,{"$f":"$G212*DN212","v":0},null,null,{"$f":"$G212*DQ212","v":0},null,null,{"$f":"$G212*DT212","v":0},null,null,{"$f":"$G212*DW212","v":0},null,null,{"$f":"$G212*DZ212","v":0},null,null,{"$f":"$G212*EC212","v":0},null,null,{"$f":"$G212*EF212","v":0},null,null,{"$f":"$G212*EI212","v":0},null,null,{"$f":"$G212*EL212","v":0},null,null,{"$f":"$G212*EO212","v":0},null,null,{"$f":"$G212*ER212","v":0},null,null,{"$f":"$G212*EU212","v":0},null,null,{"$f":"$G212*EX212","v":0},null,null,{"$f":"$G212*FA212","v":0},null,null,{"$f":"$G212*FD212","v":0},null,null,{"$f":"$G212*FG212","v":0},null,null,{"$f":"$G212*FJ212","v":0},null,null,{"$f":"$G212*FM212","v":0},null,null,{"$f":"$G212*FP212","v":0},null,null,{"$f":"$G212*FS212","v":0},null,null,{"$f":"$G212*FV212","v":0},null,null,{"$f":"$G212*FY212","v":0},null,null,{"$f":"$G212*GB212","v":0},null,null,{"$f":"$G212*GE212","v":0},null,null,{"$f":"$G212*GH212","v":0},null,null,{"$f":"$G212*GK212","v":0},null,null,{"$f":"$G212*GN212","v":0},null,null,{"$f":"$G212*GQ212","v":0},null,null,{"$f":"$G212*GT212","v":0},null,null,{"$f":"$G212*GW212","v":0},null,null,{"$f":"$G212*GZ212","v":0},null,null,{"$f":"$G212*HC212","v":0},null,null,{"$f":"$G212*HF212","v":0},null,null,{"$f":"$G212*HI212","v":0}]
["9.20","V",20,"Električni akumulacioni bojler 5l\nza ugradnju iznad sudopere, vertikalni grejač 2 kW, napon 230V, kazan izrađen od plastike\nsa  pratećim materijalom za ugradnju","Electric storage water heater 5l\nFitting over the sink, vertical heater 2 kW, 230V, caldron made ​​of plastic with the materials for installation","kom/pcs",{"$f":"CENA!G204","v":0},0,0,null,{"$f":"$G213*J213","v":0},null,null,0,null,null,{"$f":"$G213*P213","v":0},null,null,{"$f":"$G213*S213","v":0},null,null,{"$f":"$G213*V213","v":0},null,null,{"$f":"$G213*Y213","v":0},null,null,{"$f":"$G213*AB213","v":0},null,null,{"$f":"$G213*AE213","v":0},null,null,{"$f":"$G213*AH213","v":0},null,null,{"$f":"$G213*AK213","v":0},null,null,{"$f":"$G213*AN213","v":0},null,null,{"$f":"$G213*AQ213","v":0},null,null,{"$f":"$G213*AT213","v":0},null,null,{"$f":"$G213*AW213","v":0},null,null,{"$f":"$G213*AZ213","v":0},null,null,{"$f":"$G213*BC213","v":0},null,null,0,null,null,0,null,null,{"$f":"$G213*BL213","v":0},null,null,{"$f":"$G213*BO213","v":0},null,null,{"$f":"$G213*BR213","v":0},null,null,{"$f":"$G213*BU213","v":0},null,null,{"$f":"$G213*BX213","v":0},null,null,{"$f":"$G213*CA213","v":0},null,null,{"$f":"$G213*CD213","v":0},null,null,{"$f":"$G213*CG213","v":0},null,null,{"$f":"$G213*CJ213","v":0},null,null,{"$f":"$G213*CM213","v":0},null,null,{"$f":"$G213*CP213","v":0},null,null,{"$f":"$G213*CS213","v":0},null,null,{"$f":"$G213*CV213","v":0},null,null,{"$f":"$G213*CY213","v":0},null,null,0,null,null,0,null,null,{"$f":"$G213*DH213","v":0},null,null,{"$f":"$G213*DK213","v":0},null,null,{"$f":"$G213*DN213","v":0},null,null,{"$f":"$G213*DQ213","v":0},null,null,{"$f":"$G213*DT213","v":0},null,null,{"$f":"$G213*DW213","v":0},null,null,{"$f":"$G213*DZ213","v":0},null,null,{"$f":"$G213*EC213","v":0},null,null,{"$f":"$G213*EF213","v":0},null,null,{"$f":"$G213*EI213","v":0},null,null,{"$f":"$G213*EL213","v":0},null,null,{"$f":"$G213*EO213","v":0},null,null,{"$f":"$G213*ER213","v":0},null,null,{"$f":"$G213*EU213","v":0},null,null,0,null,null,0,null,null,{"$f":"$G213*FD213","v":0},null,null,{"$f":"$G213*FG213","v":0},null,null,{"$f":"$G213*FJ213","v":0},null,null,{"$f":"$G213*FM213","v":0},null,null,{"$f":"$G213*FP213","v":0},null,null,{"$f":"$G213*FS213","v":0},null,null,{"$f":"$G213*FV213","v":0},null,null,{"$f":"$G213*FY213","v":0},null,null,{"$f":"$G213*GB213","v":0},null,null,{"$f":"$G213*GE213","v":0},null,null,{"$f":"$G213*GH213","v":0},null,null,{"$f":"$G213*GK213","v":0},null,null,{"$f":"$G213*GN213","v":0},null,null,{"$f":"$G213*GQ213","v":0},null,null,{"$f":"$G213*GT213","v":0},null,null,{"$f":"$G213*GW213","v":0},null,null,{"$f":"$G213*GZ213","v":0},null,null,{"$f":"$G213*HC213","v":0},null,null,{"$f":"$G213*HF213","v":0},null,null,{"$f":"$G213*HI213","v":0}]
["9.21","V",21,"Baterija za sudoperu jednoručna stojeća hromirana baterija za hladnu i toplu vodu ","Sink-standing single lever chrome mixer for hot and cold water","kom/pcs",{"$f":"CENA!G205","v":0},1,0,1,{"$f":"$G214*J214","v":0},null,null,0,null,null,{"$f":"$G214*P214","v":0},null,null,{"$f":"$G214*S214","v":0},null,null,{"$f":"$G214*V214","v":0},null,null,{"$f":"$G214*Y214","v":0},null,null,{"$f":"$G214*AB214","v":0},null,null,{"$f":"$G214*AE214","v":0},null,null,{"$f":"$G214*AH214","v":0},null,null,{"$f":"$G214*AK214","v":0},null,null,{"$f":"$G214*AN214","v":0},null,null,{"$f":"$G214*AQ214","v":0},null,null,{"$f":"$G214*AT214","v":0},null,null,{"$f":"$G214*AW214","v":0},null,null,{"$f":"$G214*AZ214","v":0},null,null,{"$f":"$G214*BC214","v":0},null,null,0,null,null,0,null,null,{"$f":"$G214*BL214","v":0},null,null,{"$f":"$G214*BO214","v":0},null,null,{"$f":"$G214*BR214","v":0},null,null,{"$f":"$G214*BU214","v":0},null,null,{"$f":"$G214*BX214","v":0},null,null,{"$f":"$G214*CA214","v":0},null,null,{"$f":"$G214*CD214","v":0},null,null,{"$f":"$G214*CG214","v":0},null,null,{"$f":"$G214*CJ214","v":0},null,null,{"$f":"$G214*CM214","v":0},null,null,{"$f":"$G214*CP214","v":0},null,null,{"$f":"$G214*CS214","v":0},null,null,{"$f":"$G214*CV214","v":0},null,null,{"$f":"$G214*CY214","v":0},null,null,0,null,null,0,null,null,{"$f":"$G214*DH214","v":0},null,null,{"$f":"$G214*DK214","v":0},null,null,{"$f":"$G214*DN214","v":0},null,null,{"$f":"$G214*DQ214","v":0},null,null,{"$f":"$G214*DT214","v":0},null,null,{"$f":"$G214*DW214","v":0},null,null,{"$f":"$G214*DZ214","v":0},null,null,{"$f":"$G214*EC214","v":0},null,null,{"$f":"$G214*EF214","v":0},null,null,{"$f":"$G214*EI214","v":0},null,null,{"$f":"$G214*EL214","v":0},null,null,{"$f":"$G214*EO214","v":0},null,null,{"$f":"$G214*ER214","v":0},null,null,{"$f":"$G214*EU214","v":0},null,null,0,null,null,0,null,null,{"$f":"$G214*FD214","v":0},null,null,{"$f":"$G214*FG214","v":0},null,null,{"$f":"$G214*FJ214","v":0},null,null,{"$f":"$G214*FM214","v":0},null,null,{"$f":"$G214*FP214","v":0},null,null,{"$f":"$G214*FS214","v":0},null,null,{"$f":"$G214*FV214","v":0},null,null,{"$f":"$G214*FY214","v":0},null,null,{"$f":"$G214*GB214","v":0},null,null,{"$f":"$G214*GE214","v":0},null,null,{"$f":"$G214*GH214","v":0},null,null,{"$f":"$G214*GK214","v":0},null,null,{"$f":"$G214*GN214","v":0},null,null,{"$f":"$G214*GQ214","v":0},null,null,{"$f":"$G214*GT214","v":0},null,null,{"$f":"$G214*GW214","v":0},null,null,{"$f":"$G214*GZ214","v":0},null,null,{"$f":"$G214*HC214","v":0},null,null,{"$f":"$G214*HF214","v":0},null,null,{"$f":"$G214*HI214","v":0}]
[]
["10","E",null,"ELEKTRO MATERIJAL I OPREMA\n","Electrical materials and equipment"]
[null,null,null,"Kablovi i kablovski pribor","Electrical cables and cable accessories"]
["10.1","E",1,"Napojni kablovi","Power cables","/","/","/","/","/","/",null,null,"/",null,"/","/",null,"/","/",null,"/","/",null,"/","/",null,"/","/",null,"/","/",null,"/","/",null,"/","/",null,"/","/",null,"/","/",null,"/","/",null,"/","/",null,"/","/",null,"/","/",null,"/","/",null,null,"/",null,"/","/",null,"/","/",null,"/","/",null,"/","/",null,"/","/",null,"/","/",null,"/","/",null,"/","/",null,"/","/",null,"/","/",null,"/","/",null,"/","/",null,"/","/",null,"/","/",null,"/","/",null,null,"/",null,"/","/",null,"/","/",null,"/","/",null,"/","/",null,"/","/",null,"/","/",null,"/","/",null,"/","/",null,"/","/",null,"/","/",null,"/","/",null,"/","/",null,"/","/",null,"/","/",null,"/","/",null,null,"/",null,"/","/",null,"/","/",null,"/","/",null,"/","/",null,"/","/",null,"/","/",null,"/","/",null,"/","/",null,"/","/",null,"/","/",null,"/","/",null,"/","/",null,"/","/",null,"/","/",null,"/","/",null,"/","/",null,"/","/",null,"/","/",null,"/","/",null,"/","/"]
["10.1.1",null,"A","X00-A      4x16 mm2","X00-A      4x16 mm2","m",{"$f":"CENA!G210","v":0},{"$f":"J219+M219+P219+S219+V219+Y219+AB219+AE219+AH219+AK219+AN219+AQ219+AZ219+AW219+AT219+BC219+BF219+BI219+BL219+BO219+BR219+BU219+BX219+CA219+CD219+CG219+CJ219+CM219+CP219+CS219+CV219+CY219+DB219+DE219+DH219+DK219+DN219+DQ219+DT219+DW219+DZ219+EC219+EF219+EI219+EL219+EO219+ER219+EU219+EX219+FA219+FD219+FG219+FJ219+FM219+FP219+FS219+FV219+FY219+GB219+GE219+GH219+GK219+GN219+GQ219+GT219+GW219+GZ219+HC219+HF219+HI219","v":0},{"$f":"G219*H219","v":0},null,{"$f":"$G219*J219","v":0},null,null,{"$f":"$G219*M219","v":0},null,null,{"$f":"$G219*P219","v":0},null,null,{"$f":"$G219*S219","v":0},null,null,{"$f":"$G219*V219","v":0},null,null,{"$f":"$G219*Y219","v":0},null,null,{"$f":"$G219*AB219","v":0},null,null,{"$f":"$G219*AE219","v":0},null,null,{"$f":"$G219*AH219","v":0},null,null,{"$f":"$G219*AK219","v":0},null,null,{"$f":"$G219*AN219","v":0},null,null,{"$f":"$G219*AQ219","v":0},null,null,{"$f":"$G219*AT219","v":0},null,null,{"$f":"$G219*AW219","v":0},null,null,{"$f":"$G219*AZ219","v":0},null,null,{"$f":"$G219*BC219","v":0},null,null,{"$f":"$G219*BF219","v":0},null,null,{"$f":"$G219*BI219","v":0},null,null,{"$f":"$G219*BL219","v":0},null,null,{"$f":"$G219*BO219","v":0},null,null,{"$f":"$G219*BR219","v":0},null,null,{"$f":"$G219*BU219","v":0},null,null,{"$f":"$G219*BX219","v":0},null,null,{"$f":"$G219*CA219","v":0},null,null,{"$f":"$G219*CD219","v":0},null,null,{"$f":"$G219*CG219","v":0},null,null,{"$f":"$G219*CJ219","v":0},null,null,{"$f":"$G219*CM219","v":0},null,null,{"$f":"$G219*CP219","v":0},null,null,{"$f":"$G219*CS219","v":0},null,null,{"$f":"$G219*CV219","v":0},null,null,{"$f":"$G219*CY219","v":0},null,null,{"$f":"$G219*DB219","v":0},null,null,{"$f":"$G219*DE219","v":0},null,null,{"$f":"$G219*DH219","v":0},null,null,{"$f":"$G219*DK219","v":0},null,null,{"$f":"$G219*DN219","v":0},null,null,{"$f":"$G219*DQ219","v":0},null,null,{"$f":"$G219*DT219","v":0},null,null,{"$f":"$G219*DW219","v":0},null,null,{"$f":"$G219*DZ219","v":0},null,null,{"$f":"$G219*EC219","v":0},null,null,{"$f":"$G219*EF219","v":0},null,null,{"$f":"$G219*EI219","v":0},null,null,{"$f":"$G219*EL219","v":0},null,null,{"$f":"$G219*EO219","v":0},null,null,{"$f":"$G219*ER219","v":0},null,null,{"$f":"$G219*EU219","v":0},null,null,{"$f":"$G219*EX219","v":0},null,null,{"$f":"$G219*FA219","v":0},null,null,{"$f":"$G219*FD219","v":0},null,null,{"$f":"$G219*FG219","v":0},null,null,{"$f":"$G219*FJ219","v":0},null,null,{"$f":"$G219*FM219","v":0},null,null,{"$f":"$G219*FP219","v":0},null,null,{"$f":"$G219*FS219","v":0},null,null,{"$f":"$G219*FV219","v":0},null,null,{"$f":"$G219*FY219","v":0},null,null,{"$f":"$G219*GB219","v":0},null,null,{"$f":"$G219*GE219","v":0},null,null,{"$f":"$G219*GH219","v":0},null,null,{"$f":"$G219*GK219","v":0},null,null,{"$f":"$G219*GN219","v":0},null,null,{"$f":"$G219*GQ219","v":0},null,null,{"$f":"$G219*GT219","v":0},null,null,{"$f":"$G219*GW219","v":0},null,null,{"$f":"$G219*GZ219","v":0},null,null,{"$f":"$G219*HC219","v":0},null,null,{"$f":"$G219*HF219","v":0},null,null,{"$f":"$G219*HI219","v":0}]
["10.1.2",null,"B","PP00-Y   5x6    mm2","PP00-Y   5x6    mm2","m",{"$f":"CENA!G211","v":0},0,0,null,{"$f":"$G220*J220","v":0},null,null,0,null,null,{"$f":"$G220*P220","v":0},null,null,0,null,null,{"$f":"$G220*V220","v":0},null,null,{"$f":"$G220*Y220","v":0},null,null,{"$f":"$G220*AB220","v":0},null,null,{"$f":"$G220*AE220","v":0},null,null,{"$f":"$G220*AH220","v":0},null,null,{"$f":"$G220*AK220","v":0},null,null,{"$f":"$G220*AN220","v":0},null,null,{"$f":"$G220*AQ220","v":0},null,null,{"$f":"$G220*AT220","v":0},null,null,{"$f":"$G220*AW220","v":0},null,null,{"$f":"$G220*AZ220","v":0},null,null,{"$f":"$G220*BC220","v":0},null,null,0,null,null,0,null,null,{"$f":"$G220*BL220","v":0},null,null,0,null,null,{"$f":"$G220*BR220","v":0},null,null,{"$f":"$G220*BU220","v":0},null,null,{"$f":"$G220*BX220","v":0},null,null,{"$f":"$G220*CA220","v":0},null,null,{"$f":"$G220*CD220","v":0},null,null,{"$f":"$G220*CG220","v":0},null,null,{"$f":"$G220*CJ220","v":0},null,null,{"$f":"$G220*CM220","v":0},null,null,{"$f":"$G220*CP220","v":0},null,null,{"$f":"$G220*CS220","v":0},null,null,{"$f":"$G220*CV220","v":0},null,null,{"$f":"$G220*CY220","v":0},null,null,0,null,null,0,null,null,{"$f":"$G220*DH220","v":0},null,null,0,null,null,{"$f":"$G220*DN220","v":0},null,null,{"$f":"$G220*DQ220","v":0},null,null,{"$f":"$G220*DT220","v":0},null,null,{"$f":"$G220*DW220","v":0},null,null,{"$f":"$G220*DZ220","v":0},null,null,{"$f":"$G220*EC220","v":0},null,null,{"$f":"$G220*EF220","v":0},null,null,{"$f":"$G220*EI220","v":0},null,null,{"$f":"$G220*EL220","v":0},null,null,{"$f":"$G220*EO220","v":0},null,null,{"$f":"$G220*ER220","v":0},null,null,{"$f":"$G220*EU220","v":0},null,null,0,null,null,0,null,null,{"$f":"$G220*FD220","v":0},null,null,0,null,null,{"$f":"$G220*FJ220","v":0},null,null,{"$f":"$G220*FM220","v":0},null,null,{"$f":"$G220*FP220","v":0},null,null,{"$f":"$G220*FS220","v":0},null,null,{"$f":"$G220*FV220","v":0},null,null,{"$f":"$G220*FY220","v":0},null,null,{"$f":"$G220*GB220","v":0},null,null,{"$f":"$G220*GE220","v":0},null,null,{"$f":"$G220*GH220","v":0},null,null,{"$f":"$G220*GK220","v":0},null,null,{"$f":"$G220*GN220","v":0},null,null,{"$f":"$G220*GQ220","v":0},null,null,{"$f":"$G220*GT220","v":0},null,null,{"$f":"$G220*GW220","v":0},null,null,{"$f":"$G220*GZ220","v":0},null,null,{"$f":"$G220*HC220","v":0},null,null,{"$f":"$G220*HF220","v":0},null,null,{"$f":"$G220*HI220","v":0}]
["10.1.3",null,"C","PP00-Y   5x10  mm2","PP00-Y   5x10  mm2","m",{"$f":"CENA!G212","v":0},0,0,null,{"$f":"$G221*J221","v":0},null,null,0,null,null,{"$f":"$G221*P221","v":0},null,null,0,null,null,{"$f":"$G221*V221","v":0},null,null,{"$f":"$G221*Y221","v":0},null,null,{"$f":"$G221*AB221","v":0},null,null,{"$f":"$G221*AE221","v":0},null,null,{"$f":"$G221*AH221","v":0},null,null,{"$f":"$G221*AK221","v":0},null,null,{"$f":"$G221*AN221","v":0},null,null,{"$f":"$G221*AQ221","v":0},null,null,{"$f":"$G221*AT221","v":0},null,null,{"$f":"$G221*AW221","v":0},null,null,{"$f":"$G221*AZ221","v":0},null,null,{"$f":"$G221*BC221","v":0},null,null,0,null,null,0,null,null,{"$f":"$G221*BL221","v":0},null,null,0,null,null,{"$f":"$G221*BR221","v":0},null,null,{"$f":"$G221*BU221","v":0},null,null,{"$f":"$G221*BX221","v":0},null,null,{"$f":"$G221*CA221","v":0},null,null,{"$f":"$G221*CD221","v":0},null,null,{"$f":"$G221*CG221","v":0},null,null,{"$f":"$G221*CJ221","v":0},null,null,{"$f":"$G221*CM221","v":0},null,null,{"$f":"$G221*CP221","v":0},null,null,{"$f":"$G221*CS221","v":0},null,null,{"$f":"$G221*CV221","v":0},null,null,{"$f":"$G221*CY221","v":0},null,null,0,null,null,0,null,null,{"$f":"$G221*DH221","v":0},null,null,0,null,null,{"$f":"$G221*DN221","v":0},null,null,{"$f":"$G221*DQ221","v":0},null,null,{"$f":"$G221*DT221","v":0},null,null,{"$f":"$G221*DW221","v":0},null,null,{"$f":"$G221*DZ221","v":0},null,null,{"$f":"$G221*EC221","v":0},null,null,{"$f":"$G221*EF221","v":0},null,null,{"$f":"$G221*EI221","v":0},null,null,{"$f":"$G221*EL221","v":0},null,null,{"$f":"$G221*EO221","v":0},null,null,{"$f":"$G221*ER221","v":0},null,null,{"$f":"$G221*EU221","v":0},null,null,0,null,null,0,null,null,{"$f":"$G221*FD221","v":0},null,null,0,null,null,{"$f":"$G221*FJ221","v":0},null,null,{"$f":"$G221*FM221","v":0},null,null,{"$f":"$G221*FP221","v":0},null,null,{"$f":"$G221*FS221","v":0},null,null,{"$f":"$G221*FV221","v":0},null,null,{"$f":"$G221*FY221","v":0},null,null,{"$f":"$G221*GB221","v":0},null,null,{"$f":"$G221*GE221","v":0},null,null,{"$f":"$G221*GH221","v":0},null,null,{"$f":"$G221*GK221","v":0},null,null,{"$f":"$G221*GN221","v":0},null,null,{"$f":"$G221*GQ221","v":0},null,null,{"$f":"$G221*GT221","v":0},null,null,{"$f":"$G221*GW221","v":0},null,null,{"$f":"$G221*GZ221","v":0},null,null,{"$f":"$G221*HC221","v":0},null,null,{"$f":"$G221*HF221","v":0},null,null,{"$f":"$G221*HI221","v":0}]
["10.2","E",2,"Instalacioni kablovi","Installation cables","/","/","/","/","/","/",null,null,"/",null,"/","/",null,"/","/",null,"/","/",null,"/","/",null,"/","/",null,"/","/",null,"/","/",null,"/","/",null,"/","/",null,"/","/",null,"/","/",null,"/","/",null,"/","/",null,"/","/",null,"/","/",null,null,"/",null,"/","/",null,"/","/",null,"/","/",null,"/","/",null,"/","/",null,"/","/",null,"/","/",null,"/","/",null,"/","/",null,"/","/",null,"/","/",null,"/","/",null,"/","/",null,"/","/",null,"/","/",null,null,"/",null,"/","/",null,"/","/",null,"/","/",null,"/","/",null,"/","/",null,"/","/",null,"/","/",null,"/","/",null,"/","/",null,"/","/",null,"/","/",null,"/","/",null,"/","/",null,"/","/",null,"/","/",null,null,"/",null,"/","/",null,"/","/",null,"/","/",null,"/","/",null,"/","/",null,"/","/",null,"/","/",null,"/","/",null,"/","/",null,"/","/",null,"/","/",null,"/","/",null,"/","/",null,"/","/",null,"/","/",null,"/","/",null,"/","/",null,"/","/",null,"/","/",null,"/","/"]
["10.2.1",null,"A","PP-Y       3x1,5  mm2","PP-Y       3x1,5  mm2","m",{"$f":"CENA!G214","v":0},{"$f":"J223+M223+P223+S223+V223+Y223+AB223+AE223+AH223+AK223+AN223+AQ223+AZ223+AW223+AT223+BC223+BF223+BI223+BL223+BO223+BR223+BU223+BX223+CA223+CD223+CG223+CJ223+CM223+CP223+CS223+CV223+CY223+DB223+DE223+DH223+DK223+DN223+DQ223+DT223+DW223+DZ223+EC223+EF223+EI223+EL223+EO223+ER223+EU223+EX223+FA223+FD223+FG223+FJ223+FM223+FP223+FS223+FV223+FY223+GB223+GE223+GH223+GK223+GN223+GQ223+GT223+GW223+GZ223+HC223+HF223+HI223","v":0},{"$f":"G223*H223","v":0},null,{"$f":"$G223*J223","v":0},null,null,{"$f":"$G223*M223","v":0},null,null,{"$f":"$G223*P223","v":0},null,null,{"$f":"$G223*S223","v":0},null,null,{"$f":"$G223*V223","v":0},null,null,{"$f":"$G223*Y223","v":0},null,null,{"$f":"$G223*AB223","v":0},null,null,{"$f":"$G223*AE223","v":0},null,null,{"$f":"$G223*AH223","v":0},null,null,{"$f":"$G223*AK223","v":0},null,null,{"$f":"$G223*AN223","v":0},null,null,{"$f":"$G223*AQ223","v":0},null,null,{"$f":"$G223*AT223","v":0},null,null,{"$f":"$G223*AW223","v":0},null,null,{"$f":"$G223*AZ223","v":0},null,null,{"$f":"$G223*BC223","v":0},null,null,{"$f":"$G223*BF223","v":0},null,null,{"$f":"$G223*BI223","v":0},null,null,{"$f":"$G223*BL223","v":0},null,null,{"$f":"$G223*BO223","v":0},null,null,{"$f":"$G223*BR223","v":0},null,null,{"$f":"$G223*BU223","v":0},null,null,{"$f":"$G223*BX223","v":0},null,null,{"$f":"$G223*CA223","v":0},null,null,{"$f":"$G223*CD223","v":0},null,null,{"$f":"$G223*CG223","v":0},null,null,{"$f":"$G223*CJ223","v":0},null,null,{"$f":"$G223*CM223","v":0},null,null,{"$f":"$G223*CP223","v":0},null,null,{"$f":"$G223*CS223","v":0},null,null,{"$f":"$G223*CV223","v":0},null,null,{"$f":"$G223*CY223","v":0},null,null,{"$f":"$G223*DB223","v":0},null,null,{"$f":"$G223*DE223","v":0},null,null,{"$f":"$G223*DH223","v":0},null,null,{"$f":"$G223*DK223","v":0},null,null,{"$f":"$G223*DN223","v":0},null,null,{"$f":"$G223*DQ223","v":0},null,null,{"$f":"$G223*DT223","v":0},null,null,{"$f":"$G223*DW223","v":0},null,null,{"$f":"$G223*DZ223","v":0},null,null,{"$f":"$G223*EC223","v":0},null,null,{"$f":"$G223*EF223","v":0},null,null,{"$f":"$G223*EI223","v":0},null,null,{"$f":"$G223*EL223","v":0},null,null,{"$f":"$G223*EO223","v":0},null,null,{"$f":"$G223*ER223","v":0},null,null,{"$f":"$G223*EU223","v":0},null,null,{"$f":"$G223*EX223","v":0},null,null,{"$f":"$G223*FA223","v":0},null,null,{"$f":"$G223*FD223","v":0},null,null,{"$f":"$G223*FG223","v":0},null,null,{"$f":"$G223*FJ223","v":0},null,null,{"$f":"$G223*FM223","v":0},null,null,{"$f":"$G223*FP223","v":0},null,null,{"$f":"$G223*FS223","v":0},null,null,{"$f":"$G223*FV223","v":0},null,null,{"$f":"$G223*FY223","v":0},null,null,{"$f":"$G223*GB223","v":0},null,null,{"$f":"$G223*GE223","v":0},null,null,{"$f":"$G223*GH223","v":0},null,null,{"$f":"$G223*GK223","v":0},null,null,{"$f":"$G223*GN223","v":0},null,null,{"$f":"$G223*GQ223","v":0},null,null,{"$f":"$G223*GT223","v":0},null,null,{"$f":"$G223*GW223","v":0},null,null,{"$f":"$G223*GZ223","v":0},null,null,{"$f":"$G223*HC223","v":0},null,null,{"$f":"$G223*HF223","v":0},null,null,{"$f":"$G223*HI223","v":0}]
["10.2.2",null,"B","PP-Y       4x1,5  mm2","PP-Y       4x1,5  mm2","m",{"$f":"CENA!G215","v":0},0,0,null,{"$f":"$G224*J224","v":0},null,null,0,null,null,{"$f":"$G224*P224","v":0},null,null,0,null,null,{"$f":"$G224*V224","v":0},null,null,{"$f":"$G224*Y224","v":0},null,null,{"$f":"$G224*AB224","v":0},null,null,{"$f":"$G224*AE224","v":0},null,null,{"$f":"$G224*AH224","v":0},null,null,{"$f":"$G224*AK224","v":0},null,null,{"$f":"$G224*AN224","v":0},null,null,{"$f":"$G224*AQ224","v":0},null,null,{"$f":"$G224*AT224","v":0},null,null,{"$f":"$G224*AW224","v":0},null,null,{"$f":"$G224*AZ224","v":0},null,null,{"$f":"$G224*BC224","v":0},null,null,0,null,null,0,null,null,{"$f":"$G224*BL224","v":0},null,null,0,null,null,{"$f":"$G224*BR224","v":0},null,null,{"$f":"$G224*BU224","v":0},null,null,{"$f":"$G224*BX224","v":0},null,null,{"$f":"$G224*CA224","v":0},null,null,{"$f":"$G224*CD224","v":0},null,null,{"$f":"$G224*CG224","v":0},null,null,{"$f":"$G224*CJ224","v":0},null,null,{"$f":"$G224*CM224","v":0},null,null,{"$f":"$G224*CP224","v":0},null,null,{"$f":"$G224*CS224","v":0},null,null,{"$f":"$G224*CV224","v":0},null,null,{"$f":"$G224*CY224","v":0},null,null,0,null,null,0,null,null,{"$f":"$G224*DH224","v":0},null,null,0,null,null,{"$f":"$G224*DN224","v":0},null,null,{"$f":"$G224*DQ224","v":0},null,null,{"$f":"$G224*DT224","v":0},null,null,{"$f":"$G224*DW224","v":0},null,null,{"$f":"$G224*DZ224","v":0},null,null,{"$f":"$G224*EC224","v":0},null,null,{"$f":"$G224*EF224","v":0},null,null,{"$f":"$G224*EI224","v":0},null,null,{"$f":"$G224*EL224","v":0},null,null,{"$f":"$G224*EO224","v":0},null,null,{"$f":"$G224*ER224","v":0},null,null,{"$f":"$G224*EU224","v":0},null,null,0,null,null,0,null,null,{"$f":"$G224*FD224","v":0},null,null,0,null,null,{"$f":"$G224*FJ224","v":0},null,null,{"$f":"$G224*FM224","v":0},null,null,{"$f":"$G224*FP224","v":0},null,null,{"$f":"$G224*FS224","v":0},null,null,{"$f":"$G224*FV224","v":0},null,null,{"$f":"$G224*FY224","v":0},null,null,{"$f":"$G224*GB224","v":0},null,null,{"$f":"$G224*GE224","v":0},null,null,{"$f":"$G224*GH224","v":0},null,null,{"$f":"$G224*GK224","v":0},null,null,{"$f":"$G224*GN224","v":0},null,null,{"$f":"$G224*GQ224","v":0},null,null,{"$f":"$G224*GT224","v":0},null,null,{"$f":"$G224*GW224","v":0},null,null,{"$f":"$G224*GZ224","v":0},null,null,{"$f":"$G224*HC224","v":0},null,null,{"$f":"$G224*HF224","v":0},null,null,{"$f":"$G224*HI224","v":0}]
["10.2.3",null,"C","PP-Y       3x2,5  mm2","PP-Y       3x2,5  mm2","m",{"$f":"CENA!G216","v":0},0,0,null,{"$f":"$G225*J225","v":0},null,null,0,null,null,{"$f":"$G225*P225","v":0},null,null,0,null,null,{"$f":"$G225*V225","v":0},null,null,{"$f":"$G225*Y225","v":0},null,null,{"$f":"$G225*AB225","v":0},null,null,{"$f":"$G225*AE225","v":0},null,null,{"$f":"$G225*AH225","v":0},null,null,{"$f":"$G225*AK225","v":0},null,null,{"$f":"$G225*AN225","v":0},null,null,{"$f":"$G225*AQ225","v":0},null,null,{"$f":"$G225*AT225","v":0},null,null,{"$f":"$G225*AW225","v":0},null,null,{"$f":"$G225*AZ225","v":0},null,null,{"$f":"$G225*BC225","v":0},null,null,0,null,null,0,null,null,{"$f":"$G225*BL225","v":0},null,null,0,null,null,{"$f":"$G225*BR225","v":0},null,null,{"$f":"$G225*BU225","v":0},null,null,{"$f":"$G225*BX225","v":0},null,null,{"$f":"$G225*CA225","v":0},null,null,{"$f":"$G225*CD225","v":0},null,null,{"$f":"$G225*CG225","v":0},null,null,{"$f":"$G225*CJ225","v":0},null,null,{"$f":"$G225*CM225","v":0},null,null,{"$f":"$G225*CP225","v":0},null,null,{"$f":"$G225*CS225","v":0},null,null,{"$f":"$G225*CV225","v":0},null,null,{"$f":"$G225*CY225","v":0},null,null,0,null,null,0,null,null,{"$f":"$G225*DH225","v":0},null,null,0,null,null,{"$f":"$G225*DN225","v":0},null,null,{"$f":"$G225*DQ225","v":0},null,null,{"$f":"$G225*DT225","v":0},null,null,{"$f":"$G225*DW225","v":0},null,null,{"$f":"$G225*DZ225","v":0},null,null,{"$f":"$G225*EC225","v":0},null,null,{"$f":"$G225*EF225","v":0},null,null,{"$f":"$G225*EI225","v":0},null,null,{"$f":"$G225*EL225","v":0},null,null,{"$f":"$G225*EO225","v":0},null,null,{"$f":"$G225*ER225","v":0},null,null,{"$f":"$G225*EU225","v":0},null,null,0,null,null,0,null,null,{"$f":"$G225*FD225","v":0},null,null,0,null,null,{"$f":"$G225*FJ225","v":0},null,null,{"$f":"$G225*FM225","v":0},null,null,{"$f":"$G225*FP225","v":0},null,null,{"$f":"$G225*FS225","v":0},null,null,{"$f":"$G225*FV225","v":0},null,null,{"$f":"$G225*FY225","v":0},null,null,{"$f":"$G225*GB225","v":0},null,null,{"$f":"$G225*GE225","v":0},null,null,{"$f":"$G225*GH225","v":0},null,null,{"$f":"$G225*GK225","v":0},null,null,{"$f":"$G225*GN225","v":0},null,null,{"$f":"$G225*GQ225","v":0},null,null,{"$f":"$G225*GT225","v":0},null,null,{"$f":"$G225*GW225","v":0},null,null,{"$f":"$G225*GZ225","v":0},null,null,{"$f":"$G225*HC225","v":0},null,null,{"$f":"$G225*HF225","v":0},null,null,{"$f":"$G225*HI225","v":0}]
["10.2.4",null,"D","PP-Y       5x2,5  mm2","PP-Y       5x2,5  mm2","m",{"$f":"CENA!G217","v":0},0,0,null,{"$f":"$G226*J226","v":0},null,null,0,null,null,{"$f":"$G226*P226","v":0},null,null,0,null,null,{"$f":"$G226*V226","v":0},null,null,{"$f":"$G226*Y226","v":0},null,null,{"$f":"$G226*AB226","v":0},null,null,{"$f":"$G226*AE226","v":0},null,null,{"$f":"$G226*AH226","v":0},null,null,{"$f":"$G226*AK226","v":0},null,null,{"$f":"$G226*AN226","v":0},null,null,{"$f":"$G226*AQ226","v":0},null,null,{"$f":"$G226*AT226","v":0},null,null,{"$f":"$G226*AW226","v":0},null,null,{"$f":"$G226*AZ226","v":0},null,null,{"$f":"$G226*BC226","v":0},null,null,0,null,null,0,null,null,{"$f":"$G226*BL226","v":0},null,null,0,null,null,{"$f":"$G226*BR226","v":0},null,null,{"$f":"$G226*BU226","v":0},null,null,{"$f":"$G226*BX226","v":0},null,null,{"$f":"$G226*CA226","v":0},null,null,{"$f":"$G226*CD226","v":0},null,null,{"$f":"$G226*CG226","v":0},null,null,{"$f":"$G226*CJ226","v":0},null,null,{"$f":"$G226*CM226","v":0},null,null,{"$f":"$G226*CP226","v":0},null,null,{"$f":"$G226*CS226","v":0},null,null,{"$f":"$G226*CV226","v":0},null,null,{"$f":"$G226*CY226","v":0},null,null,0,null,null,0,null,null,{"$f":"$G226*DH226","v":0},null,null,0,null,null,{"$f":"$G226*DN226","v":0},null,null,{"$f":"$G226*DQ226","v":0},null,null,{"$f":"$G226*DT226","v":0},null,null,{"$f":"$G226*DW226","v":0},null,null,{"$f":"$G226*DZ226","v":0},null,null,{"$f":"$G226*EC226","v":0},null,null,{"$f":"$G226*EF226","v":0},null,null,{"$f":"$G226*EI226","v":0},null,null,{"$f":"$G226*EL226","v":0},null,null,{"$f":"$G226*EO226","v":0},null,null,{"$f":"$G226*ER226","v":0},null,null,{"$f":"$G226*EU226","v":0},null,null,0,null,null,0,null,null,{"$f":"$G226*FD226","v":0},null,null,0,null,null,{"$f":"$G226*FJ226","v":0},null,null,{"$f":"$G226*FM226","v":0},null,null,{"$f":"$G226*FP226","v":0},null,null,{"$f":"$G226*FS226","v":0},null,null,{"$f":"$G226*FV226","v":0},null,null,{"$f":"$G226*FY226","v":0},null,null,{"$f":"$G226*GB226","v":0},null,null,{"$f":"$G226*GE226","v":0},null,null,{"$f":"$G226*GH226","v":0},null,null,{"$f":"$G226*GK226","v":0},null,null,{"$f":"$G226*GN226","v":0},null,null,{"$f":"$G226*GQ226","v":0},null,null,{"$f":"$G226*GT226","v":0},null,null,{"$f":"$G226*GW226","v":0},null,null,{"$f":"$G226*GZ226","v":0},null,null,{"$f":"$G226*HC226","v":0},null,null,{"$f":"$G226*HF226","v":0},null,null,{"$f":"$G226*HI226","v":0}]
["10.3","E",3,"Instalacione PVC cevi","PVC pipe for installations of cables","/","/","/","/","/","/",null,null,"/",null,"/","/",null,"/","/",null,"/","/",null,"/","/",null,"/","/",null,"/","/",null,"/","/",null,"/","/",null,"/","/",null,"/","/",null,"/","/",null,"/","/",null,"/","/",null,"/","/",null,"/","/",null,null,"/",null,"/","/",null,"/","/",null,"/","/",null,"/","/",null,"/","/",null,"/","/",null,"/","/",null,"/","/",null,"/","/",null,"/","/",null,"/","/",null,"/","/",null,"/","/",null,"/","/",null,"/","/",null,null,"/",null,"/","/",null,"/","/",null,"/","/",null,"/","/",null,"/","/",null,"/","/",null,"/","/",null,"/","/",null,"/","/",null,"/","/",null,"/","/",null,"/","/",null,"/","/",null,"/","/",null,"/","/",null,null,"/",null,"/","/",null,"/","/",null,"/","/",null,"/","/",null,"/","/",null,"/","/",null,"/","/",null,"/","/",null,"/","/",null,"/","/",null,"/","/",null,"/","/",null,"/","/",null,"/","/",null,"/","/",null,"/","/",null,"/","/",null,"/","/",null,"/","/",null,"/","/"]
["10.3.1",null,"A","fi 16mm2","fi 16mm2","m",{"$f":"CENA!G219","v":0},{"$f":"J228+M228+P228+S228+V228+Y228+AB228+AE228+AH228+AK228+AN228+AQ228+AZ228+AW228+AT228+BC228+BF228+BI228+BL228+BO228+BR228+BU228+BX228+CA228+CD228+CG228+CJ228+CM228+CP228+CS228+CV228+CY228+DB228+DE228+DH228+DK228+DN228+DQ228+DT228+DW228+DZ228+EC228+EF228+EI228+EL228+EO228+ER228+EU228+EX228+FA228+FD228+FG228+FJ228+FM228+FP228+FS228+FV228+FY228+GB228+GE228+GH228+GK228+GN228+GQ228+GT228+GW228+GZ228+HC228+HF228+HI228","v":0},{"$f":"G228*H228","v":0},null,{"$f":"$G228*J228","v":0},null,null,{"$f":"$G228*M228","v":0},null,null,{"$f":"$G228*P228","v":0},null,null,{"$f":"$G228*S228","v":0},null,null,{"$f":"$G228*V228","v":0},null,null,{"$f":"$G228*Y228","v":0},null,null,{"$f":"$G228*AB228","v":0},null,null,{"$f":"$G228*AE228","v":0},null,null,{"$f":"$G228*AH228","v":0},null,null,{"$f":"$G228*AK228","v":0},null,null,{"$f":"$G228*AN228","v":0},null,null,{"$f":"$G228*AQ228","v":0},null,null,{"$f":"$G228*AT228","v":0},null,null,{"$f":"$G228*AW228","v":0},null,null,{"$f":"$G228*AZ228","v":0},null,null,{"$f":"$G228*BC228","v":0},null,null,{"$f":"$G228*BF228","v":0},null,null,{"$f":"$G228*BI228","v":0},null,null,{"$f":"$G228*BL228","v":0},null,null,{"$f":"$G228*BO228","v":0},null,null,{"$f":"$G228*BR228","v":0},null,null,{"$f":"$G228*BU228","v":0},null,null,{"$f":"$G228*BX228","v":0},null,null,{"$f":"$G228*CA228","v":0},null,null,{"$f":"$G228*CD228","v":0},null,null,{"$f":"$G228*CG228","v":0},null,null,{"$f":"$G228*CJ228","v":0},null,null,{"$f":"$G228*CM228","v":0},null,null,{"$f":"$G228*CP228","v":0},null,null,{"$f":"$G228*CS228","v":0},null,null,{"$f":"$G228*CV228","v":0},null,null,{"$f":"$G228*CY228","v":0},null,null,{"$f":"$G228*DB228","v":0},null,null,{"$f":"$G228*DE228","v":0},null,null,{"$f":"$G228*DH228","v":0},null,null,{"$f":"$G228*DK228","v":0},null,null,{"$f":"$G228*DN228","v":0},null,null,{"$f":"$G228*DQ228","v":0},null,null,{"$f":"$G228*DT228","v":0},null,null,{"$f":"$G228*DW228","v":0},null,null,{"$f":"$G228*DZ228","v":0},null,null,{"$f":"$G228*EC228","v":0},null,null,{"$f":"$G228*EF228","v":0},null,null,{"$f":"$G228*EI228","v":0},null,null,{"$f":"$G228*EL228","v":0},null,null,{"$f":"$G228*EO228","v":0},null,null,{"$f":"$G228*ER228","v":0},null,null,{"$f":"$G228*EU228","v":0},null,null,{"$f":"$G228*EX228","v":0},null,null,{"$f":"$G228*FA228","v":0},null,null,{"$f":"$G228*FD228","v":0},null,null,{"$f":"$G228*FG228","v":0},null,null,{"$f":"$G228*FJ228","v":0},null,null,{"$f":"$G228*FM228","v":0},null,null,{"$f":"$G228*FP228","v":0},null,null,{"$f":"$G228*FS228","v":0},null,null,{"$f":"$G228*FV228","v":0},null,null,{"$f":"$G228*FY228","v":0},null,null,{"$f":"$G228*GB228","v":0},null,null,{"$f":"$G228*GE228","v":0},null,null,{"$f":"$G228*GH228","v":0},null,null,{"$f":"$G228*GK228","v":0},null,null,{"$f":"$G228*GN228","v":0},null,null,{"$f":"$G228*GQ228","v":0},null,null,{"$f":"$G228*GT228","v":0},null,null,{"$f":"$G228*GW228","v":0},null,null,{"$f":"$G228*GZ228","v":0},null,null,{"$f":"$G228*HC228","v":0},null,null,{"$f":"$G228*HF228","v":0},null,null,{"$f":"$G228*HI228","v":0}]
["10.3.2",null,"B","fi 50mm2","fi 50mm2","m",{"$f":"CENA!G220","v":0},0,0,null,{"$f":"$G229*J229","v":0},null,null,0,null,null,{"$f":"$G229*P229","v":0},null,null,0,null,null,{"$f":"$G229*V229","v":0},null,null,{"$f":"$G229*Y229","v":0},null,null,{"$f":"$G229*AB229","v":0},null,null,{"$f":"$G229*AE229","v":0},null,null,{"$f":"$G229*AH229","v":0},null,null,{"$f":"$G229*AK229","v":0},null,null,{"$f":"$G229*AN229","v":0},null,null,{"$f":"$G229*AQ229","v":0},null,null,{"$f":"$G229*AT229","v":0},null,null,{"$f":"$G229*AW229","v":0},null,null,{"$f":"$G229*AZ229","v":0},null,null,{"$f":"$G229*BC229","v":0},null,null,0,null,null,0,null,null,{"$f":"$G229*BL229","v":0},null,null,0,null,null,{"$f":"$G229*BR229","v":0},null,null,{"$f":"$G229*BU229","v":0},null,null,{"$f":"$G229*BX229","v":0},null,null,{"$f":"$G229*CA229","v":0},null,null,{"$f":"$G229*CD229","v":0},null,null,{"$f":"$G229*CG229","v":0},null,null,{"$f":"$G229*CJ229","v":0},null,null,{"$f":"$G229*CM229","v":0},null,null,{"$f":"$G229*CP229","v":0},null,null,{"$f":"$G229*CS229","v":0},null,null,{"$f":"$G229*CV229","v":0},null,null,{"$f":"$G229*CY229","v":0},null,null,0,null,null,0,null,null,{"$f":"$G229*DH229","v":0},null,null,0,null,null,{"$f":"$G229*DN229","v":0},null,null,{"$f":"$G229*DQ229","v":0},null,null,{"$f":"$G229*DT229","v":0},null,null,{"$f":"$G229*DW229","v":0},null,null,{"$f":"$G229*DZ229","v":0},null,null,{"$f":"$G229*EC229","v":0},null,null,{"$f":"$G229*EF229","v":0},null,null,{"$f":"$G229*EI229","v":0},null,null,{"$f":"$G229*EL229","v":0},null,null,{"$f":"$G229*EO229","v":0},null,null,{"$f":"$G229*ER229","v":0},null,null,{"$f":"$G229*EU229","v":0},null,null,0,null,null,0,null,null,{"$f":"$G229*FD229","v":0},null,null,0,null,null,{"$f":"$G229*FJ229","v":0},null,null,{"$f":"$G229*FM229","v":0},null,null,{"$f":"$G229*FP229","v":0},null,null,{"$f":"$G229*FS229","v":0},null,null,{"$f":"$G229*FV229","v":0},null,null,{"$f":"$G229*FY229","v":0},null,null,{"$f":"$G229*GB229","v":0},null,null,{"$f":"$G229*GE229","v":0},null,null,{"$f":"$G229*GH229","v":0},null,null,{"$f":"$G229*GK229","v":0},null,null,{"$f":"$G229*GN229","v":0},null,null,{"$f":"$G229*GQ229","v":0},null,null,{"$f":"$G229*GT229","v":0},null,null,{"$f":"$G229*GW229","v":0},null,null,{"$f":"$G229*GZ229","v":0},null,null,{"$f":"$G229*HC229","v":0},null,null,{"$f":"$G229*HF229","v":0},null,null,{"$f":"$G229*HI229","v":0}]
[null,null,null,"Razvodne table i oprema","The junction boards and equipment"]
["10.4","E",4,"Razvodna tabla komplet\nStanska, za ugradnju na zid sa transparentim vratima, sa mestom za 18 modula, DIN šinom, IP40\nRazvodna tabla sadrži :","Junction board (for flat) for wall mounting with transparent door, with space for 18 modules, DIN rail, IP40\nJunction board contains:","kom/pcs",{"$f":"CENA!G222","v":0},{"$f":"J231+M231+P231+S231+V231+Y231+AB231+AE231+AH231+AK231+AN231+AQ231+AZ231+AW231+AT231+BC231+BF231+BI231+BL231+BO231+BR231+BU231+BX231+CA231+CD231+CG231+CJ231+CM231+CP231+CS231+CV231+CY231+DB231+DE231+DH231+DK231+DN231+DQ231+DT231+DW231+DZ231+EC231+EF231+EI231+EL231+EO231+ER231+EU231+EX231+FA231+FD231+FG231+FJ231+FM231+FP231+FS231+FV231+FY231+GB231+GE231+GH231+GK231+GN231+GQ231+GT231+GW231+GZ231+HC231+HF231+HI231","v":0},{"$f":"G231*H231","v":0},null,{"$f":"$G231*J231","v":0},null,null,{"$f":"$G231*M231","v":0},null,null,{"$f":"$G231*P231","v":0},null,null,0,null,null,{"$f":"$G231*V231","v":0},null,null,{"$f":"$G231*Y231","v":0},null,null,{"$f":"$G231*AB231","v":0},null,null,{"$f":"$G231*AE231","v":0},null,null,{"$f":"$G231*AH231","v":0},null,null,{"$f":"$G231*AK231","v":0},null,null,{"$f":"$G231*AN231","v":0},null,null,{"$f":"$G231*AQ231","v":0},null,null,{"$f":"$G231*AT231","v":0},null,null,{"$f":"$G231*AW231","v":0},null,null,{"$f":"$G231*AZ231","v":0},null,null,{"$f":"$G231*BC231","v":0},null,null,{"$f":"$G231*BF231","v":0},null,null,{"$f":"$G231*BI231","v":0},null,null,{"$f":"$G231*BL231","v":0},null,null,{"$f":"$G231*BO231","v":0},null,null,{"$f":"$G231*BR231","v":0},null,null,{"$f":"$G231*BU231","v":0},null,null,{"$f":"$G231*BX231","v":0},null,null,{"$f":"$G231*CA231","v":0},null,null,{"$f":"$G231*CD231","v":0},null,null,{"$f":"$G231*CG231","v":0},null,null,{"$f":"$G231*CJ231","v":0},null,null,{"$f":"$G231*CM231","v":0},null,null,{"$f":"$G231*CP231","v":0},null,null,{"$f":"$G231*CS231","v":0},null,null,{"$f":"$G231*CV231","v":0},null,null,{"$f":"$G231*CY231","v":0},null,null,{"$f":"$G231*DB231","v":0},null,null,{"$f":"$G231*DE231","v":0},null,null,{"$f":"$G231*DH231","v":0},null,null,{"$f":"$G231*DK231","v":0},null,null,{"$f":"$G231*DN231","v":0},null,null,{"$f":"$G231*DQ231","v":0},null,null,{"$f":"$G231*DT231","v":0},null,null,{"$f":"$G231*DW231","v":0},null,null,{"$f":"$G231*DZ231","v":0},null,null,{"$f":"$G231*EC231","v":0},null,null,{"$f":"$G231*EF231","v":0},null,null,{"$f":"$G231*EI231","v":0},null,null,{"$f":"$G231*EL231","v":0},null,null,{"$f":"$G231*EO231","v":0},null,null,{"$f":"$G231*ER231","v":0},null,null,{"$f":"$G231*EU231","v":0},null,null,{"$f":"$G231*EX231","v":0},null,null,{"$f":"$G231*FA231","v":0},null,null,{"$f":"$G231*FD231","v":0},null,null,{"$f":"$G231*FG231","v":0},null,null,{"$f":"$G231*FJ231","v":0},null,null,{"$f":"$G231*FM231","v":0},null,null,{"$f":"$G231*FP231","v":0},null,null,{"$f":"$G231*FS231","v":0},null,null,{"$f":"$G231*FV231","v":0},null,null,{"$f":"$G231*FY231","v":0},null,null,{"$f":"$G231*GB231","v":0},null,null,{"$f":"$G231*GE231","v":0},null,null,{"$f":"$G231*GH231","v":0},null,null,{"$f":"$G231*GK231","v":0},null,null,{"$f":"$G231*GN231","v":0},null,null,{"$f":"$G231*GQ231","v":0},null,null,{"$f":"$G231*GT231","v":0},null,null,{"$f":"$G231*GW231","v":0},null,null,{"$f":"$G231*GZ231","v":0},null,null,{"$f":"$G231*HC231","v":0},null,null,{"$f":"$G231*HF231","v":0},null,null,{"$f":"$G231*HI231","v":0}]
[null,null,null,"Jednopolni instalacioni prekidač\n(automatski osigurač) za montažu na DIN šinu nom. napona 230V/400V, 50Hz; karakteristike B; prekidne moći 6kA:","Single-pole fuse\n(Automatic fuse) for mounting on DIN rail nom. voltage 230V/400V, 50Hz, features B; breaking capacity 6kA:","/","/","/","/","/","/",null,null,"/",null,"/","/",null,"/","/",null,"/","/",null,"/","/",null,"/","/",null,"/","/",null,"/","/",null,"/","/",null,"/","/",null,"/","/",null,"/","/",null,"/","/",null,"/","/",null,"/","/",null,"/","/",null,null,"/",null,"/","/",null,"/","/",null,"/","/",null,"/","/",null,"/","/",null,"/","/",null,"/","/",null,"/","/",null,"/","/",null,"/","/",null,"/","/",null,"/","/",null,"/","/",null,"/","/",null,"/","/",null,null,"/",null,"/","/",null,"/","/",null,"/","/",null,"/","/",null,"/","/",null,"/","/",null,"/","/",null,"/","/",null,"/","/",null,"/","/",null,"/","/",null,"/","/",null,"/","/",null,"/","/",null,"/","/",null,null,"/",null,"/","/",null,"/","/",null,"/","/",null,"/","/",null,"/","/",null,"/","/",null,"/","/",null,"/","/",null,"/","/",null,"/","/",null,"/","/",null,"/","/",null,"/","/",null,"/","/",null,"/","/",null,"/","/",null,"/","/",null,"/","/",null,"/","/",null,"/","/"]
[null,null,null,"nazivne struje 6A, komada 1","rated current of 6A","/","/","/","/","/","/",null,null,"/",null,"/","/",null,"/","/",null,"/","/",null,"/","/",null,"/","/",null,"/","/",null,"/","/",null,"/","/",null,"/","/",null,"/","/",null,"/","/",null,"/","/",null,"/","/",null,"/","/",null,"/","/",null,null,"/",null,"/","/",null,"/","/",null,"/","/",null,"/","/",null,"/","/",null,"/","/",null,"/","/",null,"/","/",null,"/","/",null,"/","/",null,"/","/",null,"/","/",null,"/","/",null,"/","/",null,"/","/",null,null,"/",null,"/","/",null,"/","/",null,"/","/",null,"/","/",null,"/","/",null,"/","/",null,"/","/",null,"/","/",null,"/","/",null,"/","/",null,"/","/",null,"/","/",null,"/","/",null,"/","/",null,"/","/",null,null,"/",null,"/","/",null,"/","/",null,"/","/",null,"/","/",null,"/","/",null,"/","/",null,"/","/",null,"/","/",null,"/","/",null,"/","/",null,"/","/",null,"/","/",null,"/","/",null,"/","/",null,"/","/",null,"/","/",null,"/","/",null,"/","/",null,"/","/",null,"/","/"]
[null,null,null,"nazivne struje 10A, komada 2","rated current of 10A","/","/","/","/","/","/",null,null,"/",null,"/","/",null,"/","/",null,"/","/",null,"/","/",null,"/","/",null,"/","/",null,"/","/",null,"/","/",null,"/","/",null,"/","/",null,"/","/",null,"/","/",null,"/","/",null,"/","/",null,"/","/",null,null,"/",null,"/","/",null,"/","/",null,"/","/",null,"/","/",null,"/","/",null,"/","/",null,"/","/",null,"/","/",null,"/","/",null,"/","/",null,"/","/",null,"/","/",null,"/","/",null,"/","/",null,"/","/",null,null,"/",null,"/","/",null,"/","/",null,"/","/",null,"/","/",null,"/","/",null,"/","/",null,"/","/",null,"/","/",null,"/","/",null,"/","/",null,"/","/",null,"/","/",null,"/","/",null,"/","/",null,"/","/",null,null,"/",null,"/","/",null,"/","/",null,"/","/",null,"/","/",null,"/","/",null,"/","/",null,"/","/",null,"/","/",null,"/","/",null,"/","/",null,"/","/",null,"/","/",null,"/","/",null,"/","/",null,"/","/",null,"/","/",null,"/","/",null,"/","/",null,"/","/",null,"/","/"]
[null,null,null,"nazivne struje 16A, komada 9","rated current of 16A","/","/","/","/","/","/",null,null,"/",null,"/","/",null,"/","/",null,"/","/",null,"/","/",null,"/","/",null,"/","/",null,"/","/",null,"/","/",null,"/","/",null,"/","/",null,"/","/",null,"/","/",null,"/","/",null,"/","/",null,"/","/",null,null,"/",null,"/","/",null,"/","/",null,"/","/",null,"/","/",null,"/","/",null,"/","/",null,"/","/",null,"/","/",null,"/","/",null,"/","/",null,"/","/",null,"/","/",null,"/","/",null,"/","/",null,"/","/",null,null,"/",null,"/","/",null,"/","/",null,"/","/",null,"/","/",null,"/","/",null,"/","/",null,"/","/",null,"/","/",null,"/","/",null,"/","/",null,"/","/",null,"/","/",null,"/","/",null,"/","/",null,"/","/",null,null,"/",null,"/","/",null,"/","/",null,"/","/",null,"/","/",null,"/","/",null,"/","/",null,"/","/",null,"/","/",null,"/","/",null,"/","/",null,"/","/",null,"/","/",null,"/","/",null,"/","/",null,"/","/",null,"/","/",null,"/","/",null,"/","/",null,"/","/",null,"/","/"]
[null,null,null,"Signalna sijalica\nza signalizaciju tarife 230V za ugradnju u stansku razvodnu tablu, montažu na DIN šinu komada 1","The indicator lamp\nfor signaling rates 230V for use in flat junction board, mounting on DIN rail","/","/","/","/","/","/",null,null,"/",null,"/","/",null,"/","/",null,"/","/",null,"/","/",null,"/","/",null,"/","/",null,"/","/",null,"/","/",null,"/","/",null,"/","/",null,"/","/",null,"/","/",null,"/","/",null,"/","/",null,"/","/",null,null,"/",null,"/","/",null,"/","/",null,"/","/",null,"/","/",null,"/","/",null,"/","/",null,"/","/",null,"/","/",null,"/","/",null,"/","/",null,"/","/",null,"/","/",null,"/","/",null,"/","/",null,"/","/",null,null,"/",null,"/","/",null,"/","/",null,"/","/",null,"/","/",null,"/","/",null,"/","/",null,"/","/",null,"/","/",null,"/","/",null,"/","/",null,"/","/",null,"/","/",null,"/","/",null,"/","/",null,"/","/",null,null,"/",null,"/","/",null,"/","/",null,"/","/",null,"/","/",null,"/","/",null,"/","/",null,"/","/",null,"/","/",null,"/","/",null,"/","/",null,"/","/",null,"/","/",null,"/","/",null,"/","/",null,"/","/",null,"/","/",null,"/","/",null,"/","/",null,"/","/",null,"/","/"]
[null,null,null,"FID sklopka\nza ugradnju u stansku razvodnu tablu, montažu na DIN šinu","FID switch for installation in junction board, mounting on DIN rail","/","/","/","/","/","/",null,null,"/",null,"/","/",null,"/","/",null,"/","/",null,"/","/",null,"/","/",null,"/","/",null,"/","/",null,"/","/",null,"/","/",null,"/","/",null,"/","/",null,"/","/",null,"/","/",null,"/","/",null,"/","/",null,null,"/",null,"/","/",null,"/","/",null,"/","/",null,"/","/",null,"/","/",null,"/","/",null,"/","/",null,"/","/",null,"/","/",null,"/","/",null,"/","/",null,"/","/",null,"/","/",null,"/","/",null,"/","/",null,null,"/",null,"/","/",null,"/","/",null,"/","/",null,"/","/",null,"/","/",null,"/","/",null,"/","/",null,"/","/",null,"/","/",null,"/","/",null,"/","/",null,"/","/",null,"/","/",null,"/","/",null,"/","/",null,null,"/",null,"/","/",null,"/","/",null,"/","/",null,"/","/",null,"/","/",null,"/","/",null,"/","/",null,"/","/",null,"/","/",null,"/","/",null,"/","/",null,"/","/",null,"/","/",null,"/","/",null,"/","/",null,"/","/",null,"/","/",null,"/","/",null,"/","/",null,"/","/"]
[null,null,null,"16A/30mA,  2-polna,   230V, 50Hz; komada 2","16A/30mA, 2-pole, 230V, 50Hz;","/","/","/","/","/","/",null,null,"/",null,"/","/",null,"/","/",null,"/","/",null,"/","/",null,"/","/",null,"/","/",null,"/","/",null,"/","/",null,"/","/",null,"/","/",null,"/","/",null,"/","/",null,"/","/",null,"/","/",null,"/","/",null,null,"/",null,"/","/",null,"/","/",null,"/","/",null,"/","/",null,"/","/",null,"/","/",null,"/","/",null,"/","/",null,"/","/",null,"/","/",null,"/","/",null,"/","/",null,"/","/",null,"/","/",null,"/","/",null,null,"/",null,"/","/",null,"/","/",null,"/","/",null,"/","/",null,"/","/",null,"/","/",null,"/","/",null,"/","/",null,"/","/",null,"/","/",null,"/","/",null,"/","/",null,"/","/",null,"/","/",null,"/","/",null,null,"/",null,"/","/",null,"/","/",null,"/","/",null,"/","/",null,"/","/",null,"/","/",null,"/","/",null,"/","/",null,"/","/",null,"/","/",null,"/","/",null,"/","/",null,"/","/",null,"/","/",null,"/","/",null,"/","/",null,"/","/",null,"/","/",null,"/","/",null,"/","/"]
[null,null,null,"25A/0,5A,    4-polna,    230V/400V, 50Hz; komada 1","25A / 0,5 A, 4-pole, 230V/400V, 50Hz;","/","/","/","/","/","/",null,null,"/",null,"/","/",null,"/","/",null,"/","/",null,"/","/",null,"/","/",null,"/","/",null,"/","/",null,"/","/",null,"/","/",null,"/","/",null,"/","/",null,"/","/",null,"/","/",null,"/","/",null,"/","/",null,null,"/",null,"/","/",null,"/","/",null,"/","/",null,"/","/",null,"/","/",null,"/","/",null,"/","/",null,"/","/",null,"/","/",null,"/","/",null,"/","/",null,"/","/",null,"/","/",null,"/","/",null,"/","/",null,null,"/",null,"/","/",null,"/","/",null,"/","/",null,"/","/",null,"/","/",null,"/","/",null,"/","/",null,"/","/",null,"/","/",null,"/","/",null,"/","/",null,"/","/",null,"/","/",null,"/","/",null,"/","/",null,null,"/",null,"/","/",null,"/","/",null,"/","/",null,"/","/",null,"/","/",null,"/","/",null,"/","/",null,"/","/",null,"/","/",null,"/","/",null,"/","/",null,"/","/",null,"/","/",null,"/","/",null,"/","/",null,"/","/",null,"/","/",null,"/","/",null,"/","/",null,"/","/"]
[null,null,null,"Instalaciono zvono\n230V, 50Hz; za ugradnju u stansku razvodnu tablu, montažu na DIN šinu komada 1","Bell 230V, 50Hz, for use in junction board, mounting on DIN rail","/","/","/","/","/","/",null,null,"/",null,"/","/",null,"/","/",null,"/","/",null,"/","/",null,"/","/",null,"/","/",null,"/","/",null,"/","/",null,"/","/",null,"/","/",null,"/","/",null,"/","/",null,"/","/",null,"/","/",null,"/","/",null,null,"/",null,"/","/",null,"/","/",null,"/","/",null,"/","/",null,"/","/",null,"/","/",null,"/","/",null,"/","/",null,"/","/",null,"/","/",null,"/","/",null,"/","/",null,"/","/",null,"/","/",null,"/","/",null,null,"/",null,"/","/",null,"/","/",null,"/","/",null,"/","/",null,"/","/",null,"/","/",null,"/","/",null,"/","/",null,"/","/",null,"/","/",null,"/","/",null,"/","/",null,"/","/",null,"/","/",null,"/","/",null,null,"/",null,"/","/",null,"/","/",null,"/","/",null,"/","/",null,"/","/",null,"/","/",null,"/","/",null,"/","/",null,"/","/",null,"/","/",null,"/","/",null,"/","/",null,"/","/",null,"/","/",null,"/","/",null,"/","/",null,"/","/",null,"/","/",null,"/","/",null,"/","/"]
[null,null,null,"Instalacioni materijal","Installation material"]
["10.5","E",5,"Instalaciona kutija\nza ugradnju u završnu obradu zida","Installation box\nfor installation in the wall","/","/","/","/","/","/",null,null,"/",null,"/","/",null,"/","/",null,"/","/",null,"/","/",null,"/","/",null,"/","/",null,"/","/",null,"/","/",null,"/","/",null,"/","/",null,"/","/",null,"/","/",null,"/","/",null,"/","/",null,"/","/",null,null,"/",null,"/","/",null,"/","/",null,"/","/",null,"/","/",null,"/","/",null,"/","/",null,"/","/",null,"/","/",null,"/","/",null,"/","/",null,"/","/",null,"/","/",null,"/","/",null,"/","/",null,"/","/",null,null,"/",null,"/","/",null,"/","/",null,"/","/",null,"/","/",null,"/","/",null,"/","/",null,"/","/",null,"/","/",null,"/","/",null,"/","/",null,"/","/",null,"/","/",null,"/","/",null,"/","/",null,"/","/",null,null,"/",null,"/","/",null,"/","/",null,"/","/",null,"/","/",null,"/","/",null,"/","/",null,"/","/",null,"/","/",null,"/","/",null,"/","/",null,"/","/",null,"/","/",null,"/","/",null,"/","/",null,"/","/",null,"/","/",null,"/","/",null,"/","/",null,"/","/",null,"/","/"]
["10.5.1",null,"A","fi 60 mm","fi 60 mm","kom/pcs",{"$f":"CENA!G234","v":0},{"$f":"J243+M243+P243+S243+V243+Y243+AB243+AE243+AH243+AK243+AN243+AQ243+AZ243+AW243+AT243+BC243+BF243+BI243+BL243+BO243+BR243+BU243+BX243+CA243+CD243+CG243+CJ243+CM243+CP243+CS243+CV243+CY243+DB243+DE243+DH243+DK243+DN243+DQ243+DT243+DW243+DZ243+EC243+EF243+EI243+EL243+EO243+ER243+EU243+EX243+FA243+FD243+FG243+FJ243+FM243+FP243+FS243+FV243+FY243+GB243+GE243+GH243+GK243+GN243+GQ243+GT243+GW243+GZ243+HC243+HF243+HI243","v":0},{"$f":"G243*H243","v":0},null,{"$f":"$G243*J243","v":0},null,null,{"$f":"$G243*M243","v":0},null,null,{"$f":"$G243*P243","v":0},null,null,{"$f":"$G243*S243","v":0},null,null,{"$f":"$G243*V243","v":0},null,null,{"$f":"$G243*Y243","v":0},null,null,{"$f":"$G243*AB243","v":0},null,null,{"$f":"$G243*AE243","v":0},null,null,{"$f":"$G243*AH243","v":0},null,null,{"$f":"$G243*AK243","v":0},null,null,{"$f":"$G243*AN243","v":0},null,null,{"$f":"$G243*AQ243","v":0},null,null,{"$f":"$G243*AT243","v":0},null,null,{"$f":"$G243*AW243","v":0},null,null,{"$f":"$G243*AZ243","v":0},null,null,{"$f":"$G243*BC243","v":0},null,null,{"$f":"$G243*BF243","v":0},null,null,{"$f":"$G243*BI243","v":0},null,null,{"$f":"$G243*BL243","v":0},null,null,{"$f":"$G243*BO243","v":0},null,null,{"$f":"$G243*BR243","v":0},null,null,{"$f":"$G243*BU243","v":0},null,null,{"$f":"$G243*BX243","v":0},null,null,{"$f":"$G243*CA243","v":0},null,null,{"$f":"$G243*CD243","v":0},null,null,{"$f":"$G243*CG243","v":0},null,null,{"$f":"$G243*CJ243","v":0},null,null,{"$f":"$G243*CM243","v":0},null,null,{"$f":"$G243*CP243","v":0},null,null,{"$f":"$G243*CS243","v":0},null,null,{"$f":"$G243*CV243","v":0},null,null,{"$f":"$G243*CY243","v":0},null,null,{"$f":"$G243*DB243","v":0},null,null,{"$f":"$G243*DE243","v":0},null,null,{"$f":"$G243*DH243","v":0},null,null,{"$f":"$G243*DK243","v":0},null,null,{"$f":"$G243*DN243","v":0},null,null,{"$f":"$G243*DQ243","v":0},null,null,{"$f":"$G243*DT243","v":0},null,null,{"$f":"$G243*DW243","v":0},null,null,{"$f":"$G243*DZ243","v":0},null,null,{"$f":"$G243*EC243","v":0},null,null,{"$f":"$G243*EF243","v":0},null,null,{"$f":"$G243*EI243","v":0},null,null,{"$f":"$G243*EL243","v":0},null,null,{"$f":"$G243*EO243","v":0},null,null,{"$f":"$G243*ER243","v":0},null,null,{"$f":"$G243*EU243","v":0},null,null,{"$f":"$G243*EX243","v":0},null,null,{"$f":"$G243*FA243","v":0},null,null,{"$f":"$G243*FD243","v":0},null,null,{"$f":"$G243*FG243","v":0},null,null,{"$f":"$G243*FJ243","v":0},null,null,{"$f":"$G243*FM243","v":0},null,null,{"$f":"$G243*FP243","v":0},null,null,{"$f":"$G243*FS243","v":0},null,null,{"$f":"$G243*FV243","v":0},null,null,{"$f":"$G243*FY243","v":0},null,null,{"$f":"$G243*GB243","v":0},null,null,{"$f":"$G243*GE243","v":0},null,null,{"$f":"$G243*GH243","v":0},null,null,{"$f":"$G243*GK243","v":0},null,null,{"$f":"$G243*GN243","v":0},null,null,{"$f":"$G243*GQ243","v":0},null,null,{"$f":"$G243*GT243","v":0},null,null,{"$f":"$G243*GW243","v":0},null,null,{"$f":"$G243*GZ243","v":0},null,null,{"$f":"$G243*HC243","v":0},null,null,{"$f":"$G243*HF243","v":0},null,null,{"$f":"$G243*HI243","v":0}]
["10.5.2",null,"B","fi 78 mm","fi 78 mm","kom/pcs",{"$f":"CENA!G235","v":0},0,0,null,{"$f":"$G244*J244","v":0},null,null,0,null,null,{"$f":"$G244*P244","v":0},null,null,0,null,null,{"$f":"$G244*V244","v":0},null,null,{"$f":"$G244*Y244","v":0},null,null,{"$f":"$G244*AB244","v":0},null,null,{"$f":"$G244*AE244","v":0},null,null,{"$f":"$G244*AH244","v":0},null,null,{"$f":"$G244*AK244","v":0},null,null,{"$f":"$G244*AN244","v":0},null,null,{"$f":"$G244*AQ244","v":0},null,null,{"$f":"$G244*AT244","v":0},null,null,{"$f":"$G244*AW244","v":0},null,null,{"$f":"$G244*AZ244","v":0},null,null,{"$f":"$G244*BC244","v":0},null,null,0,null,null,0,null,null,{"$f":"$G244*BL244","v":0},null,null,0,null,null,{"$f":"$G244*BR244","v":0},null,null,{"$f":"$G244*BU244","v":0},null,null,{"$f":"$G244*BX244","v":0},null,null,{"$f":"$G244*CA244","v":0},null,null,{"$f":"$G244*CD244","v":0},null,null,{"$f":"$G244*CG244","v":0},null,null,{"$f":"$G244*CJ244","v":0},null,null,{"$f":"$G244*CM244","v":0},null,null,{"$f":"$G244*CP244","v":0},null,null,{"$f":"$G244*CS244","v":0},null,null,{"$f":"$G244*CV244","v":0},null,null,{"$f":"$G244*CY244","v":0},null,null,0,null,null,0,null,null,{"$f":"$G244*DH244","v":0},null,null,0,null,null,{"$f":"$G244*DN244","v":0},null,null,{"$f":"$G244*DQ244","v":0},null,null,{"$f":"$G244*DT244","v":0},null,null,{"$f":"$G244*DW244","v":0},null,null,{"$f":"$G244*DZ244","v":0},null,null,{"$f":"$G244*EC244","v":0},null,null,{"$f":"$G244*EF244","v":0},null,null,{"$f":"$G244*EI244","v":0},null,null,{"$f":"$G244*EL244","v":0},null,null,{"$f":"$G244*EO244","v":0},null,null,{"$f":"$G244*ER244","v":0},null,null,{"$f":"$G244*EU244","v":0},null,null,0,null,null,0,null,null,{"$f":"$G244*FD244","v":0},null,null,0,null,null,{"$f":"$G244*FJ244","v":0},null,null,{"$f":"$G244*FM244","v":0},null,null,{"$f":"$G244*FP244","v":0},null,null,{"$f":"$G244*FS244","v":0},null,null,{"$f":"$G244*FV244","v":0},null,null,{"$f":"$G244*FY244","v":0},null,null,{"$f":"$G244*GB244","v":0},null,null,{"$f":"$G244*GE244","v":0},null,null,{"$f":"$G244*GH244","v":0},null,null,{"$f":"$G244*GK244","v":0},null,null,{"$f":"$G244*GN244","v":0},null,null,{"$f":"$G244*GQ244","v":0},null,null,{"$f":"$G244*GT244","v":0},null,null,{"$f":"$G244*GW244","v":0},null,null,{"$f":"$G244*GZ244","v":0},null,null,{"$f":"$G244*HC244","v":0},null,null,{"$f":"$G244*HF244","v":0},null,null,{"$f":"$G244*HI244","v":0}]
["10.5.3",null,"C","100x100mm","100x100mm","kom/pcs",{"$f":"CENA!G236","v":0},0,0,null,{"$f":"$G245*J245","v":0},null,null,0,null,null,{"$f":"$G245*P245","v":0},null,null,0,null,null,{"$f":"$G245*V245","v":0},null,null,{"$f":"$G245*Y245","v":0},null,null,{"$f":"$G245*AB245","v":0},null,null,{"$f":"$G245*AE245","v":0},null,null,{"$f":"$G245*AH245","v":0},null,null,{"$f":"$G245*AK245","v":0},null,null,{"$f":"$G245*AN245","v":0},null,null,{"$f":"$G245*AQ245","v":0},null,null,{"$f":"$G245*AT245","v":0},null,null,{"$f":"$G245*AW245","v":0},null,null,{"$f":"$G245*AZ245","v":0},null,null,{"$f":"$G245*BC245","v":0},null,null,0,null,null,0,null,null,{"$f":"$G245*BL245","v":0},null,null,0,null,null,{"$f":"$G245*BR245","v":0},null,null,{"$f":"$G245*BU245","v":0},null,null,{"$f":"$G245*BX245","v":0},null,null,{"$f":"$G245*CA245","v":0},null,null,{"$f":"$G245*CD245","v":0},null,null,{"$f":"$G245*CG245","v":0},null,null,{"$f":"$G245*CJ245","v":0},null,null,{"$f":"$G245*CM245","v":0},null,null,{"$f":"$G245*CP245","v":0},null,null,{"$f":"$G245*CS245","v":0},null,null,{"$f":"$G245*CV245","v":0},null,null,{"$f":"$G245*CY245","v":0},null,null,0,null,null,0,null,null,{"$f":"$G245*DH245","v":0},null,null,0,null,null,{"$f":"$G245*DN245","v":0},null,null,{"$f":"$G245*DQ245","v":0},null,null,{"$f":"$G245*DT245","v":0},null,null,{"$f":"$G245*DW245","v":0},null,null,{"$f":"$G245*DZ245","v":0},null,null,{"$f":"$G245*EC245","v":0},null,null,{"$f":"$G245*EF245","v":0},null,null,{"$f":"$G245*EI245","v":0},null,null,{"$f":"$G245*EL245","v":0},null,null,{"$f":"$G245*EO245","v":0},null,null,{"$f":"$G245*ER245","v":0},null,null,{"$f":"$G245*EU245","v":0},null,null,0,null,null,0,null,null,{"$f":"$G245*FD245","v":0},null,null,0,null,null,{"$f":"$G245*FJ245","v":0},null,null,{"$f":"$G245*FM245","v":0},null,null,{"$f":"$G245*FP245","v":0},null,null,{"$f":"$G245*FS245","v":0},null,null,{"$f":"$G245*FV245","v":0},null,null,{"$f":"$G245*FY245","v":0},null,null,{"$f":"$G245*GB245","v":0},null,null,{"$f":"$G245*GE245","v":0},null,null,{"$f":"$G245*GH245","v":0},null,null,{"$f":"$G245*GK245","v":0},null,null,{"$f":"$G245*GN245","v":0},null,null,{"$f":"$G245*GQ245","v":0},null,null,{"$f":"$G245*GT245","v":0},null,null,{"$f":"$G245*GW245","v":0},null,null,{"$f":"$G245*GZ245","v":0},null,null,{"$f":"$G245*HC245","v":0},null,null,{"$f":"$G245*HF245","v":0},null,null,{"$f":"$G245*HI245","v":0}]
["10.6","E",6,"Instalaciona priključnica IP20 za ugradnju u završnu obradu zida sa zaštitnim kontaktom","Installation socket IP20 for installation in the wall with a protection contact","/","/","/","/","/","/",null,null,"/",null,"/","/",null,"/","/",null,"/","/",null,"/","/",null,"/","/",null,"/","/",null,"/","/",null,"/","/",null,"/","/",null,"/","/",null,"/","/",null,"/","/",null,"/","/",null,"/","/",null,"/","/",null,null,"/",null,"/","/",null,"/","/",null,"/","/",null,"/","/",null,"/","/",null,"/","/",null,"/","/",null,"/","/",null,"/","/",null,"/","/",null,"/","/",null,"/","/",null,"/","/",null,"/","/",null,"/","/",null,null,"/",null,"/","/",null,"/","/",null,"/","/",null,"/","/",null,"/","/",null,"/","/",null,"/","/",null,"/","/",null,"/","/",null,"/","/",null,"/","/",null,"/","/",null,"/","/",null,"/","/",null,"/","/",null,null,"/",null,"/","/",null,"/","/",null,"/","/",null,"/","/",null,"/","/",null,"/","/",null,"/","/",null,"/","/",null,"/","/",null,"/","/",null,"/","/",null,"/","/",null,"/","/",null,"/","/",null,"/","/",null,"/","/",null,"/","/",null,"/","/",null,"/","/",null,"/","/"]
["10.6.1",null,"A","16A, monofazna, 250 V","16A, single-phase, 250 V","kom/pcs",{"$f":"CENA!G238","v":0},{"$f":"J247+M247+P247+S247+V247+Y247+AB247+AE247+AH247+AK247+AN247+AQ247+AZ247+AW247+AT247+BC247+BF247+BI247+BL247+BO247+BR247+BU247+BX247+CA247+CD247+CG247+CJ247+CM247+CP247+CS247+CV247+CY247+DB247+DE247+DH247+DK247+DN247+DQ247+DT247+DW247+DZ247+EC247+EF247+EI247+EL247+EO247+ER247+EU247+EX247+FA247+FD247+FG247+FJ247+FM247+FP247+FS247+FV247+FY247+GB247+GE247+GH247+GK247+GN247+GQ247+GT247+GW247+GZ247+HC247+HF247+HI247","v":0},{"$f":"G247*H247","v":0},null,{"$f":"$G247*J247","v":0},null,null,{"$f":"$G247*M247","v":0},null,null,{"$f":"$G247*P247","v":0},null,null,{"$f":"$G247*S247","v":0},null,null,{"$f":"$G247*V247","v":0},null,null,{"$f":"$G247*Y247","v":0},null,null,{"$f":"$G247*AB247","v":0},null,null,{"$f":"$G247*AE247","v":0},null,null,{"$f":"$G247*AH247","v":0},null,null,{"$f":"$G247*AK247","v":0},null,null,{"$f":"$G247*AN247","v":0},null,null,{"$f":"$G247*AQ247","v":0},null,null,{"$f":"$G247*AT247","v":0},null,null,{"$f":"$G247*AW247","v":0},null,null,{"$f":"$G247*AZ247","v":0},null,null,{"$f":"$G247*BC247","v":0},null,null,{"$f":"$G247*BF247","v":0},null,null,{"$f":"$G247*BI247","v":0},null,null,{"$f":"$G247*BL247","v":0},null,null,{"$f":"$G247*BO247","v":0},null,null,{"$f":"$G247*BR247","v":0},null,null,{"$f":"$G247*BU247","v":0},null,null,{"$f":"$G247*BX247","v":0},null,null,{"$f":"$G247*CA247","v":0},null,null,{"$f":"$G247*CD247","v":0},null,null,{"$f":"$G247*CG247","v":0},null,null,{"$f":"$G247*CJ247","v":0},null,null,{"$f":"$G247*CM247","v":0},null,null,{"$f":"$G247*CP247","v":0},null,null,{"$f":"$G247*CS247","v":0},null,null,{"$f":"$G247*CV247","v":0},null,null,{"$f":"$G247*CY247","v":0},null,null,{"$f":"$G247*DB247","v":0},null,null,{"$f":"$G247*DE247","v":0},null,null,{"$f":"$G247*DH247","v":0},null,null,{"$f":"$G247*DK247","v":0},null,null,{"$f":"$G247*DN247","v":0},null,null,{"$f":"$G247*DQ247","v":0},null,null,{"$f":"$G247*DT247","v":0},null,null,{"$f":"$G247*DW247","v":0},null,null,{"$f":"$G247*DZ247","v":0},null,null,{"$f":"$G247*EC247","v":0},null,null,{"$f":"$G247*EF247","v":0},null,null,{"$f":"$G247*EI247","v":0},null,null,{"$f":"$G247*EL247","v":0},null,null,{"$f":"$G247*EO247","v":0},null,null,{"$f":"$G247*ER247","v":0},null,null,{"$f":"$G247*EU247","v":0},null,null,{"$f":"$G247*EX247","v":0},null,null,{"$f":"$G247*FA247","v":0},null,null,{"$f":"$G247*FD247","v":0},null,null,{"$f":"$G247*FG247","v":0},null,null,{"$f":"$G247*FJ247","v":0},null,null,{"$f":"$G247*FM247","v":0},null,null,{"$f":"$G247*FP247","v":0},null,null,{"$f":"$G247*FS247","v":0},null,null,{"$f":"$G247*FV247","v":0},null,null,{"$f":"$G247*FY247","v":0},null,null,{"$f":"$G247*GB247","v":0},null,null,{"$f":"$G247*GE247","v":0},null,null,{"$f":"$G247*GH247","v":0},null,null,{"$f":"$G247*GK247","v":0},null,null,{"$f":"$G247*GN247","v":0},null,null,{"$f":"$G247*GQ247","v":0},null,null,{"$f":"$G247*GT247","v":0},null,null,{"$f":"$G247*GW247","v":0},null,null,{"$f":"$G247*GZ247","v":0},null,null,{"$f":"$G247*HC247","v":0},null,null,{"$f":"$G247*HF247","v":0},null,null,{"$f":"$G247*HI247","v":0}]
["10.6.2",null,"B","16A, monofazna, dupla, 250 V","16A, single-phase, double, 250 V","kom/pcs",{"$f":"CENA!G239","v":0},0,0,null,{"$f":"$G248*J248","v":0},null,null,0,null,null,{"$f":"$G248*P248","v":0},null,null,0,null,null,{"$f":"$G248*V248","v":0},null,null,{"$f":"$G248*Y248","v":0},null,null,{"$f":"$G248*AB248","v":0},null,null,{"$f":"$G248*AE248","v":0},null,null,{"$f":"$G248*AH248","v":0},null,null,{"$f":"$G248*AK248","v":0},null,null,{"$f":"$G248*AN248","v":0},null,null,{"$f":"$G248*AQ248","v":0},null,null,{"$f":"$G248*AT248","v":0},null,null,{"$f":"$G248*AW248","v":0},null,null,{"$f":"$G248*AZ248","v":0},null,null,{"$f":"$G248*BC248","v":0},null,null,0,null,null,0,null,null,{"$f":"$G248*BL248","v":0},null,null,0,null,null,{"$f":"$G248*BR248","v":0},null,null,{"$f":"$G248*BU248","v":0},null,null,{"$f":"$G248*BX248","v":0},null,null,{"$f":"$G248*CA248","v":0},null,null,{"$f":"$G248*CD248","v":0},null,null,{"$f":"$G248*CG248","v":0},null,null,{"$f":"$G248*CJ248","v":0},null,null,{"$f":"$G248*CM248","v":0},null,null,{"$f":"$G248*CP248","v":0},null,null,{"$f":"$G248*CS248","v":0},null,null,{"$f":"$G248*CV248","v":0},null,null,{"$f":"$G248*CY248","v":0},null,null,0,null,null,0,null,null,{"$f":"$G248*DH248","v":0},null,null,0,null,null,{"$f":"$G248*DN248","v":0},null,null,{"$f":"$G248*DQ248","v":0},null,null,{"$f":"$G248*DT248","v":0},null,null,{"$f":"$G248*DW248","v":0},null,null,{"$f":"$G248*DZ248","v":0},null,null,{"$f":"$G248*EC248","v":0},null,null,{"$f":"$G248*EF248","v":0},null,null,{"$f":"$G248*EI248","v":0},null,null,{"$f":"$G248*EL248","v":0},null,null,{"$f":"$G248*EO248","v":0},null,null,{"$f":"$G248*ER248","v":0},null,null,{"$f":"$G248*EU248","v":0},null,null,0,null,null,0,null,null,{"$f":"$G248*FD248","v":0},null,null,0,null,null,{"$f":"$G248*FJ248","v":0},null,null,{"$f":"$G248*FM248","v":0},null,null,{"$f":"$G248*FP248","v":0},null,null,{"$f":"$G248*FS248","v":0},null,null,{"$f":"$G248*FV248","v":0},null,null,{"$f":"$G248*FY248","v":0},null,null,{"$f":"$G248*GB248","v":0},null,null,{"$f":"$G248*GE248","v":0},null,null,{"$f":"$G248*GH248","v":0},null,null,{"$f":"$G248*GK248","v":0},null,null,{"$f":"$G248*GN248","v":0},null,null,{"$f":"$G248*GQ248","v":0},null,null,{"$f":"$G248*GT248","v":0},null,null,{"$f":"$G248*GW248","v":0},null,null,{"$f":"$G248*GZ248","v":0},null,null,{"$f":"$G248*HC248","v":0},null,null,{"$f":"$G248*HF248","v":0},null,null,{"$f":"$G248*HI248","v":0}]
["10.6.3",null,"C","16A, trofazna, 400V","16A, three-phase, 400V","kom/pcs",{"$f":"CENA!G240","v":0},0,0,null,{"$f":"$G249*J249","v":0},null,null,0,null,null,{"$f":"$G249*P249","v":0},null,null,0,null,null,{"$f":"$G249*V249","v":0},null,null,{"$f":"$G249*Y249","v":0},null,null,{"$f":"$G249*AB249","v":0},null,null,{"$f":"$G249*AE249","v":0},null,null,{"$f":"$G249*AH249","v":0},null,null,{"$f":"$G249*AK249","v":0},null,null,{"$f":"$G249*AN249","v":0},null,null,{"$f":"$G249*AQ249","v":0},null,null,{"$f":"$G249*AT249","v":0},null,null,{"$f":"$G249*AW249","v":0},null,null,{"$f":"$G249*AZ249","v":0},null,null,{"$f":"$G249*BC249","v":0},null,null,0,null,null,0,null,null,{"$f":"$G249*BL249","v":0},null,null,0,null,null,{"$f":"$G249*BR249","v":0},null,null,{"$f":"$G249*BU249","v":0},null,null,{"$f":"$G249*BX249","v":0},null,null,{"$f":"$G249*CA249","v":0},null,null,{"$f":"$G249*CD249","v":0},null,null,{"$f":"$G249*CG249","v":0},null,null,{"$f":"$G249*CJ249","v":0},null,null,{"$f":"$G249*CM249","v":0},null,null,{"$f":"$G249*CP249","v":0},null,null,{"$f":"$G249*CS249","v":0},null,null,{"$f":"$G249*CV249","v":0},null,null,{"$f":"$G249*CY249","v":0},null,null,0,null,null,0,null,null,{"$f":"$G249*DH249","v":0},null,null,0,null,null,{"$f":"$G249*DN249","v":0},null,null,{"$f":"$G249*DQ249","v":0},null,null,{"$f":"$G249*DT249","v":0},null,null,{"$f":"$G249*DW249","v":0},null,null,{"$f":"$G249*DZ249","v":0},null,null,{"$f":"$G249*EC249","v":0},null,null,{"$f":"$G249*EF249","v":0},null,null,{"$f":"$G249*EI249","v":0},null,null,{"$f":"$G249*EL249","v":0},null,null,{"$f":"$G249*EO249","v":0},null,null,{"$f":"$G249*ER249","v":0},null,null,{"$f":"$G249*EU249","v":0},null,null,0,null,null,0,null,null,{"$f":"$G249*FD249","v":0},null,null,0,null,null,{"$f":"$G249*FJ249","v":0},null,null,{"$f":"$G249*FM249","v":0},null,null,{"$f":"$G249*FP249","v":0},null,null,{"$f":"$G249*FS249","v":0},null,null,{"$f":"$G249*FV249","v":0},null,null,{"$f":"$G249*FY249","v":0},null,null,{"$f":"$G249*GB249","v":0},null,null,{"$f":"$G249*GE249","v":0},null,null,{"$f":"$G249*GH249","v":0},null,null,{"$f":"$G249*GK249","v":0},null,null,{"$f":"$G249*GN249","v":0},null,null,{"$f":"$G249*GQ249","v":0},null,null,{"$f":"$G249*GT249","v":0},null,null,{"$f":"$G249*GW249","v":0},null,null,{"$f":"$G249*GZ249","v":0},null,null,{"$f":"$G249*HC249","v":0},null,null,{"$f":"$G249*HF249","v":0},null,null,{"$f":"$G249*HI249","v":0}]
["10.7","E",7,"Instalaciona priključnica IP43 sa poklopcem za ugradnju u završnu obradu zida, sa zaštit. kontaktom, 16A, monofazna, 250 V","Installation socket IP43 with cover for use in wall with protection. contact, 16A, single-phase, 250 V","kom/pcs",{"$f":"CENA!G241","v":0},0,0,null,{"$f":"$G250*J250","v":0},null,null,0,null,null,{"$f":"$G250*P250","v":0},null,null,null,null,null,{"$f":"$G250*V250","v":0},null,null,{"$f":"$G250*Y250","v":0},null,null,{"$f":"$G250*AB250","v":0},null,null,{"$f":"$G250*AE250","v":0},null,null,{"$f":"$G250*AH250","v":0},null,null,{"$f":"$G250*AK250","v":0},null,null,{"$f":"$G250*AN250","v":0},null,null,{"$f":"$G250*AQ250","v":0},null,null,{"$f":"$G250*AT250","v":0},null,null,{"$f":"$G250*AW250","v":0},null,null,{"$f":"$G250*AZ250","v":0},null,null,{"$f":"$G250*BC250","v":0},null,null,0,null,null,0,null,null,{"$f":"$G250*BL250","v":0},null,null,null,null,null,{"$f":"$G250*BR250","v":0},null,null,{"$f":"$G250*BU250","v":0},null,null,{"$f":"$G250*BX250","v":0},null,null,{"$f":"$G250*CA250","v":0},null,null,{"$f":"$G250*CD250","v":0},null,null,{"$f":"$G250*CG250","v":0},null,null,{"$f":"$G250*CJ250","v":0},null,null,{"$f":"$G250*CM250","v":0},null,null,{"$f":"$G250*CP250","v":0},null,null,{"$f":"$G250*CS250","v":0},null,null,{"$f":"$G250*CV250","v":0},null,null,{"$f":"$G250*CY250","v":0},null,null,0,null,null,0,null,null,{"$f":"$G250*DH250","v":0},null,null,null,null,null,{"$f":"$G250*DN250","v":0},null,null,{"$f":"$G250*DQ250","v":0},null,null,{"$f":"$G250*DT250","v":0},null,null,{"$f":"$G250*DW250","v":0},null,null,{"$f":"$G250*DZ250","v":0},null,null,{"$f":"$G250*EC250","v":0},null,null,{"$f":"$G250*EF250","v":0},null,null,{"$f":"$G250*EI250","v":0},null,null,{"$f":"$G250*EL250","v":0},null,null,{"$f":"$G250*EO250","v":0},null,null,{"$f":"$G250*ER250","v":0},null,null,{"$f":"$G250*EU250","v":0},null,null,0,null,null,0,null,null,{"$f":"$G250*FD250","v":0},null,null,null,null,null,{"$f":"$G250*FJ250","v":0},null,null,{"$f":"$G250*FM250","v":0},null,null,{"$f":"$G250*FP250","v":0},null,null,{"$f":"$G250*FS250","v":0},null,null,{"$f":"$G250*FV250","v":0},null,null,{"$f":"$G250*FY250","v":0},null,null,{"$f":"$G250*GB250","v":0},null,null,{"$f":"$G250*GE250","v":0},null,null,{"$f":"$G250*GH250","v":0},null,null,{"$f":"$G250*GK250","v":0},null,null,{"$f":"$G250*GN250","v":0},null,null,{"$f":"$G250*GQ250","v":0},null,null,{"$f":"$G250*GT250","v":0},null,null,{"$f":"$G250*GW250","v":0},null,null,{"$f":"$G250*GZ250","v":0},null,null,{"$f":"$G250*HC250","v":0},null,null,{"$f":"$G250*HF250","v":0},null,null,{"$f":"$G250*HI250","v":0}]
["10.8","E",8,"Prekidači\n IP20 za ugradnju u završnu obradu zida","Switches \n IP20 for installation in wall","/","/","/","/","/","/",null,null,"/",null,"/","/",null,"/","/",null,"/","/",null,"/","/",null,"/","/",null,"/","/",null,"/","/",null,"/","/",null,"/","/",null,"/","/",null,"/","/",null,"/","/",null,"/","/",null,"/","/",null,"/","/",null,null,"/",null,"/","/",null,"/","/",null,"/","/",null,"/","/",null,"/","/",null,"/","/",null,"/","/",null,"/","/",null,"/","/",null,"/","/",null,"/","/",null,"/","/",null,"/","/",null,"/","/",null,"/","/",null,null,"/",null,"/","/",null,"/","/",null,"/","/",null,"/","/",null,"/","/",null,"/","/",null,"/","/",null,"/","/",null,"/","/",null,"/","/",null,"/","/",null,"/","/",null,"/","/",null,"/","/",null,"/","/",null,null,"/",null,"/","/",null,"/","/",null,"/","/",null,"/","/",null,"/","/",null,"/","/",null,"/","/",null,"/","/",null,"/","/",null,"/","/",null,"/","/",null,"/","/",null,"/","/",null,"/","/",null,"/","/",null,"/","/",null,"/","/",null,"/","/",null,"/","/",null,"/","/"]
["10.8.1",null,"A","običan, 10A","regular, 10A","kom/pcs",{"$f":"CENA!G243","v":0},{"$f":"J252+M252+P252+S252+V252+Y252+AB252+AE252+AH252+AK252+AN252+AQ252+AZ252+AW252+AT252+BC252+BF252+BI252+BL252+BO252+BR252+BU252+BX252+CA252+CD252+CG252+CJ252+CM252+CP252+CS252+CV252+CY252+DB252+DE252+DH252+DK252+DN252+DQ252+DT252+DW252+DZ252+EC252+EF252+EI252+EL252+EO252+ER252+EU252+EX252+FA252+FD252+FG252+FJ252+FM252+FP252+FS252+FV252+FY252+GB252+GE252+GH252+GK252+GN252+GQ252+GT252+GW252+GZ252+HC252+HF252+HI252","v":0},{"$f":"G252*H252","v":0},null,{"$f":"$G252*J252","v":0},null,null,{"$f":"$G252*M252","v":0},null,null,{"$f":"$G252*P252","v":0},null,null,{"$f":"$G252*S252","v":0},null,null,{"$f":"$G252*V252","v":0},null,null,{"$f":"$G252*Y252","v":0},null,null,{"$f":"$G252*AB252","v":0},null,null,{"$f":"$G252*AE252","v":0},null,null,{"$f":"$G252*AH252","v":0},null,null,{"$f":"$G252*AK252","v":0},null,null,{"$f":"$G252*AN252","v":0},null,null,{"$f":"$G252*AQ252","v":0},null,null,{"$f":"$G252*AT252","v":0},null,null,{"$f":"$G252*AW252","v":0},null,null,{"$f":"$G252*AZ252","v":0},null,null,{"$f":"$G252*BC252","v":0},null,null,{"$f":"$G252*BF252","v":0},null,null,{"$f":"$G252*BI252","v":0},null,null,{"$f":"$G252*BL252","v":0},null,null,{"$f":"$G252*BO252","v":0},null,null,{"$f":"$G252*BR252","v":0},null,null,{"$f":"$G252*BU252","v":0},null,null,{"$f":"$G252*BX252","v":0},null,null,{"$f":"$G252*CA252","v":0},null,null,{"$f":"$G252*CD252","v":0},null,null,{"$f":"$G252*CG252","v":0},null,null,{"$f":"$G252*CJ252","v":0},null,null,{"$f":"$G252*CM252","v":0},null,null,{"$f":"$G252*CP252","v":0},null,null,{"$f":"$G252*CS252","v":0},null,null,{"$f":"$G252*CV252","v":0},null,null,{"$f":"$G252*CY252","v":0},null,null,{"$f":"$G252*DB252","v":0},null,null,{"$f":"$G252*DE252","v":0},null,null,{"$f":"$G252*DH252","v":0},null,null,{"$f":"$G252*DK252","v":0},null,null,{"$f":"$G252*DN252","v":0},null,null,{"$f":"$G252*DQ252","v":0},null,null,{"$f":"$G252*DT252","v":0},null,null,{"$f":"$G252*DW252","v":0},null,null,{"$f":"$G252*DZ252","v":0},null,null,{"$f":"$G252*EC252","v":0},null,null,{"$f":"$G252*EF252","v":0},null,null,{"$f":"$G252*EI252","v":0},null,null,{"$f":"$G252*EL252","v":0},null,null,{"$f":"$G252*EO252","v":0},null,null,{"$f":"$G252*ER252","v":0},null,null,{"$f":"$G252*EU252","v":0},null,null,{"$f":"$G252*EX252","v":0},null,null,{"$f":"$G252*FA252","v":0},null,null,{"$f":"$G252*FD252","v":0},null,null,{"$f":"$G252*FG252","v":0},null,null,{"$f":"$G252*FJ252","v":0},null,null,{"$f":"$G252*FM252","v":0},null,null,{"$f":"$G252*FP252","v":0},null,null,{"$f":"$G252*FS252","v":0},null,null,{"$f":"$G252*FV252","v":0},null,null,{"$f":"$G252*FY252","v":0},null,null,{"$f":"$G252*GB252","v":0},null,null,{"$f":"$G252*GE252","v":0},null,null,{"$f":"$G252*GH252","v":0},null,null,{"$f":"$G252*GK252","v":0},null,null,{"$f":"$G252*GN252","v":0},null,null,{"$f":"$G252*GQ252","v":0},null,null,{"$f":"$G252*GT252","v":0},null,null,{"$f":"$G252*GW252","v":0},null,null,{"$f":"$G252*GZ252","v":0},null,null,{"$f":"$G252*HC252","v":0},null,null,{"$f":"$G252*HF252","v":0},null,null,{"$f":"$G252*HI252","v":0}]
["10.8.2",null,"B","serijski, 10A","serial, 10A","kom/pcs",{"$f":"CENA!G244","v":0},0,0,null,{"$f":"$G253*J253","v":0},null,null,0,null,null,{"$f":"$G253*P253","v":0},null,null,0,null,null,{"$f":"$G253*V253","v":0},null,null,{"$f":"$G253*Y253","v":0},null,null,{"$f":"$G253*AB253","v":0},null,null,{"$f":"$G253*AE253","v":0},null,null,{"$f":"$G253*AH253","v":0},null,null,{"$f":"$G253*AK253","v":0},null,null,{"$f":"$G253*AN253","v":0},null,null,{"$f":"$G253*AQ253","v":0},null,null,{"$f":"$G253*AT253","v":0},null,null,{"$f":"$G253*AW253","v":0},null,null,{"$f":"$G253*AZ253","v":0},null,null,{"$f":"$G253*BC253","v":0},null,null,0,null,null,0,null,null,{"$f":"$G253*BL253","v":0},null,null,0,null,null,{"$f":"$G253*BR253","v":0},null,null,{"$f":"$G253*BU253","v":0},null,null,{"$f":"$G253*BX253","v":0},null,null,{"$f":"$G253*CA253","v":0},null,null,{"$f":"$G253*CD253","v":0},null,null,{"$f":"$G253*CG253","v":0},null,null,{"$f":"$G253*CJ253","v":0},null,null,{"$f":"$G253*CM253","v":0},null,null,{"$f":"$G253*CP253","v":0},null,null,{"$f":"$G253*CS253","v":0},null,null,{"$f":"$G253*CV253","v":0},null,null,{"$f":"$G253*CY253","v":0},null,null,0,null,null,0,null,null,{"$f":"$G253*DH253","v":0},null,null,0,null,null,{"$f":"$G253*DN253","v":0},null,null,{"$f":"$G253*DQ253","v":0},null,null,{"$f":"$G253*DT253","v":0},null,null,{"$f":"$G253*DW253","v":0},null,null,{"$f":"$G253*DZ253","v":0},null,null,{"$f":"$G253*EC253","v":0},null,null,{"$f":"$G253*EF253","v":0},null,null,{"$f":"$G253*EI253","v":0},null,null,{"$f":"$G253*EL253","v":0},null,null,{"$f":"$G253*EO253","v":0},null,null,{"$f":"$G253*ER253","v":0},null,null,{"$f":"$G253*EU253","v":0},null,null,0,null,null,0,null,null,{"$f":"$G253*FD253","v":0},null,null,0,null,null,{"$f":"$G253*FJ253","v":0},null,null,{"$f":"$G253*FM253","v":0},null,null,{"$f":"$G253*FP253","v":0},null,null,{"$f":"$G253*FS253","v":0},null,null,{"$f":"$G253*FV253","v":0},null,null,{"$f":"$G253*FY253","v":0},null,null,{"$f":"$G253*GB253","v":0},null,null,{"$f":"$G253*GE253","v":0},null,null,{"$f":"$G253*GH253","v":0},null,null,{"$f":"$G253*GK253","v":0},null,null,{"$f":"$G253*GN253","v":0},null,null,{"$f":"$G253*GQ253","v":0},null,null,{"$f":"$G253*GT253","v":0},null,null,{"$f":"$G253*GW253","v":0},null,null,{"$f":"$G253*GZ253","v":0},null,null,{"$f":"$G253*HC253","v":0},null,null,{"$f":"$G253*HF253","v":0},null,null,{"$f":"$G253*HI253","v":0}]
["10.8.3",null,"C","za zvono ","for bell","kom/pcs",{"$f":"CENA!G245","v":0},0,0,null,{"$f":"$G254*J254","v":0},null,null,0,null,null,{"$f":"$G254*P254","v":0},null,null,0,null,null,{"$f":"$G254*V254","v":0},null,null,{"$f":"$G254*Y254","v":0},null,null,{"$f":"$G254*AB254","v":0},null,null,{"$f":"$G254*AE254","v":0},null,null,{"$f":"$G254*AH254","v":0},null,null,{"$f":"$G254*AK254","v":0},null,null,{"$f":"$G254*AN254","v":0},null,null,{"$f":"$G254*AQ254","v":0},null,null,{"$f":"$G254*AT254","v":0},null,null,{"$f":"$G254*AW254","v":0},null,null,{"$f":"$G254*AZ254","v":0},null,null,{"$f":"$G254*BC254","v":0},null,null,0,null,null,0,null,null,{"$f":"$G254*BL254","v":0},null,null,0,null,null,{"$f":"$G254*BR254","v":0},null,null,{"$f":"$G254*BU254","v":0},null,null,{"$f":"$G254*BX254","v":0},null,null,{"$f":"$G254*CA254","v":0},null,null,{"$f":"$G254*CD254","v":0},null,null,{"$f":"$G254*CG254","v":0},null,null,{"$f":"$G254*CJ254","v":0},null,null,{"$f":"$G254*CM254","v":0},null,null,{"$f":"$G254*CP254","v":0},null,null,{"$f":"$G254*CS254","v":0},null,null,{"$f":"$G254*CV254","v":0},null,null,{"$f":"$G254*CY254","v":0},null,null,0,null,null,0,null,null,{"$f":"$G254*DH254","v":0},null,null,0,null,null,{"$f":"$G254*DN254","v":0},null,null,{"$f":"$G254*DQ254","v":0},null,null,{"$f":"$G254*DT254","v":0},null,null,{"$f":"$G254*DW254","v":0},null,null,{"$f":"$G254*DZ254","v":0},null,null,{"$f":"$G254*EC254","v":0},null,null,{"$f":"$G254*EF254","v":0},null,null,{"$f":"$G254*EI254","v":0},null,null,{"$f":"$G254*EL254","v":0},null,null,{"$f":"$G254*EO254","v":0},null,null,{"$f":"$G254*ER254","v":0},null,null,{"$f":"$G254*EU254","v":0},null,null,0,null,null,0,null,null,{"$f":"$G254*FD254","v":0},null,null,0,null,null,{"$f":"$G254*FJ254","v":0},null,null,{"$f":"$G254*FM254","v":0},null,null,{"$f":"$G254*FP254","v":0},null,null,{"$f":"$G254*FS254","v":0},null,null,{"$f":"$G254*FV254","v":0},null,null,{"$f":"$G254*FY254","v":0},null,null,{"$f":"$G254*GB254","v":0},null,null,{"$f":"$G254*GE254","v":0},null,null,{"$f":"$G254*GH254","v":0},null,null,{"$f":"$G254*GK254","v":0},null,null,{"$f":"$G254*GN254","v":0},null,null,{"$f":"$G254*GQ254","v":0},null,null,{"$f":"$G254*GT254","v":0},null,null,{"$f":"$G254*GW254","v":0},null,null,{"$f":"$G254*GZ254","v":0},null,null,{"$f":"$G254*HC254","v":0},null,null,{"$f":"$G254*HF254","v":0},null,null,{"$f":"$G254*HI254","v":0}]
["10.8.4",null,"D","Instalacioni  prekidač \"KIP\" 16A","Installation switch \"KIP\" 16A","kom/pcs",{"$f":"CENA!G246","v":0},0,0,null,{"$f":"$G255*J255","v":0},null,null,0,null,null,{"$f":"$G255*P255","v":0},null,null,0,null,null,{"$f":"$G255*V255","v":0},null,null,{"$f":"$G255*Y255","v":0},null,null,{"$f":"$G255*AB255","v":0},null,null,{"$f":"$G255*AE255","v":0},null,null,{"$f":"$G255*AH255","v":0},null,null,{"$f":"$G255*AK255","v":0},null,null,{"$f":"$G255*AN255","v":0},null,null,{"$f":"$G255*AQ255","v":0},null,null,{"$f":"$G255*AT255","v":0},null,null,{"$f":"$G255*AW255","v":0},null,null,{"$f":"$G255*AZ255","v":0},null,null,{"$f":"$G255*BC255","v":0},null,null,0,null,null,0,null,null,{"$f":"$G255*BL255","v":0},null,null,0,null,null,{"$f":"$G255*BR255","v":0},null,null,{"$f":"$G255*BU255","v":0},null,null,{"$f":"$G255*BX255","v":0},null,null,{"$f":"$G255*CA255","v":0},null,null,{"$f":"$G255*CD255","v":0},null,null,{"$f":"$G255*CG255","v":0},null,null,{"$f":"$G255*CJ255","v":0},null,null,{"$f":"$G255*CM255","v":0},null,null,{"$f":"$G255*CP255","v":0},null,null,{"$f":"$G255*CS255","v":0},null,null,{"$f":"$G255*CV255","v":0},null,null,{"$f":"$G255*CY255","v":0},null,null,0,null,null,0,null,null,{"$f":"$G255*DH255","v":0},null,null,0,null,null,{"$f":"$G255*DN255","v":0},null,null,{"$f":"$G255*DQ255","v":0},null,null,{"$f":"$G255*DT255","v":0},null,null,{"$f":"$G255*DW255","v":0},null,null,{"$f":"$G255*DZ255","v":0},null,null,{"$f":"$G255*EC255","v":0},null,null,{"$f":"$G255*EF255","v":0},null,null,{"$f":"$G255*EI255","v":0},null,null,{"$f":"$G255*EL255","v":0},null,null,{"$f":"$G255*EO255","v":0},null,null,{"$f":"$G255*ER255","v":0},null,null,{"$f":"$G255*EU255","v":0},null,null,0,null,null,0,null,null,{"$f":"$G255*FD255","v":0},null,null,0,null,null,{"$f":"$G255*FJ255","v":0},null,null,{"$f":"$G255*FM255","v":0},null,null,{"$f":"$G255*FP255","v":0},null,null,{"$f":"$G255*FS255","v":0},null,null,{"$f":"$G255*FV255","v":0},null,null,{"$f":"$G255*FY255","v":0},null,null,{"$f":"$G255*GB255","v":0},null,null,{"$f":"$G255*GE255","v":0},null,null,{"$f":"$G255*GH255","v":0},null,null,{"$f":"$G255*GK255","v":0},null,null,{"$f":"$G255*GN255","v":0},null,null,{"$f":"$G255*GQ255","v":0},null,null,{"$f":"$G255*GT255","v":0},null,null,{"$f":"$G255*GW255","v":0},null,null,{"$f":"$G255*GZ255","v":0},null,null,{"$f":"$G255*HC255","v":0},null,null,{"$f":"$G255*HF255","v":0},null,null,{"$f":"$G255*HI255","v":0}]
["10.9","E",9,"Indikator za kupatilo\n sa tri sklopke 16A i signalnim sijalicama","The indicator for the bathroom \nThree switches 16A and signal lights","kom/pcs",{"$f":"CENA!G247","v":0},0,0,null,{"$f":"$G256*J256","v":0},null,null,0,null,null,{"$f":"$G256*P256","v":0},null,null,0,null,null,{"$f":"$G256*V256","v":0},null,null,{"$f":"$G256*Y256","v":0},null,null,{"$f":"$G256*AB256","v":0},null,null,{"$f":"$G256*AE256","v":0},null,null,{"$f":"$G256*AH256","v":0},null,null,{"$f":"$G256*AK256","v":0},null,null,{"$f":"$G256*AN256","v":0},null,null,{"$f":"$G256*AQ256","v":0},null,null,{"$f":"$G256*AT256","v":0},null,null,{"$f":"$G256*AW256","v":0},null,null,{"$f":"$G256*AZ256","v":0},null,null,{"$f":"$G256*BC256","v":0},null,null,0,null,null,0,null,null,{"$f":"$G256*BL256","v":0},null,null,0,null,null,{"$f":"$G256*BR256","v":0},null,null,{"$f":"$G256*BU256","v":0},null,null,{"$f":"$G256*BX256","v":0},null,null,{"$f":"$G256*CA256","v":0},null,null,{"$f":"$G256*CD256","v":0},null,null,{"$f":"$G256*CG256","v":0},null,null,{"$f":"$G256*CJ256","v":0},null,null,{"$f":"$G256*CM256","v":0},null,null,{"$f":"$G256*CP256","v":0},null,null,{"$f":"$G256*CS256","v":0},null,null,{"$f":"$G256*CV256","v":0},null,null,{"$f":"$G256*CY256","v":0},null,null,0,null,null,0,null,null,{"$f":"$G256*DH256","v":0},null,null,0,null,null,{"$f":"$G256*DN256","v":0},null,null,{"$f":"$G256*DQ256","v":0},null,null,{"$f":"$G256*DT256","v":0},null,null,{"$f":"$G256*DW256","v":0},null,null,{"$f":"$G256*DZ256","v":0},null,null,{"$f":"$G256*EC256","v":0},null,null,{"$f":"$G256*EF256","v":0},null,null,{"$f":"$G256*EI256","v":0},null,null,{"$f":"$G256*EL256","v":0},null,null,{"$f":"$G256*EO256","v":0},null,null,{"$f":"$G256*ER256","v":0},null,null,{"$f":"$G256*EU256","v":0},null,null,0,null,null,0,null,null,{"$f":"$G256*FD256","v":0},null,null,0,null,null,{"$f":"$G256*FJ256","v":0},null,null,{"$f":"$G256*FM256","v":0},null,null,{"$f":"$G256*FP256","v":0},null,null,{"$f":"$G256*FS256","v":0},null,null,{"$f":"$G256*FV256","v":0},null,null,{"$f":"$G256*FY256","v":0},null,null,{"$f":"$G256*GB256","v":0},null,null,{"$f":"$G256*GE256","v":0},null,null,{"$f":"$G256*GH256","v":0},null,null,{"$f":"$G256*GK256","v":0},null,null,{"$f":"$G256*GN256","v":0},null,null,{"$f":"$G256*GQ256","v":0},null,null,{"$f":"$G256*GT256","v":0},null,null,{"$f":"$G256*GW256","v":0},null,null,{"$f":"$G256*GZ256","v":0},null,null,{"$f":"$G256*HC256","v":0},null,null,{"$f":"$G256*HF256","v":0},null,null,{"$f":"$G256*HI256","v":0}]
[null,null,null,"Svetiljke","Lighting"]
["10.10","E",10,"Svetiljka za montažu na plafon  sa inkadescentnom sijalicom 60W, E-27, ","Luminaire to be mounted on the ceiling with a 60W incandescent bulb, E-27","/","/","/","/","/","/",null,null,"/",null,"/","/",null,"/","/",null,"/","/",null,"/","/",null,"/","/",null,"/","/",null,"/","/",null,"/","/",null,"/","/",null,"/","/",null,"/","/",null,"/","/",null,"/","/",null,"/","/",null,"/","/",null,null,"/",null,"/","/",null,"/","/",null,"/","/",null,"/","/",null,"/","/",null,"/","/",null,"/","/",null,"/","/",null,"/","/",null,"/","/",null,"/","/",null,"/","/",null,"/","/",null,"/","/",null,"/","/",null,null,"/",null,"/","/",null,"/","/",null,"/","/",null,"/","/",null,"/","/",null,"/","/",null,"/","/",null,"/","/",null,"/","/",null,"/","/",null,"/","/",null,"/","/",null,"/","/",null,"/","/",null,"/","/",null,null,"/",null,"/","/",null,"/","/",null,"/","/",null,"/","/",null,"/","/",null,"/","/",null,"/","/",null,"/","/",null,"/","/",null,"/","/",null,"/","/",null,"/","/",null,"/","/",null,"/","/",null,"/","/",null,"/","/",null,"/","/",null,"/","/",null,"/","/",null,"/","/"]
["10.10.1",null,"A"," IP 43 za sanitarni čvor","IP 43 for toilet",null,{"$f":"CENA!G250","v":0},{"$f":"J259+M259+P259+S259+V259+Y259+AB259+AE259+AH259+AK259+AN259+AQ259+AZ259+AW259+AT259+BC259+BF259+BI259+BL259+BO259+BR259+BU259+BX259+CA259+CD259+CG259+CJ259+CM259+CP259+CS259+CV259+CY259+DB259+DE259+DH259+DK259+DN259+DQ259+DT259+DW259+DZ259+EC259+EF259+EI259+EL259+EO259+ER259+EU259+EX259+FA259+FD259+FG259+FJ259+FM259+FP259+FS259+FV259+FY259+GB259+GE259+GH259+GK259+GN259+GQ259+GT259+GW259+GZ259+HC259+HF259+HI259","v":0},{"$f":"G259*H259","v":0},null,{"$f":"$G259*J259","v":0},null,null,{"$f":"$G259*M259","v":0},null,null,{"$f":"$G259*P259","v":0},null,null,0,null,null,{"$f":"$G259*V259","v":0},null,null,{"$f":"$G259*Y259","v":0},null,null,{"$f":"$G259*AB259","v":0},null,null,{"$f":"$G259*AE259","v":0},null,null,{"$f":"$G259*AH259","v":0},null,null,{"$f":"$G259*AK259","v":0},null,null,{"$f":"$G259*AN259","v":0},null,null,{"$f":"$G259*AQ259","v":0},null,null,{"$f":"$G259*AT259","v":0},null,null,{"$f":"$G259*AW259","v":0},null,null,{"$f":"$G259*AZ259","v":0},null,null,{"$f":"$G259*BC259","v":0},null,null,{"$f":"$G259*BF259","v":0},null,null,{"$f":"$G259*BI259","v":0},null,null,{"$f":"$G259*BL259","v":0},null,null,{"$f":"$G259*BO259","v":0},null,null,{"$f":"$G259*BR259","v":0},null,null,{"$f":"$G259*BU259","v":0},null,null,{"$f":"$G259*BX259","v":0},null,null,{"$f":"$G259*CA259","v":0},null,null,{"$f":"$G259*CD259","v":0},null,null,{"$f":"$G259*CG259","v":0},null,null,{"$f":"$G259*CJ259","v":0},null,null,{"$f":"$G259*CM259","v":0},null,null,{"$f":"$G259*CP259","v":0},null,null,{"$f":"$G259*CS259","v":0},null,null,{"$f":"$G259*CV259","v":0},null,null,{"$f":"$G259*CY259","v":0},null,null,{"$f":"$G259*DB259","v":0},null,null,{"$f":"$G259*DE259","v":0},null,null,{"$f":"$G259*DH259","v":0},null,null,{"$f":"$G259*DK259","v":0},null,null,{"$f":"$G259*DN259","v":0},null,null,{"$f":"$G259*DQ259","v":0},null,null,{"$f":"$G259*DT259","v":0},null,null,{"$f":"$G259*DW259","v":0},null,null,{"$f":"$G259*DZ259","v":0},null,null,{"$f":"$G259*EC259","v":0},null,null,{"$f":"$G259*EF259","v":0},null,null,{"$f":"$G259*EI259","v":0},null,null,{"$f":"$G259*EL259","v":0},null,null,{"$f":"$G259*EO259","v":0},null,null,{"$f":"$G259*ER259","v":0},null,null,{"$f":"$G259*EU259","v":0},null,null,{"$f":"$G259*EX259","v":0},null,null,{"$f":"$G259*FA259","v":0},null,null,{"$f":"$G259*FD259","v":0},null,null,{"$f":"$G259*FG259","v":0},null,null,{"$f":"$G259*FJ259","v":0},null,null,{"$f":"$G259*FM259","v":0},null,null,{"$f":"$G259*FP259","v":0},null,null,{"$f":"$G259*FS259","v":0},null,null,{"$f":"$G259*FV259","v":0},null,null,{"$f":"$G259*FY259","v":0},null,null,{"$f":"$G259*GB259","v":0},null,null,{"$f":"$G259*GE259","v":0},null,null,{"$f":"$G259*GH259","v":0},null,null,{"$f":"$G259*GK259","v":0},null,null,{"$f":"$G259*GN259","v":0},null,null,{"$f":"$G259*GQ259","v":0},null,null,{"$f":"$G259*GT259","v":0},null,null,{"$f":"$G259*GW259","v":0},null,null,{"$f":"$G259*GZ259","v":0},null,null,{"$f":"$G259*HC259","v":0},null,null,{"$f":"$G259*HF259","v":0},null,null,{"$f":"$G259*HI259","v":0}]
["10.10.2",null,"B","IP 20 za unutrašnje prostorije","IP 20 for indoor rooms",null,{"$f":"CENA!G251","v":0},0,0,null,{"$f":"$G260*J260","v":0},null,null,0,null,null,{"$f":"$G260*P260","v":0},null,null,0,null,null,{"$f":"$G260*V260","v":0},null,null,{"$f":"$G260*Y260","v":0},null,null,{"$f":"$G260*AB260","v":0},null,null,{"$f":"$G260*AE260","v":0},null,null,{"$f":"$G260*AH260","v":0},null,null,{"$f":"$G260*AK260","v":0},null,null,{"$f":"$G260*AN260","v":0},null,null,{"$f":"$G260*AQ260","v":0},null,null,{"$f":"$G260*AT260","v":0},null,null,{"$f":"$G260*AW260","v":0},null,null,{"$f":"$G260*AZ260","v":0},null,null,{"$f":"$G260*BC260","v":0},null,null,0,null,null,0,null,null,{"$f":"$G260*BL260","v":0},null,null,0,null,null,{"$f":"$G260*BR260","v":0},null,null,{"$f":"$G260*BU260","v":0},null,null,{"$f":"$G260*BX260","v":0},null,null,{"$f":"$G260*CA260","v":0},null,null,{"$f":"$G260*CD260","v":0},null,null,{"$f":"$G260*CG260","v":0},null,null,{"$f":"$G260*CJ260","v":0},null,null,{"$f":"$G260*CM260","v":0},null,null,{"$f":"$G260*CP260","v":0},null,null,{"$f":"$G260*CS260","v":0},null,null,{"$f":"$G260*CV260","v":0},null,null,{"$f":"$G260*CY260","v":0},null,null,0,null,null,0,null,null,{"$f":"$G260*DH260","v":0},null,null,0,null,null,{"$f":"$G260*DN260","v":0},null,null,{"$f":"$G260*DQ260","v":0},null,null,{"$f":"$G260*DT260","v":0},null,null,{"$f":"$G260*DW260","v":0},null,null,{"$f":"$G260*DZ260","v":0},null,null,{"$f":"$G260*EC260","v":0},null,null,{"$f":"$G260*EF260","v":0},null,null,{"$f":"$G260*EI260","v":0},null,null,{"$f":"$G260*EL260","v":0},null,null,{"$f":"$G260*EO260","v":0},null,null,{"$f":"$G260*ER260","v":0},null,null,{"$f":"$G260*EU260","v":0},null,null,0,null,null,0,null,null,{"$f":"$G260*FD260","v":0},null,null,0,null,null,{"$f":"$G260*FJ260","v":0},null,null,{"$f":"$G260*FM260","v":0},null,null,{"$f":"$G260*FP260","v":0},null,null,{"$f":"$G260*FS260","v":0},null,null,{"$f":"$G260*FV260","v":0},null,null,{"$f":"$G260*FY260","v":0},null,null,{"$f":"$G260*GB260","v":0},null,null,{"$f":"$G260*GE260","v":0},null,null,{"$f":"$G260*GH260","v":0},null,null,{"$f":"$G260*GK260","v":0},null,null,{"$f":"$G260*GN260","v":0},null,null,{"$f":"$G260*GQ260","v":0},null,null,{"$f":"$G260*GT260","v":0},null,null,{"$f":"$G260*GW260","v":0},null,null,{"$f":"$G260*GZ260","v":0},null,null,{"$f":"$G260*HC260","v":0},null,null,{"$f":"$G260*HF260","v":0},null,null,{"$f":"$G260*HI260","v":0}]
[null,null,null,"Instalacija uzemljenja i gromobrana","Earthing and lightning protection"]
["10.11","E",11,"Pocinkovana traka","Galvanized strip",null,{"$f":"CENA!G253","v":0},"/","/","/","/",null,null,"/",null,"/","/",null,"/","/",null,"/","/",null,"/","/",null,"/","/",null,"/","/",null,"/","/",null,"/","/",null,"/","/",null,"/","/",null,"/","/",null,"/","/",null,"/","/",null,"/","/",null,"/","/",null,null,"/",null,"/","/",null,"/","/",null,"/","/",null,"/","/",null,"/","/",null,"/","/",null,"/","/",null,"/","/",null,"/","/",null,"/","/",null,"/","/",null,"/","/",null,"/","/",null,"/","/",null,"/","/",null,null,"/",null,"/","/",null,"/","/",null,"/","/",null,"/","/",null,"/","/",null,"/","/",null,"/","/",null,"/","/",null,"/","/",null,"/","/",null,"/","/",null,"/","/",null,"/","/",null,"/","/",null,"/","/",null,null,"/",null,"/","/",null,"/","/",null,"/","/",null,"/","/",null,"/","/",null,"/","/",null,"/","/",null,"/","/",null,"/","/",null,"/","/",null,"/","/",null,"/","/",null,"/","/",null,"/","/",null,"/","/",null,"/","/",null,"/","/",null,"/","/",null,"/","/",null,"/","/"]
["10.11.1",null,"A","FeZn 25x4mm","FeZn 25x4mm","m",{"$f":"CENA!G254","v":0},{"$f":"J263+M263+P263+S263+V263+Y263+AB263+AE263+AH263+AK263+AN263+AQ263+AZ263+AW263+AT263+BC263+BF263+BI263+BL263+BO263+BR263+BU263+BX263+CA263+CD263+CG263+CJ263+CM263+CP263+CS263+CV263+CY263+DB263+DE263+DH263+DK263+DN263+DQ263+DT263+DW263+DZ263+EC263+EF263+EI263+EL263+EO263+ER263+EU263+EX263+FA263+FD263+FG263+FJ263+FM263+FP263+FS263+FV263+FY263+GB263+GE263+GH263+GK263+GN263+GQ263+GT263+GW263+GZ263+HC263+HF263+HI263","v":0},{"$f":"G263*H263","v":0},null,{"$f":"$G263*J263","v":0},null,null,{"$f":"$G263*M263","v":0},null,null,{"$f":"$G263*P263","v":0},null,null,{"$f":"$G263*S263","v":0},null,null,{"$f":"$G263*V263","v":0},null,null,{"$f":"$G263*Y263","v":0},null,null,{"$f":"$G263*AB263","v":0},null,null,{"$f":"$G263*AE263","v":0},null,null,{"$f":"$G263*AH263","v":0},null,null,{"$f":"$G263*AK263","v":0},null,null,{"$f":"$G263*AN263","v":0},null,null,{"$f":"$G263*AQ263","v":0},null,null,{"$f":"$G263*AT263","v":0},null,null,{"$f":"$G263*AW263","v":0},null,null,{"$f":"$G263*AZ263","v":0},null,null,{"$f":"$G263*BC263","v":0},null,null,{"$f":"$G263*BF263","v":0},null,null,{"$f":"$G263*BI263","v":0},null,null,{"$f":"$G263*BL263","v":0},null,null,{"$f":"$G263*BO263","v":0},null,null,{"$f":"$G263*BR263","v":0},null,null,{"$f":"$G263*BU263","v":0},null,null,{"$f":"$G263*BX263","v":0},null,null,{"$f":"$G263*CA263","v":0},null,null,{"$f":"$G263*CD263","v":0},null,null,{"$f":"$G263*CG263","v":0},null,null,{"$f":"$G263*CJ263","v":0},null,null,{"$f":"$G263*CM263","v":0},null,null,{"$f":"$G263*CP263","v":0},null,null,{"$f":"$G263*CS263","v":0},null,null,{"$f":"$G263*CV263","v":0},null,null,{"$f":"$G263*CY263","v":0},null,null,{"$f":"$G263*DB263","v":0},null,null,{"$f":"$G263*DE263","v":0},null,null,{"$f":"$G263*DH263","v":0},null,null,{"$f":"$G263*DK263","v":0},null,null,{"$f":"$G263*DN263","v":0},null,null,{"$f":"$G263*DQ263","v":0},null,null,{"$f":"$G263*DT263","v":0},null,null,{"$f":"$G263*DW263","v":0},null,null,{"$f":"$G263*DZ263","v":0},null,null,{"$f":"$G263*EC263","v":0},null,null,{"$f":"$G263*EF263","v":0},null,null,{"$f":"$G263*EI263","v":0},null,null,{"$f":"$G263*EL263","v":0},null,null,{"$f":"$G263*EO263","v":0},null,null,{"$f":"$G263*ER263","v":0},null,null,{"$f":"$G263*EU263","v":0},null,null,{"$f":"$G263*EX263","v":0},null,null,{"$f":"$G263*FA263","v":0},null,null,{"$f":"$G263*FD263","v":0},null,null,{"$f":"$G263*FG263","v":0},null,null,{"$f":"$G263*FJ263","v":0},null,null,{"$f":"$G263*FM263","v":0},null,null,{"$f":"$G263*FP263","v":0},null,null,{"$f":"$G263*FS263","v":0},null,null,{"$f":"$G263*FV263","v":0},null,null,{"$f":"$G263*FY263","v":0},null,null,{"$f":"$G263*GB263","v":0},null,null,{"$f":"$G263*GE263","v":0},null,null,{"$f":"$G263*GH263","v":0},null,null,{"$f":"$G263*GK263","v":0},null,null,{"$f":"$G263*GN263","v":0},null,null,{"$f":"$G263*GQ263","v":0},null,null,{"$f":"$G263*GT263","v":0},null,null,{"$f":"$G263*GW263","v":0},null,null,{"$f":"$G263*GZ263","v":0},null,null,{"$f":"$G263*HC263","v":0},null,null,{"$f":"$G263*HF263","v":0},null,null,{"$f":"$G263*HI263","v":0}]
["10.11.2",null,"B","FeZn 20x3mm","FeZn 20x3mm","m",{"$f":"CENA!G255","v":0},0,0,null,{"$f":"$G264*J264","v":0},null,null,0,null,null,{"$f":"$G264*P264","v":0},null,null,0,null,null,{"$f":"$G264*V264","v":0},null,null,{"$f":"$G264*Y264","v":0},null,null,{"$f":"$G264*AB264","v":0},null,null,{"$f":"$G264*AE264","v":0},null,null,{"$f":"$G264*AH264","v":0},null,null,{"$f":"$G264*AK264","v":0},null,null,{"$f":"$G264*AN264","v":0},null,null,{"$f":"$G264*AQ264","v":0},null,null,{"$f":"$G264*AT264","v":0},null,null,{"$f":"$G264*AW264","v":0},null,null,{"$f":"$G264*AZ264","v":0},null,null,{"$f":"$G264*BC264","v":0},null,null,0,null,null,0,null,null,{"$f":"$G264*BL264","v":0},null,null,0,null,null,{"$f":"$G264*BR264","v":0},null,null,{"$f":"$G264*BU264","v":0},null,null,{"$f":"$G264*BX264","v":0},null,null,{"$f":"$G264*CA264","v":0},null,null,{"$f":"$G264*CD264","v":0},null,null,{"$f":"$G264*CG264","v":0},null,null,{"$f":"$G264*CJ264","v":0},null,null,{"$f":"$G264*CM264","v":0},null,null,{"$f":"$G264*CP264","v":0},null,null,{"$f":"$G264*CS264","v":0},null,null,{"$f":"$G264*CV264","v":0},null,null,{"$f":"$G264*CY264","v":0},null,null,0,null,null,0,null,null,{"$f":"$G264*DH264","v":0},null,null,0,null,null,{"$f":"$G264*DN264","v":0},null,null,{"$f":"$G264*DQ264","v":0},null,null,{"$f":"$G264*DT264","v":0},null,null,{"$f":"$G264*DW264","v":0},null,null,{"$f":"$G264*DZ264","v":0},null,null,{"$f":"$G264*EC264","v":0},null,null,{"$f":"$G264*EF264","v":0},null,null,{"$f":"$G264*EI264","v":0},null,null,{"$f":"$G264*EL264","v":0},null,null,{"$f":"$G264*EO264","v":0},null,null,{"$f":"$G264*ER264","v":0},null,null,{"$f":"$G264*EU264","v":0},null,null,0,null,null,0,null,null,{"$f":"$G264*FD264","v":0},null,null,0,null,null,{"$f":"$G264*FJ264","v":0},null,null,{"$f":"$G264*FM264","v":0},null,null,{"$f":"$G264*FP264","v":0},null,null,{"$f":"$G264*FS264","v":0},null,null,{"$f":"$G264*FV264","v":0},null,null,{"$f":"$G264*FY264","v":0},null,null,{"$f":"$G264*GB264","v":0},null,null,{"$f":"$G264*GE264","v":0},null,null,{"$f":"$G264*GH264","v":0},null,null,{"$f":"$G264*GK264","v":0},null,null,{"$f":"$G264*GN264","v":0},null,null,{"$f":"$G264*GQ264","v":0},null,null,{"$f":"$G264*GT264","v":0},null,null,{"$f":"$G264*GW264","v":0},null,null,{"$f":"$G264*GZ264","v":0},null,null,{"$f":"$G264*HC264","v":0},null,null,{"$f":"$G264*HF264","v":0},null,null,{"$f":"$G264*HI264","v":0}]
["10.12","E",12,"SIP ormarić (PS49) sa sabirnicom za izjednačenje potencijala","SIP boxes (PS 49) with bonding","kom/pcs",{"$f":"CENA!G256","v":0},0,0,null,{"$f":"$G265*J265","v":0},null,null,0,null,null,{"$f":"$G265*P265","v":0},null,null,0,null,null,{"$f":"$G265*V265","v":0},null,null,{"$f":"$G265*Y265","v":0},null,null,{"$f":"$G265*AB265","v":0},null,null,{"$f":"$G265*AE265","v":0},null,null,{"$f":"$G265*AH265","v":0},null,null,{"$f":"$G265*AK265","v":0},null,null,{"$f":"$G265*AN265","v":0},null,null,{"$f":"$G265*AQ265","v":0},null,null,{"$f":"$G265*AT265","v":0},null,null,{"$f":"$G265*AW265","v":0},null,null,{"$f":"$G265*AZ265","v":0},null,null,{"$f":"$G265*BC265","v":0},null,null,0,null,null,0,null,null,{"$f":"$G265*BL265","v":0},null,null,0,null,null,{"$f":"$G265*BR265","v":0},null,null,{"$f":"$G265*BU265","v":0},null,null,{"$f":"$G265*BX265","v":0},null,null,{"$f":"$G265*CA265","v":0},null,null,{"$f":"$G265*CD265","v":0},null,null,{"$f":"$G265*CG265","v":0},null,null,{"$f":"$G265*CJ265","v":0},null,null,{"$f":"$G265*CM265","v":0},null,null,{"$f":"$G265*CP265","v":0},null,null,{"$f":"$G265*CS265","v":0},null,null,{"$f":"$G265*CV265","v":0},null,null,{"$f":"$G265*CY265","v":0},null,null,0,null,null,0,null,null,{"$f":"$G265*DH265","v":0},null,null,0,null,null,{"$f":"$G265*DN265","v":0},null,null,{"$f":"$G265*DQ265","v":0},null,null,{"$f":"$G265*DT265","v":0},null,null,{"$f":"$G265*DW265","v":0},null,null,{"$f":"$G265*DZ265","v":0},null,null,{"$f":"$G265*EC265","v":0},null,null,{"$f":"$G265*EF265","v":0},null,null,{"$f":"$G265*EI265","v":0},null,null,{"$f":"$G265*EL265","v":0},null,null,{"$f":"$G265*EO265","v":0},null,null,{"$f":"$G265*ER265","v":0},null,null,{"$f":"$G265*EU265","v":0},null,null,0,null,null,0,null,null,{"$f":"$G265*FD265","v":0},null,null,0,null,null,{"$f":"$G265*FJ265","v":0},null,null,{"$f":"$G265*FM265","v":0},null,null,{"$f":"$G265*FP265","v":0},null,null,{"$f":"$G265*FS265","v":0},null,null,{"$f":"$G265*FV265","v":0},null,null,{"$f":"$G265*FY265","v":0},null,null,{"$f":"$G265*GB265","v":0},null,null,{"$f":"$G265*GE265","v":0},null,null,{"$f":"$G265*GH265","v":0},null,null,{"$f":"$G265*GK265","v":0},null,null,{"$f":"$G265*GN265","v":0},null,null,{"$f":"$G265*GQ265","v":0},null,null,{"$f":"$G265*GT265","v":0},null,null,{"$f":"$G265*GW265","v":0},null,null,{"$f":"$G265*GZ265","v":0},null,null,{"$f":"$G265*HC265","v":0},null,null,{"$f":"$G265*HF265","v":0},null,null,{"$f":"$G265*HI265","v":0}]
["10.13","E",13,"Provodnici za uzemljenje","Grounding conductors","/","/","/","/","/","/",null,null,"/",null,"/","/",null,"/","/",null,"/","/",null,"/","/",null,"/","/",null,"/","/",null,"/","/",null,"/","/",null,"/","/",null,"/","/",null,"/","/",null,"/","/",null,"/","/",null,"/","/",null,"/","/",null,null,"/",null,"/","/",null,"/","/",null,"/","/",null,"/","/",null,"/","/",null,"/","/",null,"/","/",null,"/","/",null,"/","/",null,"/","/",null,"/","/",null,"/","/",null,"/","/",null,"/","/",null,"/","/",null,null,"/",null,"/","/",null,"/","/",null,"/","/",null,"/","/",null,"/","/",null,"/","/",null,"/","/",null,"/","/",null,"/","/",null,"/","/",null,"/","/",null,"/","/",null,"/","/",null,"/","/",null,"/","/",null,null,"/",null,"/","/",null,"/","/",null,"/","/",null,"/","/",null,"/","/",null,"/","/",null,"/","/",null,"/","/",null,"/","/",null,"/","/",null,"/","/",null,"/","/",null,"/","/",null,"/","/",null,"/","/",null,"/","/",null,"/","/",null,"/","/",null,"/","/",null,"/","/"]
["10.13.1",null,"A","PP00-Y  1x16mm2","PP00-Y  1x16mm2","m",{"$f":"CENA!G258","v":0},{"$f":"J267+M267+P267+S267+V267+Y267+AB267+AE267+AH267+AK267+AN267+AQ267+AZ267+AW267+AT267+BC267+BF267+BI267+BL267+BO267+BR267+BU267+BX267+CA267+CD267+CG267+CJ267+CM267+CP267+CS267+CV267+CY267+DB267+DE267+DH267+DK267+DN267+DQ267+DT267+DW267+DZ267+EC267+EF267+EI267+EL267+EO267+ER267+EU267+EX267+FA267+FD267+FG267+FJ267+FM267+FP267+FS267+FV267+FY267+GB267+GE267+GH267+GK267+GN267+GQ267+GT267+GW267+GZ267+HC267+HF267+HI267","v":0},{"$f":"G267*H267","v":0},null,{"$f":"$G267*J267","v":0},null,null,{"$f":"$G267*M267","v":0},null,null,{"$f":"$G267*P267","v":0},null,null,{"$f":"$G267*S267","v":0},null,null,{"$f":"$G267*V267","v":0},null,null,{"$f":"$G267*Y267","v":0},null,null,{"$f":"$G267*AB267","v":0},null,null,{"$f":"$G267*AE267","v":0},null,null,{"$f":"$G267*AH267","v":0},null,null,{"$f":"$G267*AK267","v":0},null,null,{"$f":"$G267*AN267","v":0},null,null,{"$f":"$G267*AQ267","v":0},null,null,{"$f":"$G267*AT267","v":0},null,null,{"$f":"$G267*AW267","v":0},null,null,{"$f":"$G267*AZ267","v":0},null,null,{"$f":"$G267*BC267","v":0},null,null,{"$f":"$G267*BF267","v":0},null,null,{"$f":"$G267*BI267","v":0},null,null,{"$f":"$G267*BL267","v":0},null,null,{"$f":"$G267*BO267","v":0},null,null,{"$f":"$G267*BR267","v":0},null,null,{"$f":"$G267*BU267","v":0},null,null,{"$f":"$G267*BX267","v":0},null,null,{"$f":"$G267*CA267","v":0},null,null,{"$f":"$G267*CD267","v":0},null,null,{"$f":"$G267*CG267","v":0},null,null,{"$f":"$G267*CJ267","v":0},null,null,{"$f":"$G267*CM267","v":0},null,null,{"$f":"$G267*CP267","v":0},null,null,{"$f":"$G267*CS267","v":0},null,null,{"$f":"$G267*CV267","v":0},null,null,{"$f":"$G267*CY267","v":0},null,null,{"$f":"$G267*DB267","v":0},null,null,{"$f":"$G267*DE267","v":0},null,null,{"$f":"$G267*DH267","v":0},null,null,{"$f":"$G267*DK267","v":0},null,null,{"$f":"$G267*DN267","v":0},null,null,{"$f":"$G267*DQ267","v":0},null,null,{"$f":"$G267*DT267","v":0},null,null,{"$f":"$G267*DW267","v":0},null,null,{"$f":"$G267*DZ267","v":0},null,null,{"$f":"$G267*EC267","v":0},null,null,{"$f":"$G267*EF267","v":0},null,null,{"$f":"$G267*EI267","v":0},null,null,{"$f":"$G267*EL267","v":0},null,null,{"$f":"$G267*EO267","v":0},null,null,{"$f":"$G267*ER267","v":0},null,null,{"$f":"$G267*EU267","v":0},null,null,{"$f":"$G267*EX267","v":0},null,null,{"$f":"$G267*FA267","v":0},null,null,{"$f":"$G267*FD267","v":0},null,null,{"$f":"$G267*FG267","v":0},null,null,{"$f":"$G267*FJ267","v":0},null,null,{"$f":"$G267*FM267","v":0},null,null,{"$f":"$G267*FP267","v":0},null,null,{"$f":"$G267*FS267","v":0},null,null,{"$f":"$G267*FV267","v":0},null,null,{"$f":"$G267*FY267","v":0},null,null,{"$f":"$G267*GB267","v":0},null,null,{"$f":"$G267*GE267","v":0},null,null,{"$f":"$G267*GH267","v":0},null,null,{"$f":"$G267*GK267","v":0},null,null,{"$f":"$G267*GN267","v":0},null,null,{"$f":"$G267*GQ267","v":0},null,null,{"$f":"$G267*GT267","v":0},null,null,{"$f":"$G267*GW267","v":0},null,null,{"$f":"$G267*GZ267","v":0},null,null,{"$f":"$G267*HC267","v":0},null,null,{"$f":"$G267*HF267","v":0},null,null,{"$f":"$G267*HI267","v":0}]
["10.13.2",null,"B","P/F-Y      1x6mm2","P/F-Y      1x6mm2","m",{"$f":"CENA!G259","v":0},0,0,null,{"$f":"$G268*J268","v":0},null,null,0,null,null,{"$f":"$G268*P268","v":0},null,null,0,null,null,{"$f":"$G268*V268","v":0},null,null,{"$f":"$G268*Y268","v":0},null,null,{"$f":"$G268*AB268","v":0},null,null,{"$f":"$G268*AE268","v":0},null,null,{"$f":"$G268*AH268","v":0},null,null,{"$f":"$G268*AK268","v":0},null,null,{"$f":"$G268*AN268","v":0},null,null,{"$f":"$G268*AQ268","v":0},null,null,{"$f":"$G268*AT268","v":0},null,null,{"$f":"$G268*AW268","v":0},null,null,{"$f":"$G268*AZ268","v":0},null,null,{"$f":"$G268*BC268","v":0},null,null,0,null,null,0,null,null,{"$f":"$G268*BL268","v":0},null,null,0,null,null,{"$f":"$G268*BR268","v":0},null,null,{"$f":"$G268*BU268","v":0},null,null,{"$f":"$G268*BX268","v":0},null,null,{"$f":"$G268*CA268","v":0},null,null,{"$f":"$G268*CD268","v":0},null,null,{"$f":"$G268*CG268","v":0},null,null,{"$f":"$G268*CJ268","v":0},null,null,{"$f":"$G268*CM268","v":0},null,null,{"$f":"$G268*CP268","v":0},null,null,{"$f":"$G268*CS268","v":0},null,null,{"$f":"$G268*CV268","v":0},null,null,{"$f":"$G268*CY268","v":0},null,null,0,null,null,0,null,null,{"$f":"$G268*DH268","v":0},null,null,0,null,null,{"$f":"$G268*DN268","v":0},null,null,{"$f":"$G268*DQ268","v":0},null,null,{"$f":"$G268*DT268","v":0},null,null,{"$f":"$G268*DW268","v":0},null,null,{"$f":"$G268*DZ268","v":0},null,null,{"$f":"$G268*EC268","v":0},null,null,{"$f":"$G268*EF268","v":0},null,null,{"$f":"$G268*EI268","v":0},null,null,{"$f":"$G268*EL268","v":0},null,null,{"$f":"$G268*EO268","v":0},null,null,{"$f":"$G268*ER268","v":0},null,null,{"$f":"$G268*EU268","v":0},null,null,0,null,null,0,null,null,{"$f":"$G268*FD268","v":0},null,null,0,null,null,{"$f":"$G268*FJ268","v":0},null,null,{"$f":"$G268*FM268","v":0},null,null,{"$f":"$G268*FP268","v":0},null,null,{"$f":"$G268*FS268","v":0},null,null,{"$f":"$G268*FV268","v":0},null,null,{"$f":"$G268*FY268","v":0},null,null,{"$f":"$G268*GB268","v":0},null,null,{"$f":"$G268*GE268","v":0},null,null,{"$f":"$G268*GH268","v":0},null,null,{"$f":"$G268*GK268","v":0},null,null,{"$f":"$G268*GN268","v":0},null,null,{"$f":"$G268*GQ268","v":0},null,null,{"$f":"$G268*GT268","v":0},null,null,{"$f":"$G268*GW268","v":0},null,null,{"$f":"$G268*GZ268","v":0},null,null,{"$f":"$G268*HC268","v":0},null,null,{"$f":"$G268*HF268","v":0},null,null,{"$f":"$G268*HI268","v":0}]
["10.13.3",null,"C","P/F-Y      1x4mm2","P/F-Y      1x4mm2","m",{"$f":"CENA!G260","v":0},0,0,null,{"$f":"$G269*J269","v":0},null,null,0,null,null,{"$f":"$G269*P269","v":0},null,null,0,null,null,{"$f":"$G269*V269","v":0},null,null,{"$f":"$G269*Y269","v":0},null,null,{"$f":"$G269*AB269","v":0},null,null,{"$f":"$G269*AE269","v":0},null,null,{"$f":"$G269*AH269","v":0},null,null,{"$f":"$G269*AK269","v":0},null,null,{"$f":"$G269*AN269","v":0},null,null,{"$f":"$G269*AQ269","v":0},null,null,{"$f":"$G269*AT269","v":0},null,null,{"$f":"$G269*AW269","v":0},null,null,{"$f":"$G269*AZ269","v":0},null,null,{"$f":"$G269*BC269","v":0},null,null,0,null,null,0,null,null,{"$f":"$G269*BL269","v":0},null,null,0,null,null,{"$f":"$G269*BR269","v":0},null,null,{"$f":"$G269*BU269","v":0},null,null,{"$f":"$G269*BX269","v":0},null,null,{"$f":"$G269*CA269","v":0},null,null,{"$f":"$G269*CD269","v":0},null,null,{"$f":"$G269*CG269","v":0},null,null,{"$f":"$G269*CJ269","v":0},null,null,{"$f":"$G269*CM269","v":0},null,null,{"$f":"$G269*CP269","v":0},null,null,{"$f":"$G269*CS269","v":0},null,null,{"$f":"$G269*CV269","v":0},null,null,{"$f":"$G269*CY269","v":0},null,null,0,null,null,0,null,null,{"$f":"$G269*DH269","v":0},null,null,0,null,null,{"$f":"$G269*DN269","v":0},null,null,{"$f":"$G269*DQ269","v":0},null,null,{"$f":"$G269*DT269","v":0},null,null,{"$f":"$G269*DW269","v":0},null,null,{"$f":"$G269*DZ269","v":0},null,null,{"$f":"$G269*EC269","v":0},null,null,{"$f":"$G269*EF269","v":0},null,null,{"$f":"$G269*EI269","v":0},null,null,{"$f":"$G269*EL269","v":0},null,null,{"$f":"$G269*EO269","v":0},null,null,{"$f":"$G269*ER269","v":0},null,null,{"$f":"$G269*EU269","v":0},null,null,0,null,null,0,null,null,{"$f":"$G269*FD269","v":0},null,null,0,null,null,{"$f":"$G269*FJ269","v":0},null,null,{"$f":"$G269*FM269","v":0},null,null,{"$f":"$G269*FP269","v":0},null,null,{"$f":"$G269*FS269","v":0},null,null,{"$f":"$G269*FV269","v":0},null,null,{"$f":"$G269*FY269","v":0},null,null,{"$f":"$G269*GB269","v":0},null,null,{"$f":"$G269*GE269","v":0},null,null,{"$f":"$G269*GH269","v":0},null,null,{"$f":"$G269*GK269","v":0},null,null,{"$f":"$G269*GN269","v":0},null,null,{"$f":"$G269*GQ269","v":0},null,null,{"$f":"$G269*GT269","v":0},null,null,{"$f":"$G269*GW269","v":0},null,null,{"$f":"$G269*GZ269","v":0},null,null,{"$f":"$G269*HC269","v":0},null,null,{"$f":"$G269*HF269","v":0},null,null,{"$f":"$G269*HI269","v":0}]
[null,null,null,"Instalacija slabe struje","Installation of low voltage"]
["10.14","E",14,"Antenski koaksijalni kabl RG 6","Antenna Coaxial Cable RG 6","m",{"$f":"CENA!G262","v":0},{"$f":"J271+M271+P271+S271+V271+Y271+AB271+AE271+AH271+AK271+AN271+AQ271+AZ271+AW271+AT271+BC271+BF271+BI271+BL271+BO271+BR271+BU271+BX271+CA271+CD271+CG271+CJ271+CM271+CP271+CS271+CV271+CY271+DB271+DE271+DH271+DK271+DN271+DQ271+DT271+DW271+DZ271+EC271+EF271+EI271+EL271+EO271+ER271+EU271+EX271+FA271+FD271+FG271+FJ271+FM271+FP271+FS271+FV271+FY271+GB271+GE271+GH271+GK271+GN271+GQ271+GT271+GW271+GZ271+HC271+HF271+HI271","v":0},{"$f":"G271*H271","v":0},null,{"$f":"$G271*J271","v":0},null,null,{"$f":"$G271*M271","v":0},null,null,{"$f":"$G271*P271","v":0},null,null,{"$f":"$G271*S271","v":0},null,null,{"$f":"$G271*V271","v":0},null,null,{"$f":"$G271*Y271","v":0},null,null,{"$f":"$G271*AB271","v":0},null,null,{"$f":"$G271*AE271","v":0},null,null,{"$f":"$G271*AH271","v":0},null,null,{"$f":"$G271*AK271","v":0},null,null,{"$f":"$G271*AN271","v":0},null,null,{"$f":"$G271*AQ271","v":0},null,null,{"$f":"$G271*AT271","v":0},null,null,{"$f":"$G271*AW271","v":0},null,null,{"$f":"$G271*AZ271","v":0},null,null,{"$f":"$G271*BC271","v":0},null,null,{"$f":"$G271*BF271","v":0},null,null,{"$f":"$G271*BI271","v":0},null,null,{"$f":"$G271*BL271","v":0},null,null,{"$f":"$G271*BO271","v":0},null,null,{"$f":"$G271*BR271","v":0},null,null,{"$f":"$G271*BU271","v":0},null,null,{"$f":"$G271*BX271","v":0},null,null,{"$f":"$G271*CA271","v":0},null,null,{"$f":"$G271*CD271","v":0},null,null,{"$f":"$G271*CG271","v":0},null,null,{"$f":"$G271*CJ271","v":0},null,null,{"$f":"$G271*CM271","v":0},null,null,{"$f":"$G271*CP271","v":0},null,null,{"$f":"$G271*CS271","v":0},null,null,{"$f":"$G271*CV271","v":0},null,null,{"$f":"$G271*CY271","v":0},null,null,{"$f":"$G271*DB271","v":0},null,null,{"$f":"$G271*DE271","v":0},null,null,{"$f":"$G271*DH271","v":0},null,null,{"$f":"$G271*DK271","v":0},null,null,{"$f":"$G271*DN271","v":0},null,null,{"$f":"$G271*DQ271","v":0},null,null,{"$f":"$G271*DT271","v":0},null,null,{"$f":"$G271*DW271","v":0},null,null,{"$f":"$G271*DZ271","v":0},null,null,{"$f":"$G271*EC271","v":0},null,null,{"$f":"$G271*EF271","v":0},null,null,{"$f":"$G271*EI271","v":0},null,null,{"$f":"$G271*EL271","v":0},null,null,{"$f":"$G271*EO271","v":0},null,null,{"$f":"$G271*ER271","v":0},null,null,{"$f":"$G271*EU271","v":0},null,null,{"$f":"$G271*EX271","v":0},null,null,{"$f":"$G271*FA271","v":0},null,null,{"$f":"$G271*FD271","v":0},null,null,{"$f":"$G271*FG271","v":0},null,null,{"$f":"$G271*FJ271","v":0},null,null,{"$f":"$G271*FM271","v":0},null,null,{"$f":"$G271*FP271","v":0},null,null,{"$f":"$G271*FS271","v":0},null,null,{"$f":"$G271*FV271","v":0},null,null,{"$f":"$G271*FY271","v":0},null,null,{"$f":"$G271*GB271","v":0},null,null,{"$f":"$G271*GE271","v":0},null,null,{"$f":"$G271*GH271","v":0},null,null,{"$f":"$G271*GK271","v":0},null,null,{"$f":"$G271*GN271","v":0},null,null,{"$f":"$G271*GQ271","v":0},null,null,{"$f":"$G271*GT271","v":0},null,null,{"$f":"$G271*GW271","v":0},null,null,{"$f":"$G271*GZ271","v":0},null,null,{"$f":"$G271*HC271","v":0},null,null,{"$f":"$G271*HF271","v":0},null,null,{"$f":"$G271*HI271","v":0}]
["10.15","E",15,"Telefonski kabl sa bakarnim provodnicima \nIY(St)Y 2x2x0.8mm","Telephone cable with copper conductors \nIY (St) Y 2x2x0.8mm","m",{"$f":"CENA!G263","v":0},0,0,null,{"$f":"$G272*J272","v":0},null,null,0,null,null,{"$f":"$G272*P272","v":0},null,null,0,null,null,{"$f":"$G272*V272","v":0},null,null,{"$f":"$G272*Y272","v":0},null,null,{"$f":"$G272*AB272","v":0},null,null,{"$f":"$G272*AE272","v":0},null,null,{"$f":"$G272*AH272","v":0},null,null,{"$f":"$G272*AK272","v":0},null,null,{"$f":"$G272*AN272","v":0},null,null,{"$f":"$G272*AQ272","v":0},null,null,{"$f":"$G272*AT272","v":0},null,null,{"$f":"$G272*AW272","v":0},null,null,{"$f":"$G272*AZ272","v":0},null,null,{"$f":"$G272*BC272","v":0},null,null,0,null,null,0,null,null,{"$f":"$G272*BL272","v":0},null,null,0,null,null,{"$f":"$G272*BR272","v":0},null,null,{"$f":"$G272*BU272","v":0},null,null,{"$f":"$G272*BX272","v":0},null,null,{"$f":"$G272*CA272","v":0},null,null,{"$f":"$G272*CD272","v":0},null,null,{"$f":"$G272*CG272","v":0},null,null,{"$f":"$G272*CJ272","v":0},null,null,{"$f":"$G272*CM272","v":0},null,null,{"$f":"$G272*CP272","v":0},null,null,{"$f":"$G272*CS272","v":0},null,null,{"$f":"$G272*CV272","v":0},null,null,{"$f":"$G272*CY272","v":0},null,null,0,null,null,0,null,null,{"$f":"$G272*DH272","v":0},null,null,0,null,null,{"$f":"$G272*DN272","v":0},null,null,{"$f":"$G272*DQ272","v":0},null,null,{"$f":"$G272*DT272","v":0},null,null,{"$f":"$G272*DW272","v":0},null,null,{"$f":"$G272*DZ272","v":0},null,null,{"$f":"$G272*EC272","v":0},null,null,{"$f":"$G272*EF272","v":0},null,null,{"$f":"$G272*EI272","v":0},null,null,{"$f":"$G272*EL272","v":0},null,null,{"$f":"$G272*EO272","v":0},null,null,{"$f":"$G272*ER272","v":0},null,null,{"$f":"$G272*EU272","v":0},null,null,0,null,null,0,null,null,{"$f":"$G272*FD272","v":0},null,null,0,null,null,{"$f":"$G272*FJ272","v":0},null,null,{"$f":"$G272*FM272","v":0},null,null,{"$f":"$G272*FP272","v":0},null,null,{"$f":"$G272*FS272","v":0},null,null,{"$f":"$G272*FV272","v":0},null,null,{"$f":"$G272*FY272","v":0},null,null,{"$f":"$G272*GB272","v":0},null,null,{"$f":"$G272*GE272","v":0},null,null,{"$f":"$G272*GH272","v":0},null,null,{"$f":"$G272*GK272","v":0},null,null,{"$f":"$G272*GN272","v":0},null,null,{"$f":"$G272*GQ272","v":0},null,null,{"$f":"$G272*GT272","v":0},null,null,{"$f":"$G272*GW272","v":0},null,null,{"$f":"$G272*GZ272","v":0},null,null,{"$f":"$G272*HC272","v":0},null,null,{"$f":"$G272*HF272","v":0},null,null,{"$f":"$G272*HI272","v":0}]
["10.16","E",16,"Priključnice","Connectors","/","/","/","/","/","/",null,null,"/",null,"/","/",null,"/","/",null,"/","/",null,"/","/",null,"/","/",null,"/","/",null,"/","/",null,"/","/",null,"/","/",null,"/","/",null,"/","/",null,"/","/",null,"/","/",null,"/","/",null,"/","/",null,null,"/",null,"/","/",null,"/","/",null,"/","/",null,"/","/",null,"/","/",null,"/","/",null,"/","/",null,"/","/",null,"/","/",null,"/","/",null,"/","/",null,"/","/",null,"/","/",null,"/","/",null,"/","/",null,null,"/",null,"/","/",null,"/","/",null,"/","/",null,"/","/",null,"/","/",null,"/","/",null,"/","/",null,"/","/",null,"/","/",null,"/","/",null,"/","/",null,"/","/",null,"/","/",null,"/","/",null,"/","/",null,null,"/",null,"/","/",null,"/","/",null,"/","/",null,"/","/",null,"/","/",null,"/","/",null,"/","/",null,"/","/",null,"/","/",null,"/","/",null,"/","/",null,"/","/",null,"/","/",null,"/","/",null,"/","/",null,"/","/",null,"/","/",null,"/","/",null,"/","/",null,"/","/"]
["10.16.1",null,"A","Telefonska - RJ11 za montažu u dozni fi 60mm","Phone - RJ11 for mounting in enclosure fi 60mm","m",{"$f":"CENA!G265","v":0},{"$f":"J274+M274+P274+S274+V274+Y274+AB274+AE274+AH274+AK274+AN274+AQ274+AZ274+AW274+AT274+BC274+BF274+BI274+BL274+BO274+BR274+BU274+BX274+CA274+CD274+CG274+CJ274+CM274+CP274+CS274+CV274+CY274+DB274+DE274+DH274+DK274+DN274+DQ274+DT274+DW274+DZ274+EC274+EF274+EI274+EL274+EO274+ER274+EU274+EX274+FA274+FD274+FG274+FJ274+FM274+FP274+FS274+FV274+FY274+GB274+GE274+GH274+GK274+GN274+GQ274+GT274+GW274+GZ274+HC274+HF274+HI274","v":0},{"$f":"G274*H274","v":0},null,{"$f":"$G274*J274","v":0},null,null,{"$f":"$G274*M274","v":0},null,null,{"$f":"$G274*P274","v":0},null,null,{"$f":"$G274*S274","v":0},null,null,{"$f":"$G274*V274","v":0},null,null,{"$f":"$G274*Y274","v":0},null,null,{"$f":"$G274*AB274","v":0},null,null,{"$f":"$G274*AE274","v":0},null,null,{"$f":"$G274*AH274","v":0},null,null,{"$f":"$G274*AK274","v":0},null,null,{"$f":"$G274*AN274","v":0},null,null,{"$f":"$G274*AQ274","v":0},null,null,{"$f":"$G274*AT274","v":0},null,null,{"$f":"$G274*AW274","v":0},null,null,{"$f":"$G274*AZ274","v":0},null,null,{"$f":"$G274*BC274","v":0},null,null,{"$f":"$G274*BF274","v":0},null,null,{"$f":"$G274*BI274","v":0},null,null,{"$f":"$G274*BL274","v":0},null,null,{"$f":"$G274*BO274","v":0},null,null,{"$f":"$G274*BR274","v":0},null,null,{"$f":"$G274*BU274","v":0},null,null,{"$f":"$G274*BX274","v":0},null,null,{"$f":"$G274*CA274","v":0},null,null,{"$f":"$G274*CD274","v":0},null,null,{"$f":"$G274*CG274","v":0},null,null,{"$f":"$G274*CJ274","v":0},null,null,{"$f":"$G274*CM274","v":0},null,null,{"$f":"$G274*CP274","v":0},null,null,{"$f":"$G274*CS274","v":0},null,null,{"$f":"$G274*CV274","v":0},null,null,{"$f":"$G274*CY274","v":0},null,null,{"$f":"$G274*DB274","v":0},null,null,{"$f":"$G274*DE274","v":0},null,null,{"$f":"$G274*DH274","v":0},null,null,{"$f":"$G274*DK274","v":0},null,null,{"$f":"$G274*DN274","v":0},null,null,{"$f":"$G274*DQ274","v":0},null,null,{"$f":"$G274*DT274","v":0},null,null,{"$f":"$G274*DW274","v":0},null,null,{"$f":"$G274*DZ274","v":0},null,null,{"$f":"$G274*EC274","v":0},null,null,{"$f":"$G274*EF274","v":0},null,null,{"$f":"$G274*EI274","v":0},null,null,{"$f":"$G274*EL274","v":0},null,null,{"$f":"$G274*EO274","v":0},null,null,{"$f":"$G274*ER274","v":0},null,null,{"$f":"$G274*EU274","v":0},null,null,{"$f":"$G274*EX274","v":0},null,null,{"$f":"$G274*FA274","v":0},null,null,{"$f":"$G274*FD274","v":0},null,null,{"$f":"$G274*FG274","v":0},null,null,{"$f":"$G274*FJ274","v":0},null,null,{"$f":"$G274*FM274","v":0},null,null,{"$f":"$G274*FP274","v":0},null,null,{"$f":"$G274*FS274","v":0},null,null,{"$f":"$G274*FV274","v":0},null,null,{"$f":"$G274*FY274","v":0},null,null,{"$f":"$G274*GB274","v":0},null,null,{"$f":"$G274*GE274","v":0},null,null,{"$f":"$G274*GH274","v":0},null,null,{"$f":"$G274*GK274","v":0},null,null,{"$f":"$G274*GN274","v":0},null,null,{"$f":"$G274*GQ274","v":0},null,null,{"$f":"$G274*GT274","v":0},null,null,{"$f":"$G274*GW274","v":0},null,null,{"$f":"$G274*GZ274","v":0},null,null,{"$f":"$G274*HC274","v":0},null,null,{"$f":"$G274*HF274","v":0},null,null,{"$f":"$G274*HI274","v":0}]
["10.16.2",null,"B","RTV priključnica za montažu u dozni fi 60mm","RTV connector for mounting in enclosure fi 60 mm","kom/pcs",{"$f":"CENA!G266","v":0},0,0,null,{"$f":"$G275*J275","v":0},null,null,0,null,null,{"$f":"$G275*P275","v":0},null,null,0,null,null,{"$f":"$G275*V275","v":0},null,null,{"$f":"$G275*Y275","v":0},null,null,{"$f":"$G275*AB275","v":0},null,null,{"$f":"$G275*AE275","v":0},null,null,{"$f":"$G275*AH275","v":0},null,null,{"$f":"$G275*AK275","v":0},null,null,{"$f":"$G275*AN275","v":0},null,null,{"$f":"$G275*AQ275","v":0},null,null,{"$f":"$G275*AT275","v":0},null,null,{"$f":"$G275*AW275","v":0},null,null,{"$f":"$G275*AZ275","v":0},null,null,{"$f":"$G275*BC275","v":0},null,null,0,null,null,0,null,null,{"$f":"$G275*BL275","v":0},null,null,0,null,null,{"$f":"$G275*BR275","v":0},null,null,{"$f":"$G275*BU275","v":0},null,null,{"$f":"$G275*BX275","v":0},null,null,{"$f":"$G275*CA275","v":0},null,null,{"$f":"$G275*CD275","v":0},null,null,{"$f":"$G275*CG275","v":0},null,null,{"$f":"$G275*CJ275","v":0},null,null,{"$f":"$G275*CM275","v":0},null,null,{"$f":"$G275*CP275","v":0},null,null,{"$f":"$G275*CS275","v":0},null,null,{"$f":"$G275*CV275","v":0},null,null,{"$f":"$G275*CY275","v":0},null,null,0,null,null,0,null,null,{"$f":"$G275*DH275","v":0},null,null,0,null,null,{"$f":"$G275*DN275","v":0},null,null,{"$f":"$G275*DQ275","v":0},null,null,{"$f":"$G275*DT275","v":0},null,null,{"$f":"$G275*DW275","v":0},null,null,{"$f":"$G275*DZ275","v":0},null,null,{"$f":"$G275*EC275","v":0},null,null,{"$f":"$G275*EF275","v":0},null,null,{"$f":"$G275*EI275","v":0},null,null,{"$f":"$G275*EL275","v":0},null,null,{"$f":"$G275*EO275","v":0},null,null,{"$f":"$G275*ER275","v":0},null,null,{"$f":"$G275*EU275","v":0},null,null,0,null,null,0,null,null,{"$f":"$G275*FD275","v":0},null,null,0,null,null,{"$f":"$G275*FJ275","v":0},null,null,{"$f":"$G275*FM275","v":0},null,null,{"$f":"$G275*FP275","v":0},null,null,{"$f":"$G275*FS275","v":0},null,null,{"$f":"$G275*FV275","v":0},null,null,{"$f":"$G275*FY275","v":0},null,null,{"$f":"$G275*GB275","v":0},null,null,{"$f":"$G275*GE275","v":0},null,null,{"$f":"$G275*GH275","v":0},null,null,{"$f":"$G275*GK275","v":0},null,null,{"$f":"$G275*GN275","v":0},null,null,{"$f":"$G275*GQ275","v":0},null,null,{"$f":"$G275*GT275","v":0},null,null,{"$f":"$G275*GW275","v":0},null,null,{"$f":"$G275*GZ275","v":0},null,null,{"$f":"$G275*HC275","v":0},null,null,{"$f":"$G275*HF275","v":0},null,null,{"$f":"$G275*HI275","v":0}]
["11",null,null,"OSTALA OPREMA ZA OBJEKAT","OTHER EQUIPMENT AND SUPPLIES"]
["11.1","N",1,"Trpezarijski sto\nTrpezarijski sto pravougaonog oblika, izrađen od oplemenjene iverice, dezena hrast ili wenge, sa mogućnošću povećanja radne površine za dodatnih 33 cm.\nDimenzija: 120x80x75 Š/D/V",null,"kom/pcs",{"$f":"CENA!G268","v":0},{"$f":"J277+M277+P277+S277+V277+Y277+AB277+AE277+AH277+AK277+AN277+AQ277+AZ277+AW277+AT277+BC277+BF277+BI277+BL277+BO277+BR277+BU277+BX277+CA277+CD277+CG277+CJ277+CM277+CP277+CS277+CV277+CY277+DB277+DE277+DH277+DK277+DN277+DQ277+DT277+DW277+DZ277+EC277+EF277+EI277+EL277+EO277+ER277+EU277+EX277+FA277+FD277+FG277+FJ277+FM277+FP277+FS277+FV277+FY277+GB277+GE277+GH277+GK277+GN277+GQ277+GT277+GW277+GZ277+HC277+HF277+HI277","v":2},{"$f":"G277*H277","v":0},1,{"$f":"$G277*J277","v":0},null,null,{"$f":"$G277*M277","v":0},null,null,{"$f":"$G277*P277","v":0},null,null,{"$f":"$G277*S277","v":0},null,1,{"$f":"$G277*V277","v":0},null,null,{"$f":"$G277*Y277","v":0},null,null,{"$f":"$G277*AB277","v":0},null,null,{"$f":"$G277*AE277","v":0},null,null,{"$f":"$G277*AH277","v":0},null,null,{"$f":"$G277*AK277","v":0},null,null,{"$f":"$G277*AN277","v":0},null,null,{"$f":"$G277*AQ277","v":0},null,null,{"$f":"$G277*AT277","v":0},null,null,{"$f":"$G277*AW277","v":0},null,null,{"$f":"$G277*AZ277","v":0},null,null,{"$f":"$G277*BC277","v":0},null,null,{"$f":"$G277*BF277","v":0},null,null,{"$f":"$G277*BI277","v":0},null,null,{"$f":"$G277*BL277","v":0},null,null,{"$f":"$G277*BO277","v":0},null,null,{"$f":"$G277*BR277","v":0},null,null,{"$f":"$G277*BU277","v":0},null,null,{"$f":"$G277*BX277","v":0},null,null,{"$f":"$G277*CA277","v":0},null,null,{"$f":"$G277*CD277","v":0},null,null,{"$f":"$G277*CG277","v":0},null,null,{"$f":"$G277*CJ277","v":0},null,null,{"$f":"$G277*CM277","v":0},null,null,{"$f":"$G277*CP277","v":0},null,null,{"$f":"$G277*CS277","v":0},null,null,{"$f":"$G277*CV277","v":0},null,null,{"$f":"$G277*CY277","v":0},null,null,{"$f":"$G277*DB277","v":0},null,null,{"$f":"$G277*DE277","v":0},null,null,{"$f":"$G277*DH277","v":0},null,null,{"$f":"$G277*DK277","v":0},null,null,{"$f":"$G277*DN277","v":0},null,null,{"$f":"$G277*DQ277","v":0},null,null,{"$f":"$G277*DT277","v":0},null,null,{"$f":"$G277*DW277","v":0},null,null,{"$f":"$G277*DZ277","v":0},null,null,{"$f":"$G277*EC277","v":0},null,null,{"$f":"$G277*EF277","v":0},null,null,{"$f":"$G277*EI277","v":0},null,null,{"$f":"$G277*EL277","v":0},null,null,{"$f":"$G277*EO277","v":0},null,null,{"$f":"$G277*ER277","v":0},null,null,{"$f":"$G277*EU277","v":0},null,null,{"$f":"$G277*EX277","v":0},null,null,{"$f":"$G277*FA277","v":0},null,null,{"$f":"$G277*FD277","v":0},null,null,{"$f":"$G277*FG277","v":0},null,null,{"$f":"$G277*FJ277","v":0},null,null,{"$f":"$G277*FM277","v":0},null,null,{"$f":"$G277*FP277","v":0},null,null,{"$f":"$G277*FS277","v":0},null,null,{"$f":"$G277*FV277","v":0},null,null,{"$f":"$G277*FY277","v":0},null,null,{"$f":"$G277*GB277","v":0},null,null,{"$f":"$G277*GE277","v":0},null,null,{"$f":"$G277*GH277","v":0},null,null,{"$f":"$G277*GK277","v":0},null,null,{"$f":"$G277*GN277","v":0},null,null,{"$f":"$G277*GQ277","v":0},null,null,{"$f":"$G277*GT277","v":0},null,null,{"$f":"$G277*GW277","v":0},null,null,{"$f":"$G277*GZ277","v":0},null,null,{"$f":"$G277*HC277","v":0},null,null,{"$f":"$G277*HF277","v":0},null,null,{"$f":"$G277*HI277","v":0}]
["11.2","N",{"$f":"C277+1","v":2},"Trpezarijska stolica\nTrpezarijska stolica drvena,\nizrada od punog drveta, sedište tapacirano eko kožom.\nDimenzije: 44x44x87 Š/D/V",null,"kom/pcs",{"$f":"CENA!G269","v":0},{"$f":"J278+M278+P278+S278+V278+Y278+AB278+AE278+AH278+AK278+AN278+AQ278+AZ278+AW278+AT278+BC278+BF278+BI278+BL278+BO278+BR278+BU278+BX278+CA278+CD278+CG278+CJ278+CM278+CP278+CS278+CV278+CY278+DB278+DE278+DH278+DK278+DN278+DQ278+DT278+DW278+DZ278+EC278+EF278+EI278+EL278+EO278+ER278+EU278+EX278+FA278+FD278+FG278+FJ278+FM278+FP278+FS278+FV278+FY278+GB278+GE278+GH278+GK278+GN278+GQ278+GT278+GW278+GZ278+HC278+HF278+HI278","v":13},0,7,0,null,null,0,null,null,0,null,null,0,null,6,0,null,null,0,null,null,0,null,null,0,null,null,0,null,null,0,null,null,0,null,null,0,null,null,0,null,null,0,null,null,0,null,null,0,null,null,0,null,null,0,null,null,0,null,null,0,null,null,0,null,null,0,null,null,0,null,null,0,null,null,0,null,null,0,null,null,0,null,null,0,null,null,0,null,null,0,null,null,0,null,null,0,null,null,0,null,null,0,null,null,0,null,null,0,null,null,0,null,null,0,null,null,0,null,null,0,null,null,0,null,null,0,null,null,0,null,null,0,null,null,0,null,null,0,null,null,0,null,null,0,null,null,0,null,null,0,null,null,0,null,null,0,null,null,0,null,null,0,null,null,0,null,null,0,null,null,0,null,null,0,null,null,0,null,null,0,null,null,0,null,null,0,null,null,0,null,null,0,null,null,0,null,null,0,null,null,0,null,null,0,null,null,0,null,null,0]
["11.3","N",{"$f":"C278+1","v":3},"Krevet za dnevnu sobu - Klik-klak\nKlik - Klak ležaj sa mehanizmom za jednostavno rasklapanje. \nDimenzije: 190 x 130 x 90 Š/D/V",null,"kom/pcs",{"$f":"CENA!G270","v":0},2,0,null,0,null,null,0,null,null,0,null,null,0,null,2,0,null,null,0,null,null,0,null,null,0,null,null,0,null,null,0,null,null,0,null,null,0,null,null,0,null,null,0,null,null,0,null,null,0,null,null,0,null,null,0,null,null,0,null,null,0,null,null,0,null,null,0,null,null,0,null,null,0,null,null,0,null,null,0,null,null,0,null,null,0,null,null,0,null,null,0,null,null,0,null,null,0,null,null,0,null,null,0,null,null,0,null,null,0,null,null,0,null,null,0,null,null,0,null,null,0,null,null,0,null,null,0,null,null,0,null,null,0,null,null,0,null,null,0,null,null,0,null,null,0,null,null,0,null,null,0,null,null,0,null,null,0,null,null,0,null,null,0,null,null,0,null,null,0,null,null,0,null,null,0,null,null,0,null,null,0,null,null,0,null,null,0,null,null,0,null,null,0,null,null,0,null,null,0,null,null,0,null,null,0,null,null,0,null,null,0]
["11.4","N",{"$f":"C279+1","v":4},"Plakar za garderobu\nPlakar za garderobu od oplemenjene iverice 18mm, korpus bele boje, front boja wenge ili hrast, sa kvalitetnim ALU okovima i ričicama.\nDimenzije: 70x50x175 Š/D/V",null,"kom/pcs",{"$f":"CENA!G271","v":0},1,0,1,0,null,null,0,null,null,0,null,null,0,null,null,0,null,null,0,null,null,0,null,null,0,null,null,0,null,null,0,null,null,0,null,null,0,null,null,0,null,null,0,null,null,0,null,null,0,null,null,0,null,null,0,null,null,0,null,null,0,null,null,0,null,null,0,null,null,0,null,null,0,null,null,0,null,null,0,null,null,0,null,null,0,null,null,0,null,null,0,null,null,0,null,null,0,null,null,0,null,null,0,null,null,0,null,null,0,null,null,0,null,null,0,null,null,0,null,null,0,null,null,0,null,null,0,null,null,0,null,null,0,null,null,0,null,null,0,null,null,0,null,null,0,null,null,0,null,null,0,null,null,0,null,null,0,null,null,0,null,null,0,null,null,0,null,null,0,null,null,0,null,null,0,null,null,0,null,null,0,null,null,0,null,null,0,null,null,0,null,null,0,null,null,0,null,null,0,null,null,0,null,null,0,null,null,0,null,null,0]
["11.5","N",5,"Spavaći krevet za jednu osobu\nSpavaći krevet, izrađen od oplemenjene iverice 18 i 25mm, sa dušekom. Ispod dušeka nalazi se primarna i sekundarna noseća konstrukcija dušeka. \nDimenzije: 95x205x79 Š/D/V",null,"kom/pcs",{"$f":"CENA!G272","v":0},0,0,null,0,null,null,0,null,null,0,null,null,0,null,null,0,null,null,0,null,null,0,null,null,0,null,null,0,null,null,0,null,null,0,null,null,0,null,null,0,null,null,0,null,null,0,null,null,0,null,null,0,null,null,0,null,null,0,null,null,0,null,null,0,null,null,0,null,null,0,null,null,0,null,null,0,null,null,0,null,null,0,null,null,0,null,null,0,null,null,0,null,null,0,null,null,0,null,null,0,null,null,0,null,null,0,null,null,0,null,null,0,null,null,0,null,null,0,null,null,0,null,null,0,null,null,0,null,null,0,null,null,0,null,null,0,null,null,0,null,null,0,null,null,0,null,null,0,null,null,0,null,null,0,null,null,0,null,null,0,null,null,0,null,null,0,null,null,0,null,null,0,null,null,0,null,null,0,null,null,0,null,null,0,null,null,0,null,null,0,null,null,0,null,null,0,null,null,0,null,null,0,null,null,0,null,null,0,null,null,0]
["11.6","N",6,"Spavaći krevet za dve osobe\nSpavaći krevet, izrađen od oplemenjene iverice 18 i 25mm, sa dušekom. Ispod dušeka nalazi se primarna i sekundarna konstrukcija noseća konstrukcija dušeka. \nDimenzije: 163,5x205x90 Š/D/V",null,"kom/pcs",{"$f":"CENA!G273","v":0},0,0,null,0,null,null,0,null,null,0,null,null,0,null,null,0,null,null,0,null,null,0,null,null,0,null,null,0,null,null,0,null,null,0,null,null,0,null,null,0,null,null,0,null,null,0,null,null,0,null,null,0,null,null,0,null,null,0,null,null,0,null,null,0,null,null,0,null,null,0,null,null,0,null,null,0,null,null,0,null,null,0,null,null,0,null,null,0,null,null,0,null,null,0,null,null,0,null,null,0,null,null,0,null,null,0,null,null,0,null,null,0,null,null,0,null,null,0,null,null,0,null,null,0,null,null,0,null,null,0,null,null,0,null,null,0,null,null,0,null,null,0,null,null,0,null,null,0,null,null,0,null,null,0,null,null,0,null,null,0,null,null,0,null,null,0,null,null,0,null,null,0,null,null,0,null,null,0,null,null,0,null,null,0,null,null,0,null,null,0,null,null,0,null,null,0,null,null,0,null,null,0,null,null,0,null,null,0,null,null,0]
["11.7","N",7,"Peć (šporet) za grejanje na drva\nŠporet na čvrsto gorivo. Mogućnost kuvanja na celoj površini plotne. Ravnomerno pečenje u rerni.\nZapremina zagrevanja:100-130m3 ; Površina zagrevanja: 40-50m2 ; Nominalna toplotna snaga: 8 kW ; Dimenzije (ŠxVxD): 90 x 85 x 60 cm\nDimenzije rerne (ŠxVxD): 46 x 26 x 44 cm",null,"kom/pcs",{"$f":"CENA!G274","v":0},0,0,null,0,null,null,0,null,null,0,null,null,0,null,null,0,null,null,0,null,null,0,null,null,0,null,null,0,null,null,0,null,null,0,null,null,0,null,null,0,null,null,0,null,null,0,null,null,0,null,null,0,null,null,0,null,null,0,null,null,0,null,null,0,null,null,0,null,null,0,null,null,0,null,null,0,null,null,0,null,null,0,null,null,0,null,null,0,null,null,0,null,null,0,null,null,0,null,null,0,null,null,0,null,null,0,null,null,0,null,null,0,null,null,0,null,null,0,null,null,0,null,null,0,null,null,0,null,null,0,null,null,0,null,null,0,null,null,0,null,null,0,null,null,0,null,null,0,null,null,0,null,null,0,null,null,0,null,null,0,null,null,0,null,null,0,null,null,0,null,null,0,null,null,0,null,null,0,null,null,0,null,null,0,null,null,0,null,null,0,null,null,0,null,null,0,null,null,0,null,null,0,null,null,0,null,null,0,null,null,0]
["11.8","N",8,"Peć za grejanje na gas\nPeć na gas.\nZapremina zagrevanja:120-140m3\nPovršina zagrevanja: 45-55m2\nNominalna toplotna snaga: 9 kW\nDimenzije (ŠxVxD): 28 x 65 x 70 cm",null,"kom/pcs",{"$f":"CENA!G275","v":0},0,0,null,0,null,null,0,null,null,0,null,null,0,null,null,0,null,null,0,null,null,0,null,null,0,null,null,0,null,null,0,null,null,0,null,null,0,null,null,0,null,null,0,null,null,0,null,null,0,null,null,0,null,null,0,null,null,0,null,null,0,null,null,0,null,null,0,null,null,0,null,null,0,null,null,0,null,null,0,null,null,0,null,null,0,null,null,0,null,null,0,null,null,0,null,null,0,null,null,0,null,null,0,null,null,0,null,null,0,null,null,0,null,null,0,null,null,0,null,null,0,null,null,0,null,null,0,null,null,0,null,null,0,null,null,0,null,null,0,null,null,0,null,null,0,null,null,0,null,null,0,null,null,0,null,null,0,null,null,0,null,null,0,null,null,0,null,null,0,null,null,0,null,null,0,null,null,0,null,null,0,null,null,0,null,null,0,null,null,0,null,null,0,null,null,0,null,null,0,null,null,0,null,null,0,null,null,0,null,null,0]
["11.9","N",9,"Peć za grejanje na gas\nPeć na gas. ; Infracrveno grejanje\nPIEZZO starter ; Nominalna toplotna snaga: 4,2 kW ;\nDimenzije (ŠxVxD):  43 x 73 x 39 cm",null,"kom/pcs",{"$f":"CENA!G276","v":0},2,0,2,0,null,null,0,null,null,0,null,null,0,null,null,0,null,null,0,null,null,0,null,null,0,null,null,0,null,null,0,null,null,0,null,null,0,null,null,0,null,null,0,null,null,0,null,null,0,null,null,0,null,null,0,null,null,0,null,null,0,null,null,0,null,null,0,null,null,0,null,null,0,null,null,0,null,null,0,null,null,0,null,null,0,null,null,0,null,null,0,null,null,0,null,null,0,null,null,0,null,null,0,null,null,0,null,null,0,null,null,0,null,null,0,null,null,0,null,null,0,null,null,0,null,null,0,null,null,0,null,null,0,null,null,0,null,null,0,null,null,0,null,null,0,null,null,0,null,null,0,null,null,0,null,null,0,null,null,0,null,null,0,null,null,0,null,null,0,null,null,0,null,null,0,null,null,0,null,null,0,null,null,0,null,null,0,null,null,0,null,null,0,null,null,0,null,null,0,null,null,0,null,null,0,null,null,0,null,null,0]
["11.10","N",10,"Mašina za pranje veša\nKapaciteta minimalno 6 kg; Broj obrtaja centrifuge 1000obrt./min.; Energetski razred minimalno A; Minimalno 18 programa; Prečnik vrata minimano 32cm; \nDimenzije (ŠxVxD): 60 x 85 x 45 cm",null,"kom/pcs",{"$f":"CENA!G277","v":0},1,0,1,0,null,null,0,null,null,0,null,null,0,null,null,0,null,null,0,null,null,0,null,null,0,null,null,0,null,null,0,null,null,0,null,null,0,null,null,0,null,null,0,null,null,0,null,null,0,null,null,0,null,null,0,null,null,0,null,null,0,null,null,0,null,null,0,null,null,0,null,null,0,null,null,0,null,null,0,null,null,0,null,null,0,null,null,0,null,null,0,null,null,0,null,null,0,null,null,0,null,null,0,null,null,0,null,null,0,null,null,0,null,null,0,null,null,0,null,null,0,null,null,0,null,null,0,null,null,0,null,null,0,null,null,0,null,null,0,null,null,0,null,null,0,null,null,0,null,null,0,null,null,0,null,null,0,null,null,0,null,null,0,null,null,0,null,null,0,null,null,0,null,null,0,null,null,0,null,null,0,null,null,0,null,null,0,null,null,0,null,null,0,null,null,0,null,null,0,null,null,0,null,null,0,null,null,0,null,null,0]
["11.11","N",11,"Električni šporet\nPloča za kuvanje : 1 ekspres električna ploča + 2 standardne električne ploče + 1 standardna električna ploča sa temperaturnim ograničenjem;\nRerna: Temperatura 250 C; Ventilatorska rerna; Zapemena rerne 48l; Napon: 230/400 V\nPriključna snaga: 7500 W Energetski razred: A\nBoja: Bela Dimenzije (ŠxVxD): 50 x 85 x 61 cm",null,"kom/pcs",{"$f":"CENA!G278","v":0},0,0,null,0,null,null,0,null,null,0,null,null,0,null,null,0,null,null,0,null,null,0,null,null,0,null,null,0,null,null,0,null,null,0,null,null,0,null,null,0,null,null,0,null,null,0,null,null,0,null,null,0,null,null,0,null,null,0,null,null,0,null,null,0,null,null,0,null,null,0,null,null,0,null,null,0,null,null,0,null,null,0,null,null,0,null,null,0,null,null,0,null,null,0,null,null,0,null,null,0,null,null,0,null,null,0,null,null,0,null,null,0,null,null,0,null,null,0,null,null,0,null,null,0,null,null,0,null,null,0,null,null,0,null,null,0,null,null,0,null,null,0,null,null,0,null,null,0,null,null,0,null,null,0,null,null,0,null,null,0,null,null,0,null,null,0,null,null,0,null,null,0,null,null,0,null,null,0,null,null,0,null,null,0,null,null,0,null,null,0,null,null,0,null,null,0,null,null,0,null,null,0,null,null,0,null,null,0,null,null,0]
["11.12","N",12,"Gasni (plinski) šporet\nUgradna plinska ploča ; Mali gorionik 5,5 cm, 1 kW, ; Standardni gorionik 7,5 cm, 1,75 kW, \nStandardni gorionik 7,5 cm, 1,75 kW, ; \nVeliki gorionik 10 cm, 2,7 kW ; Rerna: Temperatura 300 C ; Zapemena rerne: 54 l\nPriključna snaga: 10,2 kW ; Energetski razred: A\nBoja: Bela ; Dimenzije (ŠxVxD): 50 x 85 x 61 cm",null,"kom/pcs",{"$f":"CENA!G279","v":0},1,0,1,0,null,null,0,null,null,0,null,null,0,null,null,0,null,null,0,null,null,0,null,null,0,null,null,0,null,null,0,null,null,0,null,null,0,null,null,0,null,null,0,null,null,0,null,null,0,null,null,0,null,null,0,null,null,0,null,null,0,null,null,0,null,null,0,null,null,0,null,null,0,null,null,0,null,null,0,null,null,0,null,null,0,null,null,0,null,null,0,null,null,0,null,null,0,null,null,0,null,null,0,null,null,0,null,null,0,null,null,0,null,null,0,null,null,0,null,null,0,null,null,0,null,null,0,null,null,0,null,null,0,null,null,0,null,null,0,null,null,0,null,null,0,null,null,0,null,null,0,null,null,0,null,null,0,null,null,0,null,null,0,null,null,0,null,null,0,null,null,0,null,null,0,null,null,0,null,null,0,null,null,0,null,null,0,null,null,0,null,null,0,null,null,0,null,null,0,null,null,0,null,null,0,null,null,0,null,null,0]
["11.13","N",13,"Frižider (samostalni)\nEnergetski razred: A ; Boja: Bela ; Metalna vrata\n1 kompresor ; Neto/bruto zapremina: 368/370l\nCrispZone: fioka za povrće ; CrispZone sa HyumidityControl: velika fioka za povrće sa regulacijom vlažnosti ; IonAir technology: Jonizator vazduha u frižiderskom prostoru ; DynamiCooling hlađenje ; Brzo hlađenje SuperCool ; Dimenzije (ŠxVxD): 60 x 185 x 64 cm",null,"kom/pcs",{"$f":"CENA!G280","v":0},0,0,null,0,null,null,0,null,null,0,null,null,0,null,null,0,null,null,0,null,null,0,null,null,0,null,null,0,null,null,0,null,null,0,null,null,0,null,null,0,null,null,0,null,null,0,null,null,0,null,null,0,null,null,0,null,null,0,null,null,0,null,null,0,null,null,0,null,null,0,null,null,0,null,null,0,null,null,0,null,null,0,null,null,0,null,null,0,null,null,0,null,null,0,null,null,0,null,null,0,null,null,0,null,null,0,null,null,0,null,null,0,null,null,0,null,null,0,null,null,0,null,null,0,null,null,0,null,null,0,null,null,0,null,null,0,null,null,0,null,null,0,null,null,0,null,null,0,null,null,0,null,null,0,null,null,0,null,null,0,null,null,0,null,null,0,null,null,0,null,null,0,null,null,0,null,null,0,null,null,0,null,null,0,null,null,0,null,null,0,null,null,0,null,null,0,null,null,0,null,null,0,null,null,0,null,null,0,null,null,0]
["11.14","N",14,"Frižider (kombinovani) sa prostorom za zamrzavanje\nEnergetski razred: A ; Boja: Bela ; Metalna vrata\nFrižider: 1 kompresor; 4 staklene police; 2 posude za povrće; 2 uloška za jaja (6×), 2 police za maslac i sir, Posuda za flaše, \nZamrzivač: 1 mrežna polica, 1 prostor sa vratima\n1 posudica za led, Neto rashlađivanje: 214 l\nNeto zamrzavanje: 48 l, Dimenzije (ŠxVxD): \n54 x 162 x 60 cm",null,"kom/pcs",{"$f":"CENA!G281","v":0},2,0,1,0,null,null,0,null,null,0,null,null,0,null,null,0,null,1,0,null,null,0,null,null,0,null,null,0,null,null,0,null,null,0,null,null,0,null,null,0,null,null,0,null,null,0,null,null,0,null,null,0,null,null,0,null,null,0,null,null,0,null,null,0,null,null,0,null,null,0,null,null,0,null,null,0,null,null,0,null,null,0,null,null,0,null,null,0,null,null,0,null,null,0,null,null,0,null,null,0,null,null,0,null,null,0,null,null,0,null,null,0,null,null,0,null,null,0,null,null,0,null,null,0,null,null,0,null,null,0,null,null,0,null,null,0,null,null,0,null,null,0,null,null,0,null,null,0,null,null,0,null,null,0,null,null,0,null,null,0,null,null,0,null,null,0,null,null,0,null,null,0,null,null,0,null,null,0,null,null,0,null,null,0,null,null,0,null,null,0,null,null,0,null,null,0,null,null,0,null,null,0,null,null,0,null,null,0,null,null,0]
[null,null,null,null,null,null,null,null,{"$f":"SUM(I14:I290)","v":0},null,{"$f":"SUM(K14:K290)","v":0},null,null,{"$f":"SUM(N14:N290)","v":0},null,null,{"$f":"SUM(Q14:Q290)","v":0},null,null,{"$f":"SUM(T14:T290)","v":0},null,null,{"$f":"SUM(W14:W290)","v":0},null,null,{"$f":"SUM(Z14:Z290)","v":0},null,null,{"$f":"SUM(AC14:AC290)","v":0},null,null,{"$f":"SUM(AF14:AF290)","v":0},null,null,{"$f":"SUM(AI14:AI290)","v":0},null,null,{"$f":"SUM(AL14:AL290)","v":0},null,null,{"$f":"SUM(AO14:AO290)","v":0},null,null,{"$f":"SUM(AR14:AR290)","v":0},null,null,{"$f":"SUM(AU14:AU290)","v":0},null,null,{"$f":"SUM(AX14:AX290)","v":0},null,null,{"$f":"SUM(BA14:BA290)","v":0},null,null,{"$f":"SUM(BD14:BD290)","v":0},null,null,{"$f":"SUM(BG14:BG290)","v":0},null,null,{"$f":"SUM(BJ14:BJ290)","v":0},null,null,{"$f":"SUM(BM14:BM290)","v":0},null,null,{"$f":"SUM(BP14:BP290)","v":0},null,null,{"$f":"SUM(BS14:BS290)","v":0},null,null,{"$f":"SUM(BV14:BV290)","v":0},null,null,{"$f":"SUM(BY14:BY290)","v":0},null,null,{"$f":"SUM(CB14:CB290)","v":0},null,null,{"$f":"SUM(CE14:CE290)","v":0},null,null,{"$f":"SUM(CH14:CH290)","v":0},null,null,{"$f":"SUM(CK14:CK290)","v":0},null,null,{"$f":"SUM(CN14:CN290)","v":0},null,null,{"$f":"SUM(CQ14:CQ290)","v":0},null,null,{"$f":"SUM(CT14:CT290)","v":0},null,null,{"$f":"SUM(CW14:CW290)","v":0},null,null,{"$f":"SUM(CZ14:CZ290)","v":0},null,null,{"$f":"SUM(DC14:DC290)","v":0},null,null,{"$f":"SUM(DF14:DF290)","v":0},null,null,{"$f":"SUM(DI14:DI290)","v":0},null,null,{"$f":"SUM(DL14:DL290)","v":0},null,null,{"$f":"SUM(DO14:DO290)","v":0},null,null,{"$f":"SUM(DR14:DR290)","v":0},null,null,{"$f":"SUM(DU14:DU290)","v":0},null,null,{"$f":"SUM(DX14:DX290)","v":0},null,null,{"$f":"SUM(EA14:EA290)","v":0},null,null,{"$f":"SUM(ED14:ED290)","v":0},null,null,{"$f":"SUM(EG14:EG290)","v":0},null,null,{"$f":"SUM(EJ14:EJ290)","v":0},null,null,{"$f":"SUM(EM14:EM290)","v":0},null,null,{"$f":"SUM(EP14:EP290)","v":0},null,null,{"$f":"SUM(ES14:ES290)","v":0},null,null,{"$f":"SUM(EV14:EV290)","v":0},null,null,{"$f":"SUM(EY14:EY290)","v":0},null,null,{"$f":"SUM(FB14:FB290)","v":0},null,null,{"$f":"SUM(FE14:FE290)","v":0},null,null,{"$f":"SUM(FH14:FH290)","v":0},null,null,{"$f":"SUM(FK14:FK290)","v":0},null,null,{"$f":"SUM(FN14:FN290)","v":0},null,null,{"$f":"SUM(FQ14:FQ290)","v":0},null,null,{"$f":"SUM(FT14:FT290)","v":0},null,null,{"$f":"SUM(FW14:FW290)","v":0},null,null,{"$f":"SUM(FZ14:FZ290)","v":0},null,null,{"$f":"SUM(GC14:GC290)","v":0},null,null,{"$f":"SUM(GF14:GF290)","v":0},null,null,{"$f":"SUM(GI14:GI290)","v":0},null,null,{"$f":"SUM(GL14:GL290)","v":0},null,null,{"$f":"SUM(GO14:GO290)","v":0},null,null,{"$f":"SUM(GR14:GR290)","v":0},null,null,{"$f":"SUM(GU14:GU290)","v":0},null,null,{"$f":"SUM(GX14:GX290)","v":0},null,null,{"$f":"SUM(HA14:HA290)","v":0},null,null,{"$f":"SUM(HD14:HD290)","v":0},null,null,{"$f":"SUM(HG14:HG290)","v":0},null,null,{"$f":"SUM(HJ14:HJ290)","v":0}]

{"sheet":"vendors list","index":3,"n_rows":281,"n_cols":9,"rows_kept":281,"cut":false,"hidden":false,"merged":[]}
[]
["KOD/\nCODE",null,null,"Opis građevinskog materijala ","Description of building materials","Jed.\nprod./\nUNIT","Proizvođač/ Manufacturer","Oznaka proizvoda/ Product label","Napomena/ Remark"]
[]
[1,"A",null,"OSNOVNI GRAĐEVINSKI MATERIJAL","BASIC BUILDING MATERIALS"]
["1.1","O",1,"Cement  za betone do MB 30","Cement for concrete up to 30 MB","kg"]
["1.2","O",2,"Hidratisani gašeni kreč pripremljen u prahu","Hydrated slaked lime powdered","kg"]
["1.3","O",3,"Rebrasto betonsko gvožđe (RA) ","Ribbed reinforcement steel","/",{"$f":"KORISNICI!G16","v":"/"},{"$f":"KORISNICI!H16","v":"/"},{"$f":"KORISNICI!I16","v":"/"}]
["1.3.1",null,"A","10 mm   - dužine 12m","10 mm   - length 12m ","kg"]
["1.3.2",null,"B","12 mm   - dužine 12m","12 mm   - length 12m","kg"]
["1.3.3",null,"C","14 mm   - dužine 12m","14 mm   - length 12m","kg"]
["1.3.4",null,"D","16 mm   - dužine 12m","16 mm   - length 12m","kg"]
["1.4","O",4,"Glatko betonsko gvožđe (GA) ","Glibly reinforcement steel","/",{"$f":"KORISNICI!G21","v":"/"},{"$f":"KORISNICI!H21","v":"/"},{"$f":"KORISNICI!I21","v":"/"}]
["1.4.1",null,"B","  8 mm   - dužine 12m","  8 mm   - length 12m","kg"]
["1.4.2",null,"C","10 mm  - dužine 12m","10 mm  - length 12m","kg"]
["1.5","O",5,"Armaturna betonska mreža \ndim. (dxš) 6000 x 2150 = 12,9 m2/kom","Reinforcement mesh\ndim. (lxw) 6000 x 2150 = 12,9 m2/pcs","/",{"$f":"KORISNICI!G24","v":"/"},{"$f":"KORISNICI!H24","v":"/"},{"$f":"KORISNICI!I24","v":"/"}]
["1.5.1",null,"A","Q84    /4x4/150x150/ ","Q84    /4x4/150x150/ ","kg"]
["1.5.2",null,"B","Q131  /5x5/150x150/ ","Q131  /5x5/150x150/ ","kg"]
["1.5.3",null,"C","Q188  /6x6/150x150/ ","Q188  /6x6/150x150/ ","kg"]
["1.5.4",null,"D","Q283  /6x6/100x100/","Q283  /6x6/100x100/","kg"]
["1.5.5",null,"E","Q335  /8x8/150x150/","Q335  /8x8/150x150/","kg"]
[]
[2,"Z",null,"MATERIJAL ZA ZIDANJE, MALTERISANJE, GLETOVANJE I FARBANJE","MASONRY, PLASTERING FAIRING AND PAINTING MATERIAL"]
["2.1","Z",1,"Giter blok (d/š/v) 250x190x190 mm","Gitter block (l/w/h) 250x190x190 mm","kom/pcs"]
["2.2","Z",2,"Giter polublok (12cm) (d/š/v) 250x120x190mm","Gitter half block (12cm) (l/w/h) 250x120x190mm","kom/pcs"]
["2.3","Z",3,"Opeka puna (d/š/v) 250x120x65 mm","Brick (full-without holes) (l/w/h) 250x120x65 mm","kom/pcs"]
["2.4","Z",4,"Blok od porobetona za pregradni zid\n(d/š/v) 625x200x200 mm","Aerated concrete block for partition wall\n(l/w/h) 625x200x200 mm","kom/pcs"]
["2.5","Z",5,"Fert nosači (gredice)\nDužina nosača je jednaka dužini binora = \nširina otvora između zidova + 30 cm.\nBroj gredica = dužina prostorije x 0,40","Fert beams\nBoom length is equal to the length of Binor =\nwidth of the openings between the walls + 30 cm.\nNumber of beams = length of room x 0.40","/",{"$f":"KORISNICI!G36","v":"/"},{"$f":"KORISNICI!H36","v":"/"},{"$f":"KORISNICI!I36","v":"/"}]
["2.5.1",null,"A","0,00-3,90 m ","0,00-3,90 m ","m1"]
["2.5.2",null,"B","3,91-4,50 m ","3,91-4,50 m ","m1"]
["2.5.3",null,"C","4,51-4,90 m ","4,51-4,90 m ","m1"]
["2.5.4",null,"D","4,91-5,30 m ","4,91-5,30 m ","m1"]
["2.5.5",null,"E","5,31-5,90 m ","5,31-5,90 m ","m1"]
["2.5.6",null,"F","5,91-6,30 m ","5,91-6,30 m ","m1"]
["2.6","Z",6,"Fert ispuna (d/š/v) 245x285/275x160 mm ","Fert fillings (l/w/h) 245x285/275x160 mm ","kom/pcs"]
["2.7","Z",7,"Malter za zidanje \nPripremljeno krečno - cementno vezivo","Mortar for masonry\nPrepared lime - cement binder","kg"]
["2.8","Z",8,"Malter za malterisanje \nPripremljeno krečno - cementno vezivo","Mortar for plastering\nPrepared lime - cement binder","kg"]
["2.9","Z",9,"Krečna glet masa\nBezcementna krečna masa za gletovanje","Lime smoothing mass\nNo cement lime compound for smoothing","kg"]
["2.10","Z",10,"Poludisperzivna boja \nPoludisperziona boja  razrediva vodom","Semi dispersion paint","kg"]
[]
["3","K",null,"MATERIJAL ZA KROVNU KONSTRUKCIJU, KROVNI POKRIVAČ, OSB I GIPS KARONSKE TABLE","ROOF CONSTRUCTION AND ROOFING MATERIAL, OSB AND PLASTERBOARD TABLE"]
["3.1","K",1,"Presovani glineni crep I klase\ndimenzija: 400-450x245-275 mm","Pressed clay tiles class 1\ndim: 400-450x245-275 mm","kom/pcs"]
["3.2","K",3,"Biber crep I klase dimenzija: 180x380 mm","Biber clay tiles class 1 dim: 180x380 mm","kom/pcs"]
["3.3","K",2,"Slemeni crep I klase (žljebnjak)","Ridge clay tiles class 1","kom/pcs"]
["3.4","K",4,"Paropropusna i vodonepropusna krovna  folija kontrola vodene pare iznad termoizolacije","Vapour permeable and waterproof roof sheeting control of water vapor above the insulation","m2"]
["3.5","K",5,"Staklena mineralna vuna \ntermoizolacija potkrovlja između rogova","Glass Mineral Wool \nloft insulation between the rafters","/",{"$f":"KORISNICI!G54","v":"/"},{"$f":"KORISNICI!H54","v":"/"},{"$f":"KORISNICI!I54","v":"/"}]
["3.5.1",null,"A","debljina d=10 cm  ","thickness d=10 cm  ","m2"]
["3.5.2",null,"B","debljina d=12 cm  ","thickness d=12 cm  ","m2"]
["3.5.3",null,"C","debljina d=14 cm  ","thickness d=14 cm  ","m2"]
["3.6","K",6,"Parna brana\nkontrola vodene pare ispod termoizolacije","Vapor barrier \ncontrol of water vapor below the insulation","m2"]
["3.7","K",7,"Čamova rezana građa različitog preseka\ndužine 400 cm","Fir lumber of different cross-section\nlength 400 cm","/",{"$f":"KORISNICI!G59","v":"/"},{"$f":"KORISNICI!H59","v":"/"},{"$f":"KORISNICI!I59","v":"/"}]
["3.7.1",null,"A","Rog/Venčanica/Raspinjača           10/12 cm","rafters / wall plate / ridge collar 10/12 cm","m3"]
["3.7.2",null,"B","Rog/Stub/Grebenjača/Slemenja.   12/14 cm","column / pile / hip rafter / ridge 12/14 cm","m3"]
["3.7.3",null,"C","Stub/Grebenjača                         14/14 cm","column / hip rafter 14/14 cm","m3"]
["3.7.4",null,"H","Tavanjače                                   18/26 cm","attic beams 18/26 cm","m3"]
["3.8","K",8,"Čamova rezana građa različitog preseka\ndužine 600 cm","Fir lumber of different cross-section\nlength 600 cm","/",{"$f":"KORISNICI!G64","v":"/"},{"$f":"KORISNICI!H64","v":"/"},{"$f":"KORISNICI!I64","v":"/"}]
["3.8.1",null,"A","Rog/Venčanica/Raspinjača          10/12 cm","rafters / wall plate / ridge collar 10/12 cm","m3"]
["3.8.2",null,"B","Rog/Stub/Grebenjača/Slemenja.   12/14 cm","column / pile / hip rafter / ridge 12/14 cm","m3"]
["3.8.3",null,"C","Stub/Grebenjača                         14/14 cm","column / hip rafter 14/14 cm","m3"]
["3.8.4",null,"D","Rožnjača                                    14/16 cm","Purlin 14/16 cm","m3"]
["3.8.5",null,"E","Kosnik/Pajanta                           10/10 cm","Strut 10/10 cm","m3"]
["3.8.6",null,"F","Klešta                                         6/12 cm","Collar tie 6/12 cm","m3"]
["3.8.7",null,"G","Krovna štafla                                5/8  cm","Roof battens 5/8  cm","m3"]
["3.8.8",null,"H","Tavanjače                                   18/26 cm","attic beams 18/26 cm","m3"]
["3.9","K",9,"Građevinska daska - fosna\n4,8/25/400 cm","Fir board\n4,8/25/400 cm","m3"]
["3.10","K",10,"Krovna daska od čamove rezane građe \n2,4-2,5/15 cm, isporučuje se dužine l=3,0 metra","Roof fir board\n2,4-2,5/15 cm, lenght l=3,0 m","m3"]
["3.11","K",11,"Krovna letva od čamove rezane građe \n 3 / 5 cm , isporučuje se dužine l=3,0 metra","Fir batten\n 3 / 5 cm , lenght l=3,0 m","m1"]
["3.12","K",12,"OSB3  vlagootporne konstruktivne ploče\nd=18 mm / dim. 2440 x 1220","OSB3  moisture resistant structural panels\nd=18 mm / dim. 2440 x 1220","kom/pcs"]
["3.13","K",13,"Standardne gips kartonske ploče - Tip A\ndimenzije: 1200-1250 x 2000 mm","Standard plasterboard table - Type A\ndim: 1200-1250 x 2000 mm","kom/pcs"]
["3.14","K",14,"Vlagootporne gips kartonske ploče - Tip H2\ndimenzije: 1200-1250 x 2000 mm","Moisture resistant Plasterboard - Type H2\ndim: 1200-1250 x 2000 mm","kom/pcs"]
["3.15","K",15,"Čelični pocinkovani i farbani olučni elementi prečnika: Ø 100 mm dužine 600 cm","Galvanized steel and painted gutter elements diameter: Ø 100 mm length 600 cm","/",{"$f":"KORISNICI!G79","v":"/"},{"$f":"KORISNICI!H79","v":"/"},{"$f":"KORISNICI!I79","v":"/"}]
["3.15.1",null,"A","Horizontalni polukružni","horizontal semicircular gutter","kom/pcs"]
["3.15.2",null,"B","Vertikalni kružni oluk","Vertical circular gutter","kom/pcs"]
[]
["4","P",null,"MATERIJAL ZA PODOVE, LAMINAT, PLOČICE I XPS","FLOORING, LAMINATE, TILES AND XPS"]
["4.1","P",1,"Unutrašnje podne keramičke pločice\nMin. dimenzije pločica: 200x300 mm","Floor tiles for inside\nMin. tile size: 200x300 mm","m2"]
["4.2","P",2,"Unutrašnje zidne keramičke pločice \nMin. dimenzije pločica: 200x300 mm","Wall tiles for inside\nMin. tile size: 200x300 mm","m2"]
["4.3","P",3,"Lepak za keramičke pločice\nFleksibilni, polimer-cementni lepak","Glue for ceramic tiles\nFlexible, polymer-cement glue","kg"]
["4.4","P",4,"Fleksibilna masa za fugovanje\nVodoodbojna fug masa na bazi cementa","Flexible mass for grouting\nWaterproof grout cement based","kg"]
["4.5","P",5,"Laminat - jakopresovani (HLP)\nsa klik sistemom, dezen: hrast natur (prirodni)","Laminate (HLP)\nwith click system, design: oak natural (natural)","m2"]
["4.6","P",6,"Lajsne za laminat od medijapana \nmaterijal: medijapan / MDF","Moldings for laminate MDF\nMaterial: MDF / MDF","m1"]
["4.7","P",7,"Podloga za laminat od polietilenske pene\nSunđerasta podloga za laminat","The base for laminate of polyethylene foam\nFoam base for laminate","m2"]
["4.8","P",8,"Cementni suvi estrih (cementna košuljica).\nPripremljeno cementno praškasto vezivo","Cement dry screed (cement screed)\nPrepared cement powder binder","kg"]
["4.9","P",9,"Građevinska PVC folija Za razdvajanje cementne košuljice od termo izolacije.","PVC foil for construction. To separate the cement screed of thermal insulation.","m2"]
["4.10","P",10,"Stirodur (XPS za izolaciju na podovima)\nploča od ekstrudirane polistirenske pene","Stirodur (XPS insulation for floors)\npanel of extruded polystyrene foam","/",{"$f":"KORISNICI!G93","v":"/"},{"$f":"KORISNICI!H93","v":"/"},{"$f":"KORISNICI!I93","v":"/"}]
["4.10.1",null,"A","debljine d=2 cm","d=2 cm","m2"]
["4.10.2",null,"B","debljine d=5 cm","d=5 cm","m2"]
[]
["5","F",null,"MATERIJAL ZA IZRADU FASADE","FACADE MATERIAL"]
["5.1","F",1,"EPS za termoizolaciju fasadnih zidova\nploča od ekspandiranog polistirena ","Thermal insulation for facade walls (EPS)\nplates made of expanded polystyrene","/",{"$f":"KORISNICI!G98","v":"/"},{"$f":"KORISNICI!H98","v":"/"},{"$f":"KORISNICI!I98","v":"/"}]
["5.1.1",null,"A","debljina d=8 cm","d=8 cm","m2"]
["5.1.2",null,"B","debljina d=10 cm","d=10 cm","m2"]
["5.1.3",null,"C","debljina d=12 cm","d=12 cm","m2"]
["5.1.4",null,"D","debljina d=14 cm","d=14 cm","m2"]
["5.2","F",2,"GrađevinskI lepak za EPS ploče \ncementni lepak namenjen za lepljenje ploča od ekspandiranog polistirena (EPS) i armiranje armaturne (rabic) mrežice ","Construction glue for EPS plates\ncement adhesive for gluing plates made of expanded polystyrene (EPS) and reinforcing wire (rabic) net","kg"]
["5.3","F",3,"Armaturna (rabic) staklena mrežica.\nVisokokvalitetna alkalno postojana staklena mrežica","Reinforcing (rabic) fiberglass mesh\nHigh quality alkali resistant fiberglass mesh","m2"]
["5.4","F",4,"Aktivni predpremaz pre nanošenja tankoslojnog fasadnog maltera.\npredpremaz za izjednačavanje upijanja - podloga","Active primer before applying the thin-layer plaster primer for the equalization of absorption surface","kg"]
["5.5","F",5,"Fasadni tankoslojni akrilni malter\nZavršni malter u pastoznom stanju, namenjen za zaštitu fasadnih zidnih površina","Facade thin-layer acrylic plaster\nFinishing plaster in paste-like state, intended for the protection of facade wall surfaces","/",{"$f":"KORISNICI!G106","v":"/"},{"$f":"KORISNICI!H106","v":"/"},{"$f":"KORISNICI!I106","v":"/"}]
["5.5.1",null,"A","boja približna RAL 1034 -kajsija ","color similar to RAL 1034-apricot","kg"]
["5.5.2",null,"B","boja približna RAL 6005 -pastelno zelena","color similar to RAL 6005 pastel-green","kg"]
["5.5.3",null,"C","boja približna RAL 5023 -pastelno plava","color similar to RAL 5023 pastel-blue","kg"]
["5.5.4",null,"D","boja približna RAL 3011 -pastelno crvena","color similar to RAL 3011 pastel-red","kg"]
["5.5.5",null,"E","boja približna RAL 8002 -braon","color similar to RAL 8002 brown","kg"]
[]
["6","H",null,"MATERIJAL ZA HIDRO IZOLACIJE","WATERPROOFING MATERIAL"]
["6.1","H",1,"Bitulit (prethodni premaz za hidroizolaciju)\nUpotrebljava se u isporučenom stanju (hladan  postupak ) bez zagrevanja","Bitulit (previous coating for waterproofing)\nIt is used as delivered (cold process) without heating","kg"]
["6.2","H",2,"Poliazbitol (hladni premaz za hidroizolaciju) Upotrebljava se u isporučenom stanju (hladan postupak) bez zagrevanja","POLYASBITOL (cold coating for waterproofing)\nIt is used as delivered (cold process) without heating","kg"]
["6.3","H",3,"Ter papir Bitumenska hidroizolaciona traka.","Ter paper Bituminous waterproofing tape.","m2"]
["6.4","H",4,"Kondor V-3 (hidroizolaciona traka)\nPlastomer-bitumenska traka, \nuložak stakleni voal, debljina:  ≥ 3 mm","Condor V-3 (waterproof tape)\nPlastomer-bituminous tape,\nglass mat, thickness: ≥ 3 mm","m2"]
[]
["7","S",null,"STOLARIJA","DOORS AND WINDOWS"]
["7.1","S",1,"Ulazna vrata od PVC-a (komplet pozicija). \nboja profila: bela RAL 9003\nbroj komora: ≥  5 komora\nširina x visina (zidarske mere)","Entrance door of PVC (set position)\nProfile color: white RAL 9003 \nNumber of chambers: ≥ 5 chambers \nwidth x height (masonry measures)","/",{"$f":"KORISNICI!G120","v":"/"},{"$f":"KORISNICI!H120","v":"/"},{"$f":"KORISNICI!I120","v":"/"}]
["7.1.1",null,"A","JK    90x210 cm - Leva       90 cm ","one wing  90x210 cm - Left      90 cm ","kom/pcs"]
["7.1.2",null,"B","JK    90x210 cm - Desna    90 cm","one wing  90x210 cm - Right    90 cm","kom/pcs"]
["7.1.3",null,"C","DK 120x210 cm - Leva       90+30 cm","two wings 120x210 cm - Left        90+30 cm","kom/pcs"]
["7.1.4",null,"D","DK 120x210 cm - Desna    90+30 cm","two wings 120x210 cm - Right    90+30 cm","kom/pcs"]
["7.2","S",2,"Prozori od PVC-a (komplet pozicija).\nVertikalno i horizontalno otvaranje, boja profila: bela RAL 9003, broj komora: ≥  5 komora\nširina x visina (zidarske mere)","Windows made of PVC (set position)\nVertical and horizontal opening, color profile: white RAL 9003, the number of chambers: ≥ 5 chambers \nwidth x height (masonry measures)","/",{"$f":"KORISNICI!G125","v":"/"},{"$f":"KORISNICI!H125","v":"/"},{"$f":"KORISNICI!I125","v":"/"}]
["7.2.1",null,"A","JK     60x60 cm ","one wing 60x60 cm ","kom/pcs"]
["7.2.2",null,"B","JK     80x80 cm","one wing 80x80 cm","kom/pcs"]
["7.2.3",null,"C","JK    80x120 cm    ","one wing 80x120 cm    ","kom/pcs"]
["7.2.4",null,"D","JK    80x140 cm    ","one wing 80x140 cm ","kom/pcs"]
["7.2.5",null,"E","JK  100x120 cm","one wing 100x120 cm","kom/pcs"]
["7.2.6",null,"F","JK  100x140 cm","one wing 100x140 cm","kom/pcs"]
["7.2.7",null,"G","DK  120x120 cm","two wings 120x120 cm","kom/pcs"]
["7.2.8",null,"H","DK  120x140 cm","two wings 120x140 cm","kom/pcs"]
["7.2.9",null,"I","DK  140x120 cm ","two wings 140x120 cm ","kom/pcs"]
["7.2.10",null,"J","DK  140x140 cm ","two wings 140x140 cm ","kom/pcs"]
["7.2.11",null,"K","DK  160x120 cm","two wings 160x120 cm","kom/pcs"]
["7.2.12",null,"L","DK  160x140 cm","two wings 160x140 cm","kom/pcs"]
["7.3","S",3,"Krovni prozor sa  aluminijumskom opšivkom od laminirane i impregnirane čamove građe","Roof window with aluminum flashings of laminated and impregnated fir timber","/",{"$f":"KORISNICI!G138","v":"/"},{"$f":"KORISNICI!H138","v":"/"},{"$f":"KORISNICI!I138","v":"/"}]
["7.3.1",null,"A","dimenzije 66 x 118   (širinaxvisina)","66 x 118 (width x height)","kom/pcs"]
["7.3.2",null,"B","dimenzije 78 x 98     (širinaxvisina)","78 x 98   (width x height)","kom/pcs"]
["7.3.3",null,"C","dimenzije 78 x 118   (širinaxvisina)","78 x 118 (width x height)","kom/pcs"]
["7.4","S",4,"Balkonska vrata od PVC-a (komplet pozicija). \nboja profila: bela RAL 9003\nbroj komora: ≥  5 komora\nširina x visina (zidarske mere)","Balcony doors from PVC (set position)\nProfile color: white RAL 9003 \nNumber of chambers: ≥ 5 chambers \nwidth x height (masonry measures)","/",{"$f":"KORISNICI!G142","v":"/"},{"$f":"KORISNICI!H142","v":"/"},{"$f":"KORISNICI!I142","v":"/"}]
["7.4.1",null,"A","JK     90x210 cm   - Leva","one wing  90x210 cm - Left     ","kom/pcs"]
["7.4.2",null,"B","JK     90x210 cm   - Desna ","one wing  90x210 cm - Right    ","kom/pcs"]
["7.4.3",null,"C","DK  140x210 cm","two wings 140x210 cm","kom/pcs"]
["7.5","S",5,"Unutrašnja vrata sa ispunom od kartonskog saća (komplet pozicija). \nširina x visina (spoljna mera futera)","Internal doors filled with cardboard honeycomb (set position)\nwidth x height (external measures footer)","/",{"$f":"KORISNICI!G146","v":"/"},{"$f":"KORISNICI!H146","v":"/"},{"$f":"KORISNICI!I146","v":"/"}]
["7.5.1",null,"A","70x205 cm - Leva  (dubina štoka 0-16 cm)","70x205 cm - Left     (depth door 0-16 cm)","kom/pcs"]
["7.5.2",null,"B","70x205 cm - Leva  (dubina štoka 16-30 cm)","70x205 cm - Left     (depth door 16-30 cm)","kom/pcs"]
["7.5.3",null,"C","70x205 cm - Desna (dubina štoka 0-16 cm)","70x205 cm - Right   (depth door  0-16 cm)","kom/pcs"]
["7.5.4",null,"D","70x205 cm - Desna (dubina štoka 16-30 cm)","70x205 cm - Right   (depth door  16-30 cm)","kom/pcs"]
["7.5.5",null,"E","80x205 cm - Leva  (dubina štoka 0-16 cm)","80x205 cm - Left     (depth door 0-16 cm)","kom/pcs"]
["7.5.6",null,"F","80x205 cm - Leva  (dubina štoka 16-30 cm)","80x205 cm - Left     (depth door 16-30 cm)","kom/pcs"]
["7.5.7",null,"G","80x205 cm - Desna (dubina štoka 0-16 cm)","80x205 cm - Right   (depth door  0-16 cm)","kom/pcs"]
["7.5.8",null,"H","80x205 cm - Desna (dubina štoka 16-30 cm)","80x205 cm - Right   (depth door  16-30 cm)","kom/pcs"]
["7.5.9",null,"I","90x205 cm - Leva  (dubina štoka 0-16 cm)","90x205 cm - Left     (depth door 0-16 cm)","kom/pcs"]
["7.5.10",null,"J","90x205 cm - Leva  (dubina štoka 16-30 cm)","90x205 cm - Left     (depth door 16-30 cm)","kom/pcs"]
["7.5.11",null,"K","90x205 cm - Desna (dubina štoka 0-16 cm)","90x205 cm - Right   (depth door  0-16 cm)","kom/pcs"]
["7.5.12",null,"L","90x205 cm - Desna (dubina štoka 16-30 cm)","90x205 cm - Right   (depth door  16-30 cm)","kom/pcs"]
[]
["8","D",null,"OSTALA OPREMA I MATERIJAL \n","OTHER EQUIPMENT AND SUPPLIES"]
["8.1","D",1,"Jednostruki dimnjak prečnika Ф 140 mm.\nTroslojni montažni dimnjački sistem namenjen za sva ložišta i sve vrste goriva, bez ventilacije.\nSastavljen je od: dimnjačke cevi od tehničke keramike, izolacije oko cevi dimnjaka od kamene vune minimalne specifične težine 80kg/m3, spoljneg dimnjačkog plašta od lakog betona, vatrostalnog lepka u kartušama, vatrootpornih i gasnonepropusnih atestiranih troslojnih vratanaca , kondenz posude, priključaka za reviziju i ložišta, krovne ploče od staklo betona, nosača tervola i tvrdih tervol ploča za priključke, ventilacione rešetke, dilatacione rozete od nerđajućeg čelika. \nSpoljna dimenzija dimnjačkog plašta za fi14cm=32x32cm.","A single chimney diameter 140 mm.\nThree-layer prefabricated chimney system designed for all furnaces and all types of fuel, with no ventilation. It is composed of: chimney pipe of technical ceramics, pipe insulation around the chimney of stone wool minimum specific weight of 80kg/m3, external chimney mantle of lightweight concrete, refractory adhesive in cartouches, fireproof and gas impermeable certified three-layer side door, condensate pots, connectors for the audit and furnaces, roof tiles of glass concrete girders Tervola and hard tervol plate connections, ventilation grilles, rosettes expansion of stainless steel. The external dimensions of the chimney sleeve fi14cm = 32x32cm.","m1"]
[]
["9","V",null,"Vodovod Kanalizacija Oprema","WATER SUPPLY AND SEWAGE"]
[null,null,null,"Vodovod","WATER SUPPLY"]
["9.1","V",1,"Vodovodne polietilenske cevi  PE 100 PN16\nza radni pritisak 16 bara (SDR 11)","Water supply polyethylene pipe PE 100 PN16\nthe working pressure of 16 bar (SDR 11)","/",{"$f":"KORISNICI!G165","v":"/"},{"$f":"KORISNICI!H165","v":"/"},{"$f":"KORISNICI!I165","v":"/"}]
["9.1.1",null,"A","d25  (s min. 2,3)    - 3/4\"","d25  (s min. 2,3)    - 3/4\"","m1"]
["9.1.2",null,"B","d32  (s min. 3,0)   -       1\"","d32  (s min. 3,0)   -       1\"","m1"]
["9.1.3",null,"C","d40  (s min. 3,7)   -  5/4\"","d40  (s min. 3,7)   -  5/4\"","m1"]
["9.2","V",2,"Vodovodne cevi  PP-R 80 PN20 \nza radni pritisak 20 bara, bele ili zelene boje\n(materijal: polipropilen-random kapolimer)","Water pipe PP-R 80 PN20 \nthe working pressure of 20 bar, white or green \n(material: polypropylene random kapolimer)","/",{"$f":"KORISNICI!G169","v":"/"},{"$f":"KORISNICI!H169","v":"/"},{"$f":"KORISNICI!I169","v":"/"}]
["9.2.1",null,"B","d20  (s min.   3,4)    - 1/2\"","d20  (s min.   3,4)    - 1/2\"","m1"]
["9.2.2",null,"C","d25  (s min.   4,2)    - 3/4\"","d25  (s min.   4,2)    - 3/4\"","m1"]
["9.2.3",null,"D","d32  (s min.   5,4)    -     1\"","d32  (s min.   5,4)    -     1\"","m1"]
["9.3","V",3,"Vodomer \nsa prirubnicama, holenderima i pripadajućom opremom za montažu, za pritisak do 16 bara","water gauge\nflanges, unions and associated equipment for assembly, for pressure up to 16 bar","/",{"$f":"KORISNICI!G173","v":"/"},{"$f":"KORISNICI!H173","v":"/"},{"$f":"KORISNICI!I173","v":"/"}]
["9.3.1",null,"A","horizontalni 3/4\"    ","Horizontal 3/4\"    ","kom/pcs"]
["9.3.2",null,"B","horizontalni     1\"    ","Horizontal     1\"    ","kom/pcs"]
["9.3.3",null,"C","horizontalni 5/4\"","Horizontal 5/4\"","kom/pcs"]
["9.4","V",4,"Ravni propusni ventil sa ogrankom za pražnjenje","Skip straight valve with a branch drain","/",{"$f":"KORISNICI!G177","v":"/"},{"$f":"KORISNICI!H177","v":"/"},{"$f":"KORISNICI!I177","v":"/"}]
["9.4.1",null,"A","d25  (s min. 2,3)    - 3/4\"","d25  (s min. 2,3)    - 3/4\"","kom/pcs"]
["9.4.2",null,"B","d32  (s min. 3,0)   -       1\"","d32  (s min. 3,0)   -       1\"","kom/pcs"]
["9.5","V",5,"Propusni ventil za uzidanje sa kapom ","Gate valve for the wall with cap","/",{"$f":"KORISNICI!G180","v":"/"},{"$f":"KORISNICI!H180","v":"/"},{"$f":"KORISNICI!I180","v":"/"}]
["9.5.1",null,"A","d20  (s min.   3,4)    - 1/2\"","d20  (s min.   3,4)    - 1/2\"","kom/pcs"]
["9.5.2",null,"B","d25  (s min.   4,2)    - 3/4\"","d25  (s min.   4,2)    - 3/4\"","kom/pcs"]
["9.5.3",null,"C","d32  (s min. 3,0)   -       1\"","d32  (s min. 3,0)   -       1\"","kom/pcs"]
["9.6","V",6,"Ugaoni \"EK\" sa kapom","Angle valve \"EK\" with cap","/",{"$f":"KORISNICI!G184","v":"/"},{"$f":"KORISNICI!H184","v":"/"},{"$f":"KORISNICI!I184","v":"/"}]
["9.6.1",null,"A","d20  (s min.   3,4)    - 1/2\"","d20  (s min.   3,4)    - 1/2\"","kom/pcs"]
["9.7","V",7,"Termička izolacija vodovodnih cevi  -tipa plamaflex ISO ili sl.","Thermal insulation of water pipes-type PLAMAFLEX ISO etc..","/",{"$f":"KORISNICI!G186","v":"/"},{"$f":"KORISNICI!H186","v":"/"},{"$f":"KORISNICI!I186","v":"/"}]
["9.7.1",null,"B","d20   (22/9)   - 1/2\"","d20   (22/9)   - 1/2\"","m1"]
["9.7.2",null,"C","d25   (25/9) - 3/4\"","d25   (25/9) - 3/4\"","m1"]
["9.7.3",null,"D","d32   (35/9)-     1\"","d32   (35/9)-     1\"","m1"]
[null,null,null,"Kanalizacija","SEWAGE"]
["9.8","V",8,"PVC kanalizacione cevi SDR 41 / SN4 / PN5\nza spoljni razvod, kućna i ulična kanalizacija","PVC sewer pipe SDR 41 / CH4 / PN5\nfor external distribution, household and street sewage","/",{"$f":"KORISNICI!G191","v":"/"},{"$f":"KORISNICI!H191","v":"/"},{"$f":"KORISNICI!I191","v":"/"}]
["9.8.1",null,"A","d110 (s min.   3,2)    dužina 6,0m","d110 (s min.   3,2)    length 6,0m","kom/pcs"]
["9.8.2",null,"B","d160 (s min.   4,0)    dužina 6,0m","d160 (s min.   4,0)    length 6,0m","kom/pcs"]
["9.9","V",9,"Plastične PP cevi SDR 51 / SN2 / PN4\nza unutrašnji (kućni) razvod, kućna kanalizacija","Plastic PP pipes SDR 51 / SN2 / PN4\nfor internal (home) distribution, household sewage","/",{"$f":"KORISNICI!G194","v":"/"},{"$f":"KORISNICI!H194","v":"/"},{"$f":"KORISNICI!I194","v":"/"}]
["9.9.1",null,"A","d50     (s min.   1,8)    dužina 3,0m","d50     (s min.   1,8)    length 3,0m","kom/pcs"]
["9.9.2",null,"B","d75     (s min.   1,9)    dužina 3,0m","d75     (s min.   1,9)    length 3,0m","kom/pcs"]
["9.9.3",null,"C","d110  (s min.   2,7)    dužina 3,0m","d110  (s min.   2,7)    length 3,0m","kom/pcs"]
["9.10","V",10,"Plitki PE podni slivnik d50 sa horizontalnim odvodom dimenzija 150x150mm","Shallow PE floor drain with horizontal outlet d50 size 150x150mm","kom/pcs"]
["9.11","V",11,"Zidni sifoni sa odvodnom mesinganom cevi d32 (mašina za pranje veša i sudova)","Wall siphon with drainage brass tubes d32 (washing machines, dishwashers)","kom/pcs"]
[null,null,null,"Oprema u kupatilu","BATHROOM EQUPIMENT"]
["9.12","V",12,"WC šolja od keramike  I klase","Ceramic toilet bowl class 1","kom/pcs"]
["9.13","V",13,"Niskomontažni plastični predzidni vodokotlić \nza nisku montažu iznad wc šolje sa plovkom i svim potrebnim delovima za funkcionisanje vodokotlića","Low mounting plastic-wall toilet tank\nfor low installation above the toilet bowl float and all the parts required for the operation of flushing","kom/pcs"]
["9.14","V",14,"Umivaonikom sa stubom od keramike  I klase","Washbasin with ceramic pillar class 1","kom/pcs"]
["9.15","V",15,"Pravougaona akrilna tuš kada\ndimenzija 90x90cm sa odlivnim ventilom","Rectangular acrylic shower \nsize 90x90cm with discharge valve","kom/pcs"]
["9.16","V",16,"Električni akumulacioni bojler 50l vertikalni \ngrejač 2 kW, napon 230V, kazan izrađen od emajliranog lima, sa  pratećim materijalom za ugradnju","Electric storage water heater 50l vertical \nheater 2 kW, 230V, caldron made ​​of enameled steel, with supporting material for installation","kom/pcs"]
["9.17","V",17,"Ogledalo sa etažerom (iznad umivaonika)\nčetvrtasto, min. dimenzija 80x60cm","Mirror with shelf above wash basin \nsquare, min. 80x60cm","kom/pcs"]
["9.18","V",18,"Baterije (slavine) \nhromirane baterije za hladnu i toplu vodu","Lever\nchrome lever for cold and hot water","/",{"$f":"KORISNICI!G207","v":"/"},{"$f":"KORISNICI!H207","v":"/"},{"$f":"KORISNICI!I207","v":"/"}]
["9.18.1",null,"A","za umivaonik jednoručna stojeća ","For washbasin single lever basin standing","kom/pcs"]
["9.18.2",null,"B","za tuš kadu (sa tuš ručicom i tuš crevom)\njednoručna sa poniklovanim savitljivim crevom","For shower bath (with shower head and shower hose) Single lever with nickel hoses","kom/pcs"]
["9.18.3",null,"C","za mašinu za veš i sudove, holender slavina DN20/15, s pripadajućom opremom za ugradnju ","for washing machine and dishwasher, union DN20/15 taps, and all the equipment for installation","kom/pcs"]
[null,null,null,"Oprema u kuhinji","KITCHEN EQUIPMENT"]
["9.19","V",19,"Korito sudopere od \"Inox \"-a (dvodelno)\n(izrađeno od plemenitog nerđajućeg čelika)\norjenacione dimenzije:  780 x 435 x 150 mm","kitchen sink \"Inox\" two-part\n(made of stainless steel)\napprox. dim:  780 x 435 x 150 mm","kom/pcs"]
["9.20","V",20,"Električni akumulacioni bojler 5l\nza ugradnju iznad sudopere, vertikalni grejač 2 kW, napon 230V, kazan izrađen od plastike\nsa  pratećim materijalom za ugradnju","Electric storage water heater 5l\nFitting over the sink, vertical heater 2 kW, 230V, caldron made ​​of plastic with the materials for installation","kom/pcs"]
["9.21","V",21,"Baterija za sudoperu jednoručna stojeća hromirana baterija za hladnu i toplu vodu ","Sink-standing single lever chrome mixer for hot and cold water","kom/pcs"]
[]
["10","E",null,"ELEKTRO MATERIJAL I OPREMA\n","Electrical materials and equipment"]
[null,null,null,"Kablovi i kablovski pribor","Electrical cables and cable accessories"]
["10.1","E",1,"Napojni kablovi","Power cables","/",{"$f":"KORISNICI!G218","v":"/"},{"$f":"KORISNICI!H218","v":"/"},{"$f":"KORISNICI!I218","v":"/"}]
["10.1.1",null,"A","X00-A      4x16 mm2","X00-A      4x16 mm2","m"]
["10.1.2",null,"B","PP00-Y   5x6    mm2","PP00-Y   5x6    mm2","m"]
["10.1.3",null,"C","PP00-Y   5x10  mm2","PP00-Y   5x10  mm2","m"]
["10.2","E",2,"Instalacioni kablovi","Installation cables","/",{"$f":"KORISNICI!G222","v":"/"},{"$f":"KORISNICI!H222","v":"/"},{"$f":"KORISNICI!I222","v":"/"}]
["10.2.1",null,"A","PP-Y       3x1,5  mm2","PP-Y       3x1,5  mm2","m"]
["10.2.2",null,"B","PP-Y       4x1,5  mm2","PP-Y       4x1,5  mm2","m"]
["10.2.3",null,"C","PP-Y       3x2,5  mm2","PP-Y       3x2,5  mm2","m"]
["10.2.4",null,"D","PP-Y       5x2,5  mm2","PP-Y       5x2,5  mm2","m"]
["10.3","E",3,"Instalacione PVC cevi","PVC pipe for installations of cables","/",{"$f":"KORISNICI!G227","v":"/"},{"$f":"KORISNICI!H227","v":"/"},{"$f":"KORISNICI!I227","v":"/"}]
["10.3.1",null,"A","fi 16mm2","fi 16mm2","m"]
["10.3.2",null,"B","fi 50mm2","fi 50mm2","m"]
[null,null,null,"Razvodne table i oprema","The junction boards and equipment"]
["10.4","E",4,"Razvodna tabla komplet\nStanska, za ugradnju na zid sa transparentim vratima, sa mestom za 18 modula, DIN šinom, IP40\nRazvodna tabla sadrži :","Junction board (for flat) for wall mounting with transparent door, with space for 18 modules, DIN rail, IP40\nJunction board contains:","kom/pcs"]
[null,null,null,"Jednopolni instalacioni prekidač\n(automatski osigurač) za montažu na DIN šinu nom. napona 230V/400V, 50Hz; karakteristike B; prekidne moći 6kA:","Single-pole fuse\n(Automatic fuse) for mounting on DIN rail nom. voltage 230V/400V, 50Hz, features B; breaking capacity 6kA:","/",{"$f":"KORISNICI!G232","v":"/"},{"$f":"KORISNICI!H232","v":"/"},{"$f":"KORISNICI!I232","v":"/"}]
[null,null,null,"nazivne struje 6A, komada 1","rated current of 6A","/"]
[null,null,null,"nazivne struje 10A, komada 2","rated current of 10A","/"]
[null,null,null,"nazivne struje 16A, komada 9","rated current of 16A","/"]
[null,null,null,"Signalna sijalica\nza signalizaciju tarife 230V za ugradnju u stansku razvodnu tablu, montažu na DIN šinu komada 1","The indicator lamp\nfor signaling rates 230V for use in flat junction board, mounting on DIN rail","/"]
[null,null,null,"FID sklopka\nza ugradnju u stansku razvodnu tablu, montažu na DIN šinu","FID switch for installation in junction board, mounting on DIN rail","/",{"$f":"KORISNICI!G237","v":"/"},{"$f":"KORISNICI!H237","v":"/"},{"$f":"KORISNICI!I237","v":"/"}]
[null,null,null,"16A/30mA,  2-polna,   230V, 50Hz; komada 2","16A/30mA, 2-pole, 230V, 50Hz;","/"]
[null,null,null,"25A/0,5A,    4-polna,    230V/400V, 50Hz; komada 1","25A / 0,5 A, 4-pole, 230V/400V, 50Hz;","/"]
[null,null,null,"Instalaciono zvono\n230V, 50Hz; za ugradnju u stansku razvodnu tablu, montažu na DIN šinu komada 1","Bell 230V, 50Hz, for use in junction board, mounting on DIN rail","/"]
[null,null,null,"Instalacioni materijal","Installation material"]
["10.5","E",5,"Instalaciona kutija\nza ugradnju u završnu obradu zida","Installation box\nfor installation in the wall","/",{"$f":"KORISNICI!G242","v":"/"},{"$f":"KORISNICI!H242","v":"/"},{"$f":"KORISNICI!I242","v":"/"}]
["10.5.1",null,"A","fi 60 mm","fi 60 mm","kom/pcs"]
["10.5.2",null,"B","fi 78 mm","fi 78 mm","kom/pcs"]
["10.5.3",null,"C","100x100mm","100x100mm","kom/pcs"]
["10.6","E",6,"Instalaciona priključnica IP20 za ugradnju u završnu obradu zida sa zaštitnim kontaktom","Installation socket IP20 for installation in the wall with a protection contact","/",{"$f":"KORISNICI!G246","v":"/"},{"$f":"KORISNICI!H246","v":"/"},{"$f":"KORISNICI!I246","v":"/"}]
["10.6.1",null,"A","16A, monofazna, 250 V","16A, single-phase, 250 V","kom/pcs"]
["10.6.2",null,"B","16A, monofazna, dupla, 250 V","16A, single-phase, double, 250 V","kom/pcs"]
["10.6.3",null,"C","16A, trofazna, 400V","16A, three-phase, 400V","kom/pcs"]
["10.7","E",7,"Instalaciona priključnica IP43 sa poklopcem za ugradnju u završnu obradu zida, sa zaštit. kontaktom, 16A, monofazna, 250 V","Installation socket IP43 with cover for use in wall with protection. contact, 16A, single-phase, 250 V","kom/pcs"]
["10.8","E",8,"Prekidači\n IP20 za ugradnju u završnu obradu zida","Switches \n IP20 for installation in wall","/",{"$f":"KORISNICI!G251","v":"/"},{"$f":"KORISNICI!H251","v":"/"},{"$f":"KORISNICI!I251","v":"/"}]
["10.8.1",null,"A","običan, 10A","regular, 10A","kom/pcs"]
["10.8.2",null,"B","serijski, 10A","serial, 10A","kom/pcs"]
["10.8.3",null,"C","za zvono ","for bell","kom/pcs"]
["10.8.4",null,"D","Instalacioni  prekidač \"KIP\" 16A","Installation switch \"KIP\" 16A","kom/pcs"]
["10.9","E",9,"Indikator za kupatilo\n sa tri sklopke 16A i signalnim sijalicama","The indicator for the bathroom \nThree switches 16A and signal lights","kom/pcs"]
[null,null,null,"Svetiljke","Lighting"]
["10.10","E",10,"Svetiljka za montažu na plafon  sa inkadescentnom sijalicom 60W, E-27, ","Luminaire to be mounted on the ceiling with a 60W incandescent bulb, E-27","/",{"$f":"KORISNICI!G258","v":"/"},{"$f":"KORISNICI!H258","v":"/"},{"$f":"KORISNICI!I258","v":"/"}]
["10.10.1",null,"A"," IP 43 za sanitarni čvor","IP 43 for toilet"]
["10.10.2",null,"B","IP 20 za unutrašnje prostorije","IP 20 for indoor rooms"]
[null,null,null,"Instalacija uzemljenja i gromobrana","Earthing and lightning protection"]
["10.11","E",11,"Pocinkovana traka","Galvanized strip",null,{"$f":"KORISNICI!G262","v":0},{"$f":"KORISNICI!H262","v":"/"},{"$f":"KORISNICI!I262","v":"/"}]
["10.11.1",null,"A","FeZn 25x4mm","FeZn 25x4mm","m"]
["10.11.2",null,"B","FeZn 20x3mm","FeZn 20x3mm","m"]
["10.12","E",12,"SIP ormarić (PS49) sa sabirnicom za izjednačenje potencijala","SIP boxes (PS 49) with bonding","kom/pcs"]
["10.13","E",13,"Provodnici za uzemljenje","Grounding conductors","/",{"$f":"KORISNICI!G266","v":"/"},{"$f":"KORISNICI!H266","v":"/"},{"$f":"KORISNICI!I266","v":"/"}]
["10.13.1",null,"A","PP00-Y  1x16mm2","PP00-Y  1x16mm2","m"]
["10.13.2",null,"B","P/F-Y      1x6mm2","P/F-Y      1x6mm2","m"]
["10.13.3",null,"C","P/F-Y      1x4mm2","P/F-Y      1x4mm2","m"]
[null,null,null,"Instalacija slabe struje","Installation of low voltage"]
["10.14","E",14,"Antenski koaksijalni kabl RG 6","Antenna Coaxial Cable RG 6","m"]
["10.15","E",15,"Telefonski kabl sa bakarnim provodnicima \nIY(St)Y 2x2x0.8mm","Telephone cable with copper conductors \nIY (St) Y 2x2x0.8mm","m"]
["10.16","E",16,"Priključnice","Connectors","/",{"$f":"KORISNICI!G273","v":"/"},{"$f":"KORISNICI!H273","v":"/"},{"$f":"KORISNICI!I273","v":"/"}]
["10.16.1",null,"A","Telefonska - RJ11 za montažu u dozni fi 60mm","Phone - RJ11 for mounting in enclosure fi 60mm","m"]
["10.16.2",null,"B","RTV priključnica za montažu u dozni fi 60mm","RTV connector for mounting in enclosure fi 60 mm","kom/pcs"]
["11",null,null,"OSTALA OPREMA ZA OBJEKAT","OTHER EQUIPMENT AND SUPPLIES"]
["11.1","N",1,"Trpezarijski sto\nTrpezarijski sto pravougaonog oblika, izrađen od oplemenjene iverice, dezena hrast ili wenge, sa mogućnošću povećanja radne površine za dodatnih 33 cm.\nDimenzija: 120x80x75 Š/D/V",null,"kom/pcs"]
["11.2","N",{"$f":"C268+1","v":2},"Trpezarijska stolica\nTrpezarijska stolica drvena,\nizrada od punog drveta, sedište tapacirano eko kožom.\nDimenzije: 44x44x87 Š/D/V",null,"kom/pcs"]
["11.3","N",{"$f":"C269+1","v":3},"Krevet za dnevnu sobu - Klik-klak\nKlik - Klak ležaj sa mehanizmom za jednostavno rasklapanje. \nDimenzije: 190 x 130 x 90 Š/D/V",null,"kom/pcs"]
["11.4","N",{"$f":"C270+1","v":4},"Plakar za garderobu\nPlakar za garderobu od oplemenjene iverice 18mm, korpus bele boje, front boja wenge ili hrast, sa kvalitetnim ALU okovima i ričicama.\nDimenzije: 70x50x175 Š/D/V",null,"kom/pcs"]
["11.5","N",5,"Spavaći krevet za jednu osobu\nSpavaći krevet, izrađen od oplemenjene iverice 18 i 25mm, sa dušekom. Ispod dušeka nalazi se primarna i sekundarna noseća konstrukcija dušeka. \nDimenzije: 95x205x79 Š/D/V",null,"kom/pcs"]
["11.6","N",6,"Spavaći krevet za dve osobe\nSpavaći krevet, izrađen od oplemenjene iverice 18 i 25mm, sa dušekom. Ispod dušeka nalazi se primarna i sekundarna konstrukcija noseća konstrukcija dušeka. \nDimenzije: 163,5x205x90 Š/D/V",null,"kom/pcs"]
["11.7","N",7,"Peć (šporet) za grejanje na drva\nŠporet na čvrsto gorivo. Mogućnost kuvanja na celoj površini plotne. Ravnomerno pečenje u rerni.\nZapremina zagrevanja:100-130m3 ; Površina zagrevanja: 40-50m2 ; Nominalna toplotna snaga: 8 kW ; Dimenzije (ŠxVxD): 90 x 85 x 60 cm\nDimenzije rerne (ŠxVxD): 46 x 26 x 44 cm",null,"kom/pcs"]
["11.8","N",8,"Peć za grejanje na gas\nPeć na gas.\nZapremina zagrevanja:120-140m3\nPovršina zagrevanja: 45-55m2\nNominalna toplotna snaga: 9 kW\nDimenzije (ŠxVxD): 28 x 65 x 70 cm",null,"kom/pcs"]
["11.9","N",9,"Peć za grejanje na gas\nPeć na gas. ; Infracrveno grejanje\nPIEZZO starter ; Nominalna toplotna snaga: 4,2 kW ;\nDimenzije (ŠxVxD):  43 x 73 x 39 cm",null,"kom/pcs"]
["11.10","N",10,"Mašina za pranje veša\nKapaciteta minimalno 6 kg; Broj obrtaja centrifuge 1000obrt./min.; Energetski razred minimalno A; Minimalno 18 programa; Prečnik vrata minimano 32cm; \nDimenzije (ŠxVxD): 60 x 85 x 45 cm",null,"kom/pcs"]
["11.11","N",11,"Električni šporet\nPloča za kuvanje : 1 ekspres električna ploča + 2 standardne električne ploče + 1 standardna električna ploča sa temperaturnim ograničenjem;\nRerna: Temperatura 250 C; Ventilatorska rerna; Zapemena rerne 48l; Napon: 230/400 V\nPriključna snaga: 7500 W Energetski razred: A\nBoja: Bela Dimenzije (ŠxVxD): 50 x 85 x 61 cm",null,"kom/pcs"]
["11.12","N",12,"Gasni (plinski) šporet\nUgradna plinska ploča ; Mali gorionik 5,5 cm, 1 kW, ; Standardni gorionik 7,5 cm, 1,75 kW, \nStandardni gorionik 7,5 cm, 1,75 kW, ; \nVeliki gorionik 10 cm, 2,7 kW ; Rerna: Temperatura 300 C ; Zapemena rerne: 54 l\nPriključna snaga: 10,2 kW ; Energetski razred: A\nBoja: Bela ; Dimenzije (ŠxVxD): 50 x 85 x 61 cm",null,"kom/pcs"]
["11.13","N",13,"Frižider (samostalni)\nEnergetski razred: A ; Boja: Bela ; Metalna vrata\n1 kompresor ; Neto/bruto zapremina: 368/370l\nCrispZone: fioka za povrće ; CrispZone sa HyumidityControl: velika fioka za povrće sa regulacijom vlažnosti ; IonAir technology: Jonizator vazduha u frižiderskom prostoru ; DynamiCooling hlađenje ; Brzo hlađenje SuperCool ; Dimenzije (ŠxVxD): 60 x 185 x 64 cm",null,"kom/pcs"]
["11.14","N",14,"Frižider (kombinovani) sa prostorom za zamrzavanje\nEnergetski razred: A ; Boja: Bela ; Metalna vrata\nFrižider: 1 kompresor; 4 staklene police; 2 posude za povrće; 2 uloška za jaja (6×), 2 police za maslac i sir, Posuda za flaše, \nZamrzivač: 1 mrežna polica, 1 prostor sa vratima\n1 posudica za led, Neto rashlađivanje: 214 l\nNeto zamrzavanje: 48 l, Dimenzije (ŠxVxD): \n54 x 162 x 60 cm",null,"kom/pcs"]